Back to Multiple platform build/check report for BioC 3.21:   simplified   long
ABCDEFGHIJKLMNO[P]QRSTUVWXYZ

This page was generated on 2025-02-18 11:39 -0500 (Tue, 18 Feb 2025).

HostnameOSArch (*)R versionInstalled pkgs
nebbiolo1Linux (Ubuntu 24.04.1 LTS)x86_64R Under development (unstable) (2025-01-20 r87609) -- "Unsuffered Consequences" 4720
palomino7Windows Server 2022 Datacenterx64R Under development (unstable) (2025-01-21 r87610 ucrt) -- "Unsuffered Consequences" 4482
lconwaymacOS 12.7.1 Montereyx86_64R Under development (unstable) (2025-01-22 r87618) -- "Unsuffered Consequences" 4493
kjohnson3macOS 13.7.1 Venturaarm64R Under development (unstable) (2025-01-20 r87609) -- "Unsuffered Consequences" 4446
Click on any hostname to see more info about the system (e.g. compilers)      (*) as reported by 'uname -p', except on Windows and Mac OS X

Package 1550/2295HostnameOS / ArchINSTALLBUILDCHECKBUILD BIN
PhyloProfile 1.99.4  (landing page)
Vinh Tran
Snapshot Date: 2025-02-17 13:40 -0500 (Mon, 17 Feb 2025)
git_url: https://git.bioconductor.org/packages/PhyloProfile
git_branch: devel
git_last_commit: 5f2a0cc
git_last_commit_date: 2025-02-07 07:40:34 -0500 (Fri, 07 Feb 2025)
nebbiolo1Linux (Ubuntu 24.04.1 LTS) / x86_64  OK    OK    OK  UNNEEDED, same version is already published
palomino7Windows Server 2022 Datacenter / x64  OK    OK    OK    OK  UNNEEDED, same version is already published
lconwaymacOS 12.7.1 Monterey / x86_64  OK    OK    OK    OK  UNNEEDED, same version is already published
kjohnson3macOS 13.7.1 Ventura / arm64  OK    OK    OK    OK  UNNEEDED, same version is already published


CHECK results for PhyloProfile on nebbiolo1

To the developers/maintainers of the PhyloProfile package:
- Allow up to 24 hours (and sometimes 48 hours) for your latest push to git@git.bioconductor.org:packages/PhyloProfile.git to reflect on this report. See Troubleshooting Build Report for more information.
- Use the following Renviron settings to reproduce errors and warnings.
- If 'R CMD check' started to fail recently on the Linux builder(s) over a missing dependency, add the missing dependency to 'Suggests:' in your DESCRIPTION file. See Renviron.bioc for more information.

raw results


Summary

Package: PhyloProfile
Version: 1.99.4
Command: /home/biocbuild/bbs-3.21-bioc/R/bin/R CMD check --install=check:PhyloProfile.install-out.txt --library=/home/biocbuild/bbs-3.21-bioc/R/site-library --timings PhyloProfile_1.99.4.tar.gz
StartedAt: 2025-02-18 01:00:03 -0500 (Tue, 18 Feb 2025)
EndedAt: 2025-02-18 01:03:23 -0500 (Tue, 18 Feb 2025)
EllapsedTime: 199.3 seconds
RetCode: 0
Status:   OK  
CheckDir: PhyloProfile.Rcheck
Warnings: 0

Command output

##############################################################################
##############################################################################
###
### Running command:
###
###   /home/biocbuild/bbs-3.21-bioc/R/bin/R CMD check --install=check:PhyloProfile.install-out.txt --library=/home/biocbuild/bbs-3.21-bioc/R/site-library --timings PhyloProfile_1.99.4.tar.gz
###
##############################################################################
##############################################################################


* using log directory ‘/home/biocbuild/bbs-3.21-bioc/meat/PhyloProfile.Rcheck’
* using R Under development (unstable) (2025-01-20 r87609)
* using platform: x86_64-pc-linux-gnu
* R was compiled by
    gcc (Ubuntu 13.3.0-6ubuntu2~24.04) 13.3.0
    GNU Fortran (Ubuntu 13.3.0-6ubuntu2~24.04) 13.3.0
* running under: Ubuntu 24.04.2 LTS
* using session charset: UTF-8
* checking for file ‘PhyloProfile/DESCRIPTION’ ... OK
* this is package ‘PhyloProfile’ version ‘1.99.4’
* package encoding: UTF-8
* checking package namespace information ... OK
* checking package dependencies ... INFO
Imports includes 31 non-default packages.
Importing from so many packages makes the package vulnerable to any of
them becoming unavailable.  Move as many as possible to Suggests and
use conditionally.
* checking if this is a source package ... OK
* checking if there is a namespace ... OK
* checking for hidden files and directories ... OK
* checking for portable file names ... OK
* checking for sufficient/correct file permissions ... OK
* checking whether package ‘PhyloProfile’ can be installed ... OK
* checking installed package size ... OK
* checking package directory ... OK
* checking ‘build’ directory ... OK
* checking DESCRIPTION meta-information ... OK
* checking top-level files ... OK
* checking for left-over files ... OK
* checking index information ... OK
* checking package subdirectories ... OK
* checking code files for non-ASCII characters ... OK
* checking R files for syntax errors ... OK
* checking whether the package can be loaded ... OK
* checking whether the package can be loaded with stated dependencies ... OK
* checking whether the package can be unloaded cleanly ... OK
* checking whether the namespace can be loaded with stated dependencies ... OK
* checking whether the namespace can be unloaded cleanly ... OK
* checking loading without being on the library search path ... OK
* checking dependencies in R code ... OK
* checking S3 generic/method consistency ... OK
* checking replacement functions ... OK
* checking foreign function calls ... OK
* checking R code for possible problems ... OK
* checking Rd files ... OK
* checking Rd metadata ... OK
* checking Rd cross-references ... OK
* checking for missing documentation entries ... OK
* checking for code/documentation mismatches ... OK
* checking Rd \usage sections ... OK
* checking Rd contents ... OK
* checking for unstated dependencies in examples ... OK
* checking contents of ‘data’ directory ... OK
* checking data for non-ASCII characters ... OK
* checking data for ASCII and uncompressed saves ... OK
* checking files in ‘vignettes’ ... OK
* checking examples ... OK
* checking for unstated dependencies in ‘tests’ ... OK
* checking tests ...
  Running ‘testthat.R’
 OK
* checking for unstated dependencies in vignettes ... OK
* checking package vignettes ... OK
* checking re-building of vignette outputs ... OK
* checking PDF version of manual ... OK
* DONE

Status: OK


Installation output

PhyloProfile.Rcheck/00install.out

##############################################################################
##############################################################################
###
### Running command:
###
###   /home/biocbuild/bbs-3.21-bioc/R/bin/R CMD INSTALL PhyloProfile
###
##############################################################################
##############################################################################


* installing to library ‘/home/biocbuild/bbs-3.21-bioc/R/site-library’
* installing *source* package ‘PhyloProfile’ ...
** this is package ‘PhyloProfile’ version ‘1.99.4’
** using staged installation
** R
** data
** inst
** byte-compile and prepare package for lazy loading
** help
*** installing help indices
** building package indices
** installing vignettes
** testing if installed package can be loaded from temporary location
** testing if installed package can be loaded from final location
** testing if installed package keeps a record of temporary installation path
* DONE (PhyloProfile)

Tests output

PhyloProfile.Rcheck/tests/testthat.Rout


R Under development (unstable) (2025-01-20 r87609) -- "Unsuffered Consequences"
Copyright (C) 2025 The R Foundation for Statistical Computing
Platform: x86_64-pc-linux-gnu

R is free software and comes with ABSOLUTELY NO WARRANTY.
You are welcome to redistribute it under certain conditions.
Type 'license()' or 'licence()' for distribution details.

R is a collaborative project with many contributors.
Type 'contributors()' for more information and
'citation()' on how to cite R or R packages in publications.

Type 'demo()' for some demos, 'help()' for on-line help, or
'help.start()' for an HTML browser interface to help.
Type 'q()' to quit R.

> library(testthat)
> library(PhyloProfile)
> 
> test_check("PhyloProfile")
[ FAIL 0 | WARN 0 | SKIP 0 | PASS 22 ]
> 
> proc.time()
   user  system elapsed 
  7.725   0.501   8.212 

Example timings

PhyloProfile.Rcheck/PhyloProfile-Ex.timings

nameusersystemelapsed
addDimRedTaxaColors0.6670.0450.712
addFeatureColors0.0320.0030.034
addRankDivisionPlot0.6920.0180.709
calcPresSpec0.0350.0030.038
checkColorPalette0.0010.0000.000
checkInputValidity0.0030.0020.005
checkNewick0.0010.0010.003
checkOmaID000
checkOverlapDomains0.0160.0010.016
clusterDataDend0.0150.0040.019
compareMedianTaxonGroups0.0230.0030.026
compareTaxonGroups0.0280.0060.035
createArchiPlot1.9690.0582.027
createDimRedPlotData1.2090.0331.243
createGeneAgePlot0.2200.0050.225
createLongMatrix0.0120.0070.019
createPercentageDistributionData0.0710.0070.078
createProfileFromOma000
createUnrootedTree0.0110.0000.011
createVarDistPlot0.1490.0000.149
createVariableDistributionData0.0050.0040.009
createVariableDistributionDataSubset0.0070.0000.007
dataCustomizedPlot0.030.000.03
dataFeatureTaxGroup0.0140.0000.014
dataMainPlot0.0370.0110.047
dataVarDistTaxGroup0.0040.0020.006
dimReduction0.5570.0060.563
estimateGeneAge0.1150.0040.119
fastaParser0.0300.0020.032
featureDistTaxPlot0.1880.0020.190
filterProfileData0.0970.0260.125
fromInputToProfile0.1080.0080.116
geneAgePlotDf0.0080.0000.008
generateSinglePlot0.3430.0010.344
getAllDomainsOma000
getAllFastaOma000
getCommonAncestor0.0280.0040.031
getCoreGene0.0850.0010.086
getDataClustering0.0160.0000.016
getDataForOneOma000
getDendrogram0.0420.0010.043
getDistanceMatrix0.0150.0010.015
getDomainFolder0.0000.0000.001
getFastaFromFasInput0.0130.0000.014
getFastaFromFile0.0080.0000.010
getFastaFromFolder0.0050.0010.008
getIDsRank0.0160.0030.019
getInputTaxaID0.0030.0000.003
getInputTaxaName0.0090.0000.011
getNameList0.0110.0260.037
getOmaDataForOneOrtholog0.0010.0000.000
getOmaDomainFromURL000
getOmaMembers000
getQualColForVector0.0000.0000.001
getSelectedFastaOma0.0010.0000.000
getSelectedTaxonNames0.0150.0000.016
getTaxHierarchy0.0160.0000.015
getTaxonomyInfo0.0120.0010.014
getTaxonomyMatrix0.0970.0960.195
getTaxonomyRanks0.0000.0000.001
gridArrangeSharedLegend0.0000.0010.001
groupLabelDimRedData0.0460.0030.050
heatmapPlotting0.2410.0000.241
heatmapPlottingFast4.4770.3154.492
highlightProfilePlot0.2940.0030.297
id2name0.0040.0010.004
joinPlotMergeLegends0.5600.0020.562
linearizeArchitecture0.0070.0010.008
mainTaxonomyRank0.0000.0000.001
modifyFeatureName0.0120.0160.028
pairDomainPlotting0.4070.0130.420
parseDomainInput0.0110.0170.028
parseInfoProfile0.1360.0070.144
plotDimRed0.9010.0180.919
plotDimRed3D0.8230.0190.842
prepareDimRedData0.0440.0060.050
processNcbiTaxonomy0.0000.0000.001
processOrthoID0.1580.0330.203
qualitativeColours000
rankIndexing0.0580.0010.059
reduceProfile0.0110.0080.019
resolveOverlapFeatures0.0170.0020.018
runPhyloProfile0.0000.0000.001
singleDomainPlotting0.1860.0030.188
sortDomains0.0080.0000.008
sortDomainsByList0.0080.0010.008
sortInputTaxa0.0240.0040.028
sortTaxaFromTree0.030.000.03
taxonomyTableCreator0.0790.0040.084
varDistTaxPlot0.7710.0000.771
wideToLong0.0110.0050.016
xmlParser0.0130.0040.017