| Back to Multiple platform build/check report for BioC 3.21: simplified long |
|
This page was generated on 2025-10-16 11:40 -0400 (Thu, 16 Oct 2025).
| Hostname | OS | Arch (*) | R version | Installed pkgs |
|---|---|---|---|---|
| nebbiolo1 | Linux (Ubuntu 24.04.3 LTS) | x86_64 | 4.5.1 (2025-06-13) -- "Great Square Root" | 4833 |
| merida1 | macOS 12.7.6 Monterey | x86_64 | 4.5.1 RC (2025-06-05 r88288) -- "Great Square Root" | 4614 |
| kjohnson1 | macOS 13.7.5 Ventura | arm64 | 4.5.1 Patched (2025-06-14 r88325) -- "Great Square Root" | 4555 |
| kunpeng2 | Linux (openEuler 24.03 LTS) | aarch64 | R Under development (unstable) (2025-02-19 r87757) -- "Unsuffered Consequences" | 4586 |
| Click on any hostname to see more info about the system (e.g. compilers) (*) as reported by 'uname -p', except on Windows and Mac OS X | ||||
| Package 1653/2341 | Hostname | OS / Arch | INSTALL | BUILD | CHECK | BUILD BIN | ||||||||
| PWMEnrich 4.44.0 (landing page) Diego Diez
| nebbiolo1 | Linux (Ubuntu 24.04.3 LTS) / x86_64 | OK | OK | OK | |||||||||
| merida1 | macOS 12.7.6 Monterey / x86_64 | OK | OK | OK | OK | |||||||||
| kjohnson1 | macOS 13.7.5 Ventura / arm64 | OK | OK | OK | OK | |||||||||
| kunpeng2 | Linux (openEuler 24.03 LTS) / aarch64 | OK | OK | OK | ||||||||||
|
To the developers/maintainers of the PWMEnrich package: - Allow up to 24 hours (and sometimes 48 hours) for your latest push to git@git.bioconductor.org:packages/PWMEnrich.git to reflect on this report. See Troubleshooting Build Report for more information. - Use the following Renviron settings to reproduce errors and warnings. - If 'R CMD check' started to fail recently on the Linux builder(s) over a missing dependency, add the missing dependency to 'Suggests:' in your DESCRIPTION file. See Renviron.bioc for more information. |
| Package: PWMEnrich |
| Version: 4.44.0 |
| Command: /Library/Frameworks/R.framework/Resources/bin/R CMD check --install=check:PWMEnrich.install-out.txt --library=/Library/Frameworks/R.framework/Resources/library --no-vignettes --timings PWMEnrich_4.44.0.tar.gz |
| StartedAt: 2025-10-15 08:29:58 -0400 (Wed, 15 Oct 2025) |
| EndedAt: 2025-10-15 08:31:55 -0400 (Wed, 15 Oct 2025) |
| EllapsedTime: 116.8 seconds |
| RetCode: 0 |
| Status: OK |
| CheckDir: PWMEnrich.Rcheck |
| Warnings: 0 |
##############################################################################
##############################################################################
###
### Running command:
###
### /Library/Frameworks/R.framework/Resources/bin/R CMD check --install=check:PWMEnrich.install-out.txt --library=/Library/Frameworks/R.framework/Resources/library --no-vignettes --timings PWMEnrich_4.44.0.tar.gz
###
##############################################################################
##############################################################################
* using log directory ‘/Users/biocbuild/bbs-3.21-bioc/meat/PWMEnrich.Rcheck’
* using R version 4.5.1 Patched (2025-06-14 r88325)
* using platform: aarch64-apple-darwin20
* R was compiled by
Apple clang version 16.0.0 (clang-1600.0.26.6)
GNU Fortran (GCC) 14.2.0
* running under: macOS Ventura 13.7.5
* using session charset: UTF-8
* using option ‘--no-vignettes’
* checking for file ‘PWMEnrich/DESCRIPTION’ ... OK
* checking extension type ... Package
* this is package ‘PWMEnrich’ version ‘4.44.0’
* package encoding: UTF-8
* checking package namespace information ... OK
* checking package dependencies ... OK
* checking if this is a source package ... OK
* checking if there is a namespace ... OK
* checking for hidden files and directories ... OK
* checking for portable file names ... OK
* checking for sufficient/correct file permissions ... OK
* checking whether package ‘PWMEnrich’ can be installed ... OK
* checking installed package size ... OK
* checking package directory ... OK
* checking ‘build’ directory ... OK
* checking DESCRIPTION meta-information ... OK
* checking top-level files ... OK
* checking for left-over files ... OK
* checking index information ... OK
* checking package subdirectories ... OK
* checking code files for non-ASCII characters ... OK
* checking R files for syntax errors ... OK
* checking whether the package can be loaded ... OK
* checking whether the package can be loaded with stated dependencies ... OK
* checking whether the package can be unloaded cleanly ... OK
* checking whether the namespace can be loaded with stated dependencies ... OK
* checking whether the namespace can be unloaded cleanly ... OK
* checking dependencies in R code ... OK
* checking S3 generic/method consistency ... OK
* checking replacement functions ... OK
* checking foreign function calls ... OK
* checking R code for possible problems ... OK
* checking Rd files ... NOTE
checkRd: (-1) plot-MotifEnrichmentReport-missing-method.Rd:31-47: Lost braces
31 | if(requireNamespace("PWMEnrich.Dmelanogaster.background")){
| ^
* checking Rd metadata ... OK
* checking Rd cross-references ... OK
* checking for missing documentation entries ... OK
* checking for code/documentation mismatches ... OK
* checking Rd \usage sections ... OK
* checking Rd contents ... OK
* checking for unstated dependencies in examples ... OK
* checking sizes of PDF files under ‘inst/doc’ ... OK
* checking files in ‘vignettes’ ... OK
* checking examples ... OK
* checking for unstated dependencies in ‘tests’ ... OK
* checking tests ...
Running ‘test-all.R’
OK
* checking for unstated dependencies in vignettes ... OK
* checking package vignettes ... OK
* checking running R code from vignettes ... SKIPPED
* checking re-building of vignette outputs ... SKIPPED
* checking PDF version of manual ... OK
* DONE
Status: 1 NOTE
See
‘/Users/biocbuild/bbs-3.21-bioc/meat/PWMEnrich.Rcheck/00check.log’
for details.
PWMEnrich.Rcheck/00install.out
############################################################################## ############################################################################## ### ### Running command: ### ### /Library/Frameworks/R.framework/Resources/bin/R CMD INSTALL PWMEnrich ### ############################################################################## ############################################################################## * installing to library ‘/Library/Frameworks/R.framework/Versions/4.5-arm64/Resources/library’ * installing *source* package ‘PWMEnrich’ ... ** this is package ‘PWMEnrich’ version ‘4.44.0’ ** using staged installation ** R ** inst ** byte-compile and prepare package for lazy loading ** help *** installing help indices ** building package indices ** installing vignettes ** testing if installed package can be loaded from temporary location ** testing if installed package can be loaded from final location ** testing if installed package keeps a record of temporary installation path * DONE (PWMEnrich)
PWMEnrich.Rcheck/tests/test-all.Rout
R version 4.5.1 Patched (2025-06-14 r88325) -- "Great Square Root"
Copyright (C) 2025 The R Foundation for Statistical Computing
Platform: aarch64-apple-darwin20
R is free software and comes with ABSOLUTELY NO WARRANTY.
You are welcome to redistribute it under certain conditions.
Type 'license()' or 'licence()' for distribution details.
R is a collaborative project with many contributors.
Type 'contributors()' for more information and
'citation()' on how to cite R or R packages in publications.
Type 'demo()' for some demos, 'help()' for on-line help, or
'help.start()' for an HTML browser interface to help.
Type 'q()' to quit R.
> library(testthat)
> library(PWMEnrich)
Loading required package: BiocGenerics
Loading required package: generics
Attaching package: 'generics'
The following objects are masked from 'package:base':
as.difftime, as.factor, as.ordered, intersect, is.element, setdiff,
setequal, union
Attaching package: 'BiocGenerics'
The following objects are masked from 'package:stats':
IQR, mad, sd, var, xtabs
The following objects are masked from 'package:base':
Filter, Find, Map, Position, Reduce, anyDuplicated, aperm, append,
as.data.frame, basename, cbind, colnames, dirname, do.call,
duplicated, eval, evalq, get, grep, grepl, is.unsorted, lapply,
mapply, match, mget, order, paste, pmax, pmax.int, pmin, pmin.int,
rank, rbind, rownames, sapply, saveRDS, table, tapply, unique,
unsplit, which.max, which.min
Loading required package: Biostrings
Loading required package: S4Vectors
Loading required package: stats4
Attaching package: 'S4Vectors'
The following object is masked from 'package:utils':
findMatches
The following objects are masked from 'package:base':
I, expand.grid, unname
Loading required package: IRanges
Loading required package: XVector
Loading required package: GenomeInfoDb
Attaching package: 'Biostrings'
The following object is masked from 'package:base':
strsplit
>
> test_package("PWMEnrich")
No installed testthat tests found for PWMEnrich
>
>
> proc.time()
user system elapsed
3.675 0.278 4.009
PWMEnrich.Rcheck/PWMEnrich-Ex.timings
| name | user | system | elapsed | |
| PFMtoPWM | 0 | 0 | 0 | |
| PWMUnscaled | 0.845 | 0.050 | 0.911 | |
| getBackgroundFrequencies | 0.000 | 0.000 | 0.001 | |
| groupReport-MotifEnrichmentResults-method | 1.649 | 0.084 | 1.738 | |
| makeBackground | 0.003 | 0.001 | 0.005 | |
| makePWMCutoffBackground | 0 | 0 | 0 | |
| makePWMEmpiricalBackground | 0.000 | 0.001 | 0.000 | |
| makePWMGEVBackground | 0.000 | 0.001 | 0.000 | |
| makePWMLognBackground | 0.000 | 0.001 | 0.001 | |
| makePWMPvalCutoffBackground | 0.000 | 0.000 | 0.001 | |
| makePWMPvalCutoffBackgroundFromSeq | 0 | 0 | 0 | |
| makePriors | 0.001 | 0.000 | 0.001 | |
| motifDiffEnrichment | 1.887 | 0.018 | 1.971 | |
| motifEnrichment | 2.602 | 0.024 | 2.639 | |
| motifIC | 0.072 | 0.010 | 0.082 | |
| motifRankingForGroup-MotifEnrichmentResults-method | 1.396 | 0.012 | 1.415 | |
| motifRankingForSequence-MotifEnrichmentResults-method | 1.475 | 0.034 | 1.519 | |
| motifScores | 2.977 | 0.063 | 3.060 | |
| motifSimilarity | 0.040 | 0.005 | 0.045 | |
| plot-PWM-missing-method | 0.261 | 0.009 | 0.273 | |
| plotMotifScores | 0.087 | 0.008 | 0.097 | |
| plotTopMotifsGroup-MotifEnrichmentResults-method | 1.615 | 0.024 | 1.647 | |
| plotTopMotifsSequence-MotifEnrichmentResults-method | 1.662 | 0.025 | 1.700 | |
| readMotifs | 0.058 | 0.025 | 0.084 | |
| registerCoresPWMEnrich | 0 | 0 | 0 | |
| reverseComplement-PWM-method | 0.014 | 0.005 | 0.019 | |
| scanWithPWM | 0.049 | 0.004 | 0.054 | |
| sequenceReport-MotifEnrichmentResults-method | 2.666 | 0.099 | 2.786 | |
| toPWM | 0 | 0 | 0 | |
| useBigMemoryPWMEnrich | 0 | 0 | 0 | |