Back to Multiple platform build/check report for BioC 3.21:   simplified   long
ABCDEFGHIJKLM[N]OPQRSTUVWXYZ

This page was generated on 2025-02-15 11:40 -0500 (Sat, 15 Feb 2025).

HostnameOSArch (*)R versionInstalled pkgs
nebbiolo1Linux (Ubuntu 24.04.1 LTS)x86_64R Under development (unstable) (2025-01-20 r87609) -- "Unsuffered Consequences" 4720
palomino7Windows Server 2022 Datacenterx64R Under development (unstable) (2025-01-21 r87610 ucrt) -- "Unsuffered Consequences" 4482
lconwaymacOS 12.7.1 Montereyx86_64R Under development (unstable) (2025-01-22 r87618) -- "Unsuffered Consequences" 4493
kjohnson3macOS 13.7.1 Venturaarm64R Under development (unstable) (2025-01-20 r87609) -- "Unsuffered Consequences" 4446
Click on any hostname to see more info about the system (e.g. compilers)      (*) as reported by 'uname -p', except on Windows and Mac OS X

Package 1412/2295HostnameOS / ArchINSTALLBUILDCHECKBUILD BIN
NetPathMiner 1.43.1  (landing page)
Ahmed Mohamed
Snapshot Date: 2025-02-14 13:40 -0500 (Fri, 14 Feb 2025)
git_url: https://git.bioconductor.org/packages/NetPathMiner
git_branch: devel
git_last_commit: b338534
git_last_commit_date: 2024-11-27 09:32:40 -0500 (Wed, 27 Nov 2024)
nebbiolo1Linux (Ubuntu 24.04.1 LTS) / x86_64  OK    OK    OK  UNNEEDED, same version is already published
palomino7Windows Server 2022 Datacenter / x64... NOT SUPPORTED ...
lconwaymacOS 12.7.1 Monterey / x86_64  OK    OK    OK    OK  UNNEEDED, same version is already published
kjohnson3macOS 13.7.1 Ventura / arm64  OK    OK    OK    OK  UNNEEDED, same version is already published


CHECK results for NetPathMiner on nebbiolo1

To the developers/maintainers of the NetPathMiner package:
- Allow up to 24 hours (and sometimes 48 hours) for your latest push to git@git.bioconductor.org:packages/NetPathMiner.git to reflect on this report. See Troubleshooting Build Report for more information.
- Use the following Renviron settings to reproduce errors and warnings.
- If 'R CMD check' started to fail recently on the Linux builder(s) over a missing dependency, add the missing dependency to 'Suggests:' in your DESCRIPTION file. See Renviron.bioc for more information.

raw results


Summary

Package: NetPathMiner
Version: 1.43.1
Command: /home/biocbuild/bbs-3.21-bioc/R/bin/R CMD check --install=check:NetPathMiner.install-out.txt --library=/home/biocbuild/bbs-3.21-bioc/R/site-library --timings NetPathMiner_1.43.1.tar.gz
StartedAt: 2025-02-15 00:27:48 -0500 (Sat, 15 Feb 2025)
EndedAt: 2025-02-15 00:28:52 -0500 (Sat, 15 Feb 2025)
EllapsedTime: 64.0 seconds
RetCode: 0
Status:   OK  
CheckDir: NetPathMiner.Rcheck
Warnings: 0

Command output

##############################################################################
##############################################################################
###
### Running command:
###
###   /home/biocbuild/bbs-3.21-bioc/R/bin/R CMD check --install=check:NetPathMiner.install-out.txt --library=/home/biocbuild/bbs-3.21-bioc/R/site-library --timings NetPathMiner_1.43.1.tar.gz
###
##############################################################################
##############################################################################


* using log directory ‘/home/biocbuild/bbs-3.21-bioc/meat/NetPathMiner.Rcheck’
* using R Under development (unstable) (2025-01-20 r87609)
* using platform: x86_64-pc-linux-gnu
* R was compiled by
    gcc (Ubuntu 13.3.0-6ubuntu2~24.04) 13.3.0
    GNU Fortran (Ubuntu 13.3.0-6ubuntu2~24.04) 13.3.0
* running under: Ubuntu 24.04.2 LTS
* using session charset: UTF-8
* checking for file ‘NetPathMiner/DESCRIPTION’ ... OK
* this is package ‘NetPathMiner’ version ‘1.43.1’
* package encoding: UTF-8
* checking package namespace information ... OK
* checking package dependencies ... OK
* checking if this is a source package ... OK
* checking if there is a namespace ... OK
* checking for hidden files and directories ... OK
* checking for portable file names ... OK
* checking for sufficient/correct file permissions ... OK
* checking whether package ‘NetPathMiner’ can be installed ... OK
* used C compiler: ‘gcc (Ubuntu 13.3.0-6ubuntu2~24.04) 13.3.0’
* used C++ compiler: ‘g++ (Ubuntu 13.3.0-6ubuntu2~24.04) 13.3.0’
* checking installed package size ... OK
* checking package directory ... OK
* checking ‘build’ directory ... OK
* checking DESCRIPTION meta-information ... OK
* checking top-level files ... OK
* checking for left-over files ... OK
* checking index information ... OK
* checking package subdirectories ... OK
* checking code files for non-ASCII characters ... OK
* checking R files for syntax errors ... OK
* checking whether the package can be loaded ... OK
* checking whether the package can be loaded with stated dependencies ... OK
* checking whether the package can be unloaded cleanly ... OK
* checking whether the namespace can be loaded with stated dependencies ... OK
* checking whether the namespace can be unloaded cleanly ... OK
* checking loading without being on the library search path ... OK
* checking whether startup messages can be suppressed ... OK
* checking dependencies in R code ... NOTE
package 'methods' is used but not declared
* checking S3 generic/method consistency ... OK
* checking replacement functions ... OK
* checking foreign function calls ... OK
* checking R code for possible problems ... NOTE
alpha: no visible global function definition for ‘col2rgb’
alpha: no visible global function definition for ‘rgb’
assignEdgeWeights : wt.func: no visible global function definition for
  ‘median’
assignEdgeWeights: no visible global function definition for
  ‘complete.cases’
assignEdgeWeights: no visible global function definition for ‘na.omit’
assignEdgeWeights : <anonymous>: no visible global function definition
  for ‘na.omit’
bpGetAnnFromXRef: no visible global function definition for ‘na.omit’
bpGetReferences: no visible global function definition for ‘setNames’
bpMetabolicL2: no visible global function definition for ‘setNames’
bpMetabolicL3: no visible global function definition for ‘setNames’
bpSignalingL3: no visible global function definition for ‘na.omit’
bpSplitComplex: no visible global function definition for ‘na.omit’
colorVertexByAttr: no visible global function definition for ‘palette’
colorVertexByAttr: no visible global function definition for
  ‘colorRampPalette’
drawLegend: no visible global function definition for ‘par’
drawLegend: no visible global function definition for ‘plot.new’
drawLegend: no visible global function definition for ‘strwidth’
drawLegend: no visible global function definition for ‘legend’
fetchAttribute: no visible global function definition for ‘na.omit’
fetchAttribute: no visible global function definition for ‘URLencode’
fetchAttribute: no visible global function definition for ‘setNames’
fetchAttribute : <anonymous>: no visible global function definition for
  ‘read.table’
getGeneSetNetworks: no visible global function definition for
  ‘setClass’
getGeneSetNetworks: no visible global function definition for
  ‘representation’
getPaths : <anonymous>: no visible global function definition for
  ‘head’
getPaths: no visible global function definition for ‘tail’
graph.sizes: no visible global function definition for ‘par’
makeReactionNetwork: no visible global function definition for
  ‘complete.cases’
pathClassifier: no visible binding for global variable ‘sd’
pathClassifier: no visible global function definition for ‘aggregate’
pathCluster: no visible binding for global variable ‘sd’
pathCluster: no visible global function definition for ‘aggregate’
plotAllNetworks: no visible global function definition for ‘palette’
plotAllNetworks: no visible global function definition for ‘par’
plotAllNetworks: no visible global function definition for
  ‘colorRampPalette’
plotClassifierROC: no visible global function definition for ‘palette’
plotClassifierROC: no visible global function definition for ‘layout’
plotClassifierROC: no visible global function definition for ‘na.omit’
plotClusterMatrix: no visible global function definition for ‘rainbow’
plotClusterMatrix: no visible global function definition for ‘image’
plotClusterMatrix: no visible global function definition for ‘axis’
plotClusterProbs: no visible global function definition for ‘rainbow’
plotClusterProbs: no visible global function definition for ‘matplot’
plotClusters: no visible global function definition for ‘rainbow’
plotClusters: no visible global function definition for ‘strwidth’
plotClusters: no visible global function definition for ‘layout’
plotClusters: no visible global function definition for ‘par’
plotClusters: no visible global function definition for ‘legend’
plotCytoscapeGML : col2hex: no visible global function definition for
  ‘rgb’
plotCytoscapeGML : col2hex: no visible global function definition for
  ‘col2rgb’
plotCytoscapeGML: no visible global function definition for
  ‘packageVersion’
plotNetwork: no visible global function definition for ‘palette’
plotNetwork: no visible global function definition for ‘par’
plotNetwork_internal: no visible global function definition for
  ‘palette’
plotNetwork_internal: no visible global function definition for
  ‘setNames’
plotPathClassifier: no visible global function definition for ‘palette’
plotPathClassifier: no visible global function definition for ‘par’
plotPathClassifier: no visible global function definition for ‘layout’
plotPathClassifier: no visible global function definition for ‘barplot’
plotPathClassifier: no visible global function definition for ‘abline’
plotPathClassifier: no visible global function definition for ‘points’
plotPathClassifier: no visible global function definition for ‘axis’
plotPathClassifier: no visible global function definition for ‘image’
plotPathClassifier: no visible global function definition for
  ‘cm.colors’
plotPathClassifier: no visible global function definition for ‘mtext’
plotPathClassifier: no visible global function definition for ‘lines’
plotPathCluster: no visible global function definition for ‘par’
plotPathCluster: no visible global function definition for ‘layout’
plotPathCluster: no visible global function definition for ‘barplot’
plotPathCluster: no visible global function definition for ‘abline’
plotPathCluster: no visible global function definition for ‘axis’
plotPathCluster: no visible global function definition for ‘image’
plotPathCluster: no visible global function definition for ‘cm.colors’
plotPathCluster: no visible global function definition for ‘mtext’
plotPathROC: no visible global function definition for ‘palette’
plotPathROC: no visible global function definition for ‘lines’
plotPathROC: no visible global function definition for ‘axis’
plotPathROC: no visible global function definition for ‘mtext’
plotPathROC: no visible global function definition for ‘legend’
plotPaths: no visible global function definition for ‘palette’
plotPaths: no visible global function definition for ‘par’
process.color: no visible global function definition for
  ‘colorRampPalette’
process.color: no visible global function definition for ‘setNames’
process.layout: no visible global function definition for ‘par’
processNetwork : <anonymous>: no visible global function definition for
  ‘ecdf’
reindexNetwork: no visible binding for global variable ‘head’
stdAttrNames : <anonymous>: no visible global function definition for
  ‘head’
stdAttrNames : <anonymous>: no visible global function definition for
  ‘setNames’
Undefined global functions or variables:
  URLencode abline aggregate axis barplot cm.colors col2rgb
  colorRampPalette complete.cases ecdf head image layout legend lines
  matplot median mtext na.omit packageVersion palette par plot.new
  points rainbow read.table representation rgb sd setClass setNames
  strwidth tail
Consider adding
  importFrom("grDevices", "cm.colors", "col2rgb", "colorRampPalette",
             "palette", "rainbow", "rgb")
  importFrom("graphics", "abline", "axis", "barplot", "image", "layout",
             "legend", "lines", "matplot", "mtext", "par", "plot.new",
             "points", "strwidth")
  importFrom("methods", "representation", "setClass")
  importFrom("stats", "aggregate", "complete.cases", "ecdf", "median",
             "na.omit", "sd", "setNames")
  importFrom("utils", "URLencode", "head", "packageVersion",
             "read.table", "tail")
to your NAMESPACE file (and ensure that your DESCRIPTION Imports field
contains 'methods').
* checking Rd files ... NOTE
checkRd: (-1) plotClassifierROC.Rd:14: Lost braces
    14 | item{Top}{ROC curves for the posterior probabilities (\code{mix\$posterior.probs})
       |     ^
checkRd: (-1) plotClassifierROC.Rd:14-17: Lost braces
    14 | item{Top}{ROC curves for the posterior probabilities (\code{mix\$posterior.probs})
       |          ^
checkRd: (-1) plotClassifierROC.Rd:18: Lost braces
    18 | item{Bottom}{The likelihood convergence history for the HME3M model.  If the parameters
       |     ^
checkRd: (-1) plotClassifierROC.Rd:18-19: Lost braces
    18 | item{Bottom}{The likelihood convergence history for the HME3M model.  If the parameters
       |             ^
* checking Rd metadata ... OK
* checking Rd cross-references ... NOTE
Non-topic package-anchored link(s) in Rd file 'assignEdgeWeights.Rd':
  ‘[base:Extremes]{max}’

See section 'Cross-references' in the 'Writing R Extensions' manual.
* checking for missing documentation entries ... OK
* checking for code/documentation mismatches ... OK
* checking Rd \usage sections ... OK
* checking Rd contents ... OK
* checking for unstated dependencies in examples ... OK
* checking contents of ‘data’ directory ... OK
* checking data for non-ASCII characters ... OK
* checking data for ASCII and uncompressed saves ... OK
* checking line endings in shell scripts ... OK
* checking line endings in C/C++/Fortran sources/headers ... OK
* checking line endings in Makefiles ... OK
* checking compilation flags in Makevars ... OK
* checking for GNU extensions in Makefiles ... OK
* checking for portable use of $(BLAS_LIBS) and $(LAPACK_LIBS) ... OK
* checking use of PKG_*FLAGS in Makefiles ... OK
* checking compiled code ... NOTE
Note: information on .o files is not available
* checking files in ‘vignettes’ ... OK
* checking examples ... OK
Examples with CPU (user + system) or elapsed time > 5s
           user system elapsed
plotPaths 5.455  0.005   5.461
* checking for unstated dependencies in vignettes ... OK
* checking package vignettes ... OK
* checking re-building of vignette outputs ... OK
* checking PDF version of manual ... OK
* DONE

Status: 5 NOTEs
See
  ‘/home/biocbuild/bbs-3.21-bioc/meat/NetPathMiner.Rcheck/00check.log’
for details.


Installation output

NetPathMiner.Rcheck/00install.out

##############################################################################
##############################################################################
###
### Running command:
###
###   /home/biocbuild/bbs-3.21-bioc/R/bin/R CMD INSTALL NetPathMiner
###
##############################################################################
##############################################################################


* installing to library ‘/home/biocbuild/bbs-3.21-bioc/R/site-library’
* installing *source* package ‘NetPathMiner’ ...
** this is package ‘NetPathMiner’ version ‘1.43.1’
** using staged installation
'config' variable 'CPP' is defunct
checking for gcc... gcc
checking whether the C compiler works... yes
checking for C compiler default output file name... a.out
checking for suffix of executables... 
checking whether we are cross compiling... no
checking for suffix of object files... o
checking whether we are using the GNU C compiler... yes
checking whether gcc accepts -g... yes
checking for gcc option to accept ISO C89... none needed
checking how to run the C preprocessor... gcc -E
checking for xmlParseFile in -lxml2... yes
checking for readSBML in -lsbml... yes
libSBML found, finding configuration...
pkg-config tool found
libsbml.pc found. Using pkg-config to extract it.
checking for xml2-config... /usr/bin/xml2-config
configure: creating ./config.status
config.status: creating src/Makevars
** libs
using C compiler: ‘gcc (Ubuntu 13.3.0-6ubuntu2~24.04) 13.3.0’
using C++ compiler: ‘g++ (Ubuntu 13.3.0-6ubuntu2~24.04) 13.3.0’
gcc -I"/home/biocbuild/bbs-3.21-bioc/R/include" -DNDEBUG -I/usr/local/include -DHAVE_XML -I/usr/include/libxml2 -DHAVE_SBML -I/usr/include/libxml2   -I/usr/local/include    -fpic  -g -O2  -c handlesegfault.c -o handlesegfault.o
gcc -I"/home/biocbuild/bbs-3.21-bioc/R/include" -DNDEBUG -I/usr/local/include -DHAVE_XML -I/usr/include/libxml2 -DHAVE_SBML -I/usr/include/libxml2   -I/usr/local/include    -fpic  -g -O2  -c hme3m.c -o hme3m.o
gcc -I"/home/biocbuild/bbs-3.21-bioc/R/include" -DNDEBUG -I/usr/local/include -DHAVE_XML -I/usr/include/libxml2 -DHAVE_SBML -I/usr/include/libxml2   -I/usr/local/include    -fpic  -g -O2  -c init.c -o init.o
g++ -std=gnu++17 -I"/home/biocbuild/bbs-3.21-bioc/R/include" -DNDEBUG -I/usr/local/include -DHAVE_XML -I/usr/include/libxml2 -DHAVE_SBML -I/usr/include/libxml2   -I/usr/local/include    -fpic  -g -O2  -DR_NO_REMAP -c kgml_interface.cpp -o kgml_interface.o
g++ -std=gnu++17 -I"/home/biocbuild/bbs-3.21-bioc/R/include" -DNDEBUG -I/usr/local/include -DHAVE_XML -I/usr/include/libxml2 -DHAVE_SBML -I/usr/include/libxml2   -I/usr/local/include    -fpic  -g -O2  -DR_NO_REMAP -c methods.cpp -o methods.o
g++ -std=gnu++17 -I"/home/biocbuild/bbs-3.21-bioc/R/include" -DNDEBUG -I/usr/local/include -DHAVE_XML -I/usr/include/libxml2 -DHAVE_SBML -I/usr/include/libxml2   -I/usr/local/include    -fpic  -g -O2  -DR_NO_REMAP -c sbml_interface.cpp -o sbml_interface.o
g++ -std=gnu++17 -shared -L/home/biocbuild/bbs-3.21-bioc/R/lib -L/usr/local/lib -o NetPathMiner.so handlesegfault.o hme3m.o init.o kgml_interface.o methods.o sbml_interface.o -lsbml -lxml2 -lxml2 -lsbml -llapack -L/home/biocbuild/bbs-3.21-bioc/R/lib -lRblas -lgfortran -lm -lquadmath -L/home/biocbuild/bbs-3.21-bioc/R/lib -lR
installing to /home/biocbuild/bbs-3.21-bioc/R/site-library/00LOCK-NetPathMiner/00new/NetPathMiner/libs
** R
** data
** inst
** byte-compile and prepare package for lazy loading
** help
*** installing help indices
** building package indices
** installing vignettes
** testing if installed package can be loaded from temporary location
** checking absolute paths in shared objects and dynamic libraries
** testing if installed package can be loaded from final location
** testing if installed package keeps a record of temporary installation path
* DONE (NetPathMiner)

Tests output


Example timings

NetPathMiner.Rcheck/NetPathMiner-Ex.timings

nameusersystemelapsed
KGML2igraph0.2570.0090.266
MIRIAM0.1550.0200.175
NPMdefaults0.0050.0040.009
SBML2igraph0.1410.0050.157
assignEdgeWeights0.2660.0110.276
biopax2igraph0.3490.0030.346
colorVertexByAttr0.1230.0000.122
ex_biopax0.0160.0010.017
ex_kgml_sig0.1730.0130.186
ex_microarray0.0030.0010.004
ex_sbml0.6920.0170.709
extractPathNetwork1.4740.0121.486
getAttr0.0290.0040.032
getGeneSetNetworks0.0290.0010.030
getGeneSets0.0750.0020.077
getPathsAsEIDs1.4620.0021.463
layoutVertexByAttr0.3140.0250.338
makeGeneNetwork0.1990.0090.207
makeMetaboliteNetwork0.0840.0010.085
makeReactionNetwork0.1210.0010.122
pathClassifier0.8570.0150.873
pathCluster0.2950.0110.305
pathRanker0.6370.0030.640
pathsToBinary0.7650.0270.792
plotAllNetworks3.9170.0143.930
plotClusters0.9290.0050.934
plotCytoscape0.2710.0300.302
plotNetwork0.4480.0090.457
plotPathClassifier0.9310.0160.946
plotPathCluster0.3030.0070.311
plotPaths5.4550.0055.461
predictPathClassifier0.8270.0030.830
predictPathCluster0.3560.0030.360
reindexNetwork0.1950.0020.198
rmSmallCompounds0.1030.0020.106
simplifyReactionNetwork0.2320.0000.233
toGraphNEL0.3450.0030.349
vertexDeleteReconnect0.0670.0000.068