| Back to Multiple platform build/check report for BioC 3.21: simplified long |
|
This page was generated on 2025-10-16 11:38 -0400 (Thu, 16 Oct 2025).
| Hostname | OS | Arch (*) | R version | Installed pkgs |
|---|---|---|---|---|
| nebbiolo1 | Linux (Ubuntu 24.04.3 LTS) | x86_64 | 4.5.1 (2025-06-13) -- "Great Square Root" | 4833 |
| merida1 | macOS 12.7.6 Monterey | x86_64 | 4.5.1 RC (2025-06-05 r88288) -- "Great Square Root" | 4614 |
| kjohnson1 | macOS 13.7.5 Ventura | arm64 | 4.5.1 Patched (2025-06-14 r88325) -- "Great Square Root" | 4555 |
| kunpeng2 | Linux (openEuler 24.03 LTS) | aarch64 | R Under development (unstable) (2025-02-19 r87757) -- "Unsuffered Consequences" | 4586 |
| Click on any hostname to see more info about the system (e.g. compilers) (*) as reported by 'uname -p', except on Windows and Mac OS X | ||||
| Package 1420/2341 | Hostname | OS / Arch | INSTALL | BUILD | CHECK | BUILD BIN | ||||||||
| NanoMethViz 3.4.0 (landing page) Shian Su
| nebbiolo1 | Linux (Ubuntu 24.04.3 LTS) / x86_64 | OK | OK | OK | |||||||||
| merida1 | macOS 12.7.6 Monterey / x86_64 | OK | OK | OK | OK | |||||||||
| kjohnson1 | macOS 13.7.5 Ventura / arm64 | OK | OK | OK | OK | |||||||||
| kunpeng2 | Linux (openEuler 24.03 LTS) / aarch64 | OK | OK | OK | ||||||||||
|
To the developers/maintainers of the NanoMethViz package: - Allow up to 24 hours (and sometimes 48 hours) for your latest push to git@git.bioconductor.org:packages/NanoMethViz.git to reflect on this report. See Troubleshooting Build Report for more information. - Use the following Renviron settings to reproduce errors and warnings. - If 'R CMD check' started to fail recently on the Linux builder(s) over a missing dependency, add the missing dependency to 'Suggests:' in your DESCRIPTION file. See Renviron.bioc for more information. |
| Package: NanoMethViz |
| Version: 3.4.0 |
| Command: /home/biocbuild/bbs-3.21-bioc/R/bin/R CMD check --install=check:NanoMethViz.install-out.txt --library=/home/biocbuild/bbs-3.21-bioc/R/site-library --timings NanoMethViz_3.4.0.tar.gz |
| StartedAt: 2025-10-16 01:35:42 -0400 (Thu, 16 Oct 2025) |
| EndedAt: 2025-10-16 01:47:48 -0400 (Thu, 16 Oct 2025) |
| EllapsedTime: 725.2 seconds |
| RetCode: 0 |
| Status: OK |
| CheckDir: NanoMethViz.Rcheck |
| Warnings: 0 |
##############################################################################
##############################################################################
###
### Running command:
###
### /home/biocbuild/bbs-3.21-bioc/R/bin/R CMD check --install=check:NanoMethViz.install-out.txt --library=/home/biocbuild/bbs-3.21-bioc/R/site-library --timings NanoMethViz_3.4.0.tar.gz
###
##############################################################################
##############################################################################
* using log directory ‘/home/biocbuild/bbs-3.21-bioc/meat/NanoMethViz.Rcheck’
* using R version 4.5.1 (2025-06-13)
* using platform: x86_64-pc-linux-gnu
* R was compiled by
gcc (Ubuntu 13.3.0-6ubuntu2~24.04) 13.3.0
GNU Fortran (Ubuntu 13.3.0-6ubuntu2~24.04) 13.3.0
* running under: Ubuntu 24.04.3 LTS
* using session charset: UTF-8
* checking for file ‘NanoMethViz/DESCRIPTION’ ... OK
* checking extension type ... Package
* this is package ‘NanoMethViz’ version ‘3.4.0’
* package encoding: UTF-8
* checking package namespace information ... OK
* checking package dependencies ... INFO
Imports includes 31 non-default packages.
Importing from so many packages makes the package vulnerable to any of
them becoming unavailable. Move as many as possible to Suggests and
use conditionally.
* checking if this is a source package ... OK
* checking if there is a namespace ... OK
* checking for hidden files and directories ... OK
* checking for portable file names ... OK
* checking for sufficient/correct file permissions ... OK
* checking whether package ‘NanoMethViz’ can be installed ... OK
* used C++ compiler: ‘g++ (Ubuntu 13.3.0-6ubuntu2~24.04) 13.3.0’
* checking C++ specification ... OK
Not all R platforms support C++20
* checking installed package size ... INFO
installed size is 8.9Mb
sub-directories of 1Mb or more:
libs 2.1Mb
* checking package directory ... OK
* checking ‘build’ directory ... OK
* checking DESCRIPTION meta-information ... OK
* checking top-level files ... OK
* checking for left-over files ... OK
* checking index information ... OK
* checking package subdirectories ... OK
* checking code files for non-ASCII characters ... OK
* checking R files for syntax errors ... OK
* checking whether the package can be loaded ... OK
* checking whether the package can be loaded with stated dependencies ... OK
* checking whether the package can be unloaded cleanly ... OK
* checking whether the namespace can be loaded with stated dependencies ... OK
* checking whether the namespace can be unloaded cleanly ... OK
* checking loading without being on the library search path ... OK
* checking whether startup messages can be suppressed ... OK
* checking dependencies in R code ... OK
* checking S3 generic/method consistency ... OK
* checking replacement functions ... OK
* checking foreign function calls ... OK
* checking R code for possible problems ... NOTE
reformat_modkit: no visible binding for global variable ‘ref_position’
Undefined global functions or variables:
ref_position
* checking Rd files ... OK
* checking Rd metadata ... OK
* checking Rd cross-references ... OK
* checking for missing documentation entries ... OK
* checking for code/documentation mismatches ... OK
* checking Rd \usage sections ... OK
* checking Rd contents ... OK
* checking for unstated dependencies in examples ... OK
* checking line endings in C/C++/Fortran sources/headers ... OK
* checking line endings in Makefiles ... OK
* checking compilation flags in Makevars ... OK
* checking for GNU extensions in Makefiles ... OK
* checking for portable use of $(BLAS_LIBS) and $(LAPACK_LIBS) ... OK
* checking use of PKG_*FLAGS in Makefiles ... OK
* checking compiled code ... NOTE
Note: information on .o files is not available
* checking files in ‘vignettes’ ... OK
* checking examples ... OK
Examples with CPU (user + system) or elapsed time > 5s
user system elapsed
get_exons 43.873 2.089 46.013
filter_methy 17.288 0.161 17.450
get_exons_mus_musculus 11.409 0.232 11.641
get_exons_homo_sapiens 11.537 0.053 11.590
plot_gene 9.712 0.057 9.769
plot_region 8.351 0.267 8.618
plot_gene_heatmap 8.028 0.075 8.103
plot_grange 7.282 0.101 7.383
plot_grange_heatmap 5.543 0.067 5.610
plot_agg_regions 5.309 0.022 5.333
cluster_regions 5.092 0.187 5.280
plot_region_heatmap 5.182 0.076 5.258
* checking for unstated dependencies in ‘tests’ ... OK
* checking tests ...
Running ‘testthat.R’
OK
* checking for unstated dependencies in vignettes ... OK
* checking package vignettes ... OK
* checking re-building of vignette outputs ... OK
* checking PDF version of manual ... OK
* DONE
Status: 2 NOTEs
See
‘/home/biocbuild/bbs-3.21-bioc/meat/NanoMethViz.Rcheck/00check.log’
for details.
NanoMethViz.Rcheck/00install.out
##############################################################################
##############################################################################
###
### Running command:
###
### /home/biocbuild/bbs-3.21-bioc/R/bin/R CMD INSTALL NanoMethViz
###
##############################################################################
##############################################################################
* installing to library ‘/home/biocbuild/bbs-3.21-bioc/R/site-library’
* installing *source* package ‘NanoMethViz’ ...
** this is package ‘NanoMethViz’ version ‘3.4.0’
** using staged installation
** libs
using C++ compiler: ‘g++ (Ubuntu 13.3.0-6ubuntu2~24.04) 13.3.0’
using C++20
g++ -std=gnu++20 -I"/home/biocbuild/bbs-3.21-bioc/R/include" -DNDEBUG -I'/home/biocbuild/bbs-3.21-bioc/R/site-library/Rcpp/include' -I/usr/local/include -fpic -g -O2 -Wall -Werror=format-security -c RcppExports.cpp -o RcppExports.o
g++ -std=gnu++20 -I"/home/biocbuild/bbs-3.21-bioc/R/include" -DNDEBUG -I'/home/biocbuild/bbs-3.21-bioc/R/site-library/Rcpp/include' -I/usr/local/include -fpic -g -O2 -Wall -Werror=format-security -c convert_methy_to_dss.cpp -o convert_methy_to_dss.o
g++ -std=gnu++20 -I"/home/biocbuild/bbs-3.21-bioc/R/include" -DNDEBUG -I'/home/biocbuild/bbs-3.21-bioc/R/site-library/Rcpp/include' -I/usr/local/include -fpic -g -O2 -Wall -Werror=format-security -c count_cg.cpp -o count_cg.o
g++ -std=gnu++20 -I"/home/biocbuild/bbs-3.21-bioc/R/include" -DNDEBUG -I'/home/biocbuild/bbs-3.21-bioc/R/site-library/Rcpp/include' -I/usr/local/include -fpic -g -O2 -Wall -Werror=format-security -c genome.cpp -o genome.o
genome.cpp: In member function ‘bool Genome::check_if_motif(const std::string&, int, const std::string&, int)’:
genome.cpp:43:21: warning: variable ‘chrom_view’ set but not used [-Wunused-but-set-variable]
43 | string_view chrom_view = this->bases_at(chrom, motif_start, motif_end);
| ^~~~~~~~~~
g++ -std=gnu++20 -I"/home/biocbuild/bbs-3.21-bioc/R/include" -DNDEBUG -I'/home/biocbuild/bbs-3.21-bioc/R/site-library/Rcpp/include' -I/usr/local/include -fpic -g -O2 -Wall -Werror=format-security -c modbam.cpp -o modbam.o
modbam.cpp: In function ‘GenomicModPos parse_bam(const std::string&, const std::string&, const std::string&, const std::string&, const std::string&, int)’:
modbam.cpp:331:44: warning: comparison of integer expressions of different signedness: ‘int’ and ‘std::basic_string_view<char>::size_type’ {aka ‘long unsigned int’} [-Wsign-compare]
331 | while ( mod_string_end < mm_tok.size() && std::isalnum(mm_tok[mod_string_end]) ) {
| ~~~~~~~~~~~~~~~^~~~~~~~~~~~~~~
modbam.cpp:339:40: warning: comparison of integer expressions of different signedness: ‘int’ and ‘std::basic_string_view<char>::size_type’ {aka ‘long unsigned int’} [-Wsign-compare]
339 | if (mod_string_end == mm_tok.size() || mm_tok[mod_string_end] == '?') {
| ~~~~~~~~~~~~~~~^~~~~~~~~~~~~~~~
modbam.cpp:363:17: warning: ‘target_base’ may be used uninitialized [-Wmaybe-uninitialized]
363 | if (seq.at(seq_ind) == target_base) {
| ^~
modbam.cpp:305:14: note: ‘target_base’ was declared here
305 | char target_base;
| ^~~~~~~~~~~
modbam.cpp:364:21: warning: ‘parse_mode’ may be used uninitialized [-Wmaybe-uninitialized]
364 | switch (parse_mode) {
| ^~~~~~
modbam.cpp:308:19: note: ‘parse_mode’ was declared here
308 | ParseMode parse_mode;
| ^~~~~~~~~~
In file included from /usr/include/c++/13/bits/stl_iterator.h:85,
from /usr/include/c++/13/bits/stl_algobase.h:67,
from /usr/include/c++/13/algorithm:60,
from modbam.cpp:1:
In function ‘constexpr decltype (::new(void*(0)) _Tp) std::construct_at(_Tp*, _Args&& ...) [with _Tp = char; _Args = {const char&}]’,
inlined from ‘static constexpr void std::allocator_traits<std::allocator<_CharT> >::construct(allocator_type&, _Up*, _Args&& ...) [with _Up = char; _Args = {const char&}; _Tp = char]’ at /usr/include/c++/13/bits/alloc_traits.h:540:21,
inlined from ‘constexpr void std::vector<_Tp, _Alloc>::_M_realloc_insert(iterator, _Args&& ...) [with _Args = {const char&}; _Tp = char; _Alloc = std::allocator<char>]’ at /usr/include/c++/13/bits/vector.tcc:468:28,
inlined from ‘constexpr void std::vector<_Tp, _Alloc>::push_back(const value_type&) [with _Tp = char; _Alloc = std::allocator<char>]’ at /usr/include/c++/13/bits/stl_vector.h:1292:21,
inlined from ‘GenomicModPos parse_bam(const std::string&, const std::string&, const std::string&, const std::string&, const std::string&, int)’ at modbam.cpp:368:50:
/usr/include/c++/13/bits/stl_construct.h:97:14: warning: ‘current_base’ may be used uninitialized [-Wmaybe-uninitialized]
97 | { return ::new((void*)__location) _Tp(std::forward<_Args>(__args)...); }
| ^~~~~~~~~~~~~~~~~~~~~~~~~~~~~~~~~~~~~~~~~~~~~~~~~~~~~~~~~~~~
modbam.cpp: In function ‘GenomicModPos parse_bam(const std::string&, const std::string&, const std::string&, const std::string&, const std::string&, int)’:
modbam.cpp:304:14: note: ‘current_base’ was declared here
304 | char current_base;
| ^~~~~~~~~~~~
g++ -std=gnu++20 -I"/home/biocbuild/bbs-3.21-bioc/R/include" -DNDEBUG -I'/home/biocbuild/bbs-3.21-bioc/R/site-library/Rcpp/include' -I/usr/local/include -fpic -g -O2 -Wall -Werror=format-security -c utils.cpp -o utils.o
g++ -std=gnu++20 -shared -L/home/biocbuild/bbs-3.21-bioc/R/lib -L/usr/local/lib -o NanoMethViz.so RcppExports.o convert_methy_to_dss.o count_cg.o genome.o modbam.o utils.o -lz -L/home/biocbuild/bbs-3.21-bioc/R/lib -lR
installing to /home/biocbuild/bbs-3.21-bioc/R/site-library/00LOCK-NanoMethViz/00new/NanoMethViz/libs
** R
** inst
** byte-compile and prepare package for lazy loading
** help
*** installing help indices
*** copying figures
** building package indices
** installing vignettes
** testing if installed package can be loaded from temporary location
** checking absolute paths in shared objects and dynamic libraries
** testing if installed package can be loaded from final location
** testing if installed package keeps a record of temporary installation path
* DONE (NanoMethViz)
NanoMethViz.Rcheck/tests/testthat.Rout
R version 4.5.1 (2025-06-13) -- "Great Square Root"
Copyright (C) 2025 The R Foundation for Statistical Computing
Platform: x86_64-pc-linux-gnu
R is free software and comes with ABSOLUTELY NO WARRANTY.
You are welcome to redistribute it under certain conditions.
Type 'license()' or 'licence()' for distribution details.
R is a collaborative project with many contributors.
Type 'contributors()' for more information and
'citation()' on how to cite R or R packages in publications.
Type 'demo()' for some demos, 'help()' for on-line help, or
'help.start()' for an HTML browser interface to help.
Type 'q()' to quit R.
> library(testthat)
> library(NanoMethViz)
Loading required package: ggplot2
>
> test_check("NanoMethViz")
Starting 2 test processes
[ FAIL 0 | WARN 74 | SKIP 0 | PASS 631 ]
[ FAIL 0 | WARN 74 | SKIP 0 | PASS 631 ]
>
> proc.time()
user system elapsed
199.247 13.251 141.698
NanoMethViz.Rcheck/NanoMethViz-Ex.timings
| name | user | system | elapsed | |
| NanoMethResult-class | 3.431 | 0.287 | 3.720 | |
| bsseq_to_edger | 0.556 | 0.020 | 0.577 | |
| bsseq_to_log_methy_ratio | 1.001 | 0.021 | 1.022 | |
| cluster_regions | 5.092 | 0.187 | 5.280 | |
| create_tabix_file | 1.099 | 0.125 | 1.224 | |
| exons_to_genes | 0.257 | 0.000 | 0.256 | |
| filter_methy | 17.288 | 0.161 | 17.450 | |
| get_example_exons_mus_musculus | 0.218 | 0.006 | 0.224 | |
| get_exons | 43.873 | 2.089 | 46.013 | |
| get_exons_homo_sapiens | 11.537 | 0.053 | 11.590 | |
| get_exons_mus_musculus | 11.409 | 0.232 | 11.641 | |
| load_example_modbamresult | 0.231 | 0.003 | 0.234 | |
| load_example_nanomethresult | 0.218 | 0.004 | 0.222 | |
| methy | 0.002 | 0.000 | 0.002 | |
| methy_col_names | 0 | 0 | 0 | |
| methy_to_bsseq | 0.809 | 0.007 | 0.816 | |
| methy_to_edger | 0.925 | 0.007 | 0.932 | |
| modbam_to_tabix | 0.400 | 0.526 | 0.922 | |
| plot_agg_genes | 1.978 | 0.012 | 1.991 | |
| plot_agg_regions | 5.309 | 0.022 | 5.333 | |
| plot_gene | 9.712 | 0.057 | 9.769 | |
| plot_gene_heatmap | 8.028 | 0.075 | 8.103 | |
| plot_grange | 7.282 | 0.101 | 7.383 | |
| plot_grange_heatmap | 5.543 | 0.067 | 5.610 | |
| plot_mds | 1.448 | 0.024 | 1.472 | |
| plot_pca | 1.395 | 0.015 | 1.409 | |
| plot_region | 8.351 | 0.267 | 8.618 | |
| plot_region_heatmap | 5.182 | 0.076 | 5.258 | |
| plot_violin | 2.394 | 0.035 | 2.428 | |
| query_methy | 0.340 | 0.013 | 0.353 | |
| region_methy_stats | 1.041 | 0.023 | 1.064 | |