Back to Multiple platform build/check report for BioC 3.21:   simplified   long
ABCDEFGHIJKL[M]NOPQRSTUVWXYZ

This page was generated on 2025-10-02 11:42 -0400 (Thu, 02 Oct 2025).

HostnameOSArch (*)R versionInstalled pkgs
nebbiolo1Linux (Ubuntu 24.04.3 LTS)x86_644.5.1 (2025-06-13) -- "Great Square Root" 4831
merida1macOS 12.7.5 Montereyx86_644.5.1 RC (2025-06-05 r88288) -- "Great Square Root" 4612
kjohnson1macOS 13.6.6 Venturaarm644.5.1 Patched (2025-06-14 r88325) -- "Great Square Root" 4553
kunpeng2Linux (openEuler 24.03 LTS)aarch64R Under development (unstable) (2025-02-19 r87757) -- "Unsuffered Consequences" 4584
Click on any hostname to see more info about the system (e.g. compilers)      (*) as reported by 'uname -p', except on Windows and Mac OS X

Package 1412/2341HostnameOS / ArchINSTALLBUILDCHECKBUILD BIN
MutationalPatterns 3.18.0  (landing page)
Mark van Roosmalen
Snapshot Date: 2025-09-29 13:40 -0400 (Mon, 29 Sep 2025)
git_url: https://git.bioconductor.org/packages/MutationalPatterns
git_branch: RELEASE_3_21
git_last_commit: d19e340
git_last_commit_date: 2025-04-15 11:06:23 -0400 (Tue, 15 Apr 2025)
nebbiolo1Linux (Ubuntu 24.04.3 LTS) / x86_64  OK    OK    OK  UNNEEDED, same version is already published
merida1macOS 12.7.5 Monterey / x86_64  OK    ERROR  skippedskipped
kjohnson1macOS 13.6.6 Ventura / arm64  OK    ERROR  skippedskipped
kunpeng2Linux (openEuler 24.03 LTS) / aarch64  OK    OK    OK  


CHECK results for MutationalPatterns on kunpeng2

To the developers/maintainers of the MutationalPatterns package:
- Allow up to 24 hours (and sometimes 48 hours) for your latest push to git@git.bioconductor.org:packages/MutationalPatterns.git to reflect on this report. See Troubleshooting Build Report for more information.
- Use the following Renviron settings to reproduce errors and warnings.
- If 'R CMD check' started to fail recently on the Linux builder(s) over a missing dependency, add the missing dependency to 'Suggests:' in your DESCRIPTION file. See Renviron.bioc for more information.
- See Martin Grigorov's blog post for how to debug Linux ARM64 related issues on a x86_64 host.

raw results


Summary

Package: MutationalPatterns
Version: 3.18.0
Command: /home/biocbuild/R/R/bin/R CMD check --install=check:MutationalPatterns.install-out.txt --library=/home/biocbuild/R/R/site-library --no-vignettes --timings MutationalPatterns_3.18.0.tar.gz
StartedAt: 2025-09-30 12:20:04 -0000 (Tue, 30 Sep 2025)
EndedAt: 2025-09-30 12:33:33 -0000 (Tue, 30 Sep 2025)
EllapsedTime: 808.2 seconds
RetCode: 0
Status:   OK  
CheckDir: MutationalPatterns.Rcheck
Warnings: 0

Command output

##############################################################################
##############################################################################
###
### Running command:
###
###   /home/biocbuild/R/R/bin/R CMD check --install=check:MutationalPatterns.install-out.txt --library=/home/biocbuild/R/R/site-library --no-vignettes --timings MutationalPatterns_3.18.0.tar.gz
###
##############################################################################
##############################################################################


* using log directory ‘/home/biocbuild/bbs-3.21-bioc/meat/MutationalPatterns.Rcheck’
* using R Under development (unstable) (2025-02-19 r87757)
* using platform: aarch64-unknown-linux-gnu
* R was compiled by
    aarch64-unknown-linux-gnu-gcc (GCC) 14.2.0
    GNU Fortran (GCC) 14.2.0
* running under: openEuler 24.03 (LTS-SP1)
* using session charset: UTF-8
* using option ‘--no-vignettes’
* checking for file ‘MutationalPatterns/DESCRIPTION’ ... OK
* checking extension type ... Package
* this is package ‘MutationalPatterns’ version ‘3.18.0’
* package encoding: UTF-8
* checking package namespace information ... OK
* checking package dependencies ... OK
* checking if this is a source package ... OK
* checking if there is a namespace ... OK
* checking for hidden files and directories ... OK
* checking for portable file names ... OK
* checking for sufficient/correct file permissions ... OK
* checking whether package ‘MutationalPatterns’ can be installed ... OK
* checking installed package size ... OK
* checking package directory ... OK
* checking ‘build’ directory ... OK
* checking DESCRIPTION meta-information ... NOTE
License stub is invalid DCF.
* checking top-level files ... OK
* checking for left-over files ... OK
* checking index information ... OK
* checking package subdirectories ... OK
* checking code files for non-ASCII characters ... OK
* checking R files for syntax errors ... OK
* checking whether the package can be loaded ... OK
* checking whether the package can be loaded with stated dependencies ... OK
* checking whether the package can be unloaded cleanly ... OK
* checking whether the namespace can be loaded with stated dependencies ... OK
* checking whether the namespace can be unloaded cleanly ... OK
* checking loading without being on the library search path ... OK
* checking dependencies in R code ... OK
* checking S3 generic/method consistency ... OK
* checking replacement functions ... OK
* checking foreign function calls ... OK
* checking R code for possible problems ... OK
* checking Rd files ... OK
* checking Rd metadata ... OK
* checking Rd cross-references ... OK
* checking for missing documentation entries ... OK
* checking for code/documentation mismatches ... OK
* checking Rd \usage sections ... OK
* checking Rd contents ... OK
* checking for unstated dependencies in examples ... OK
* checking files in ‘vignettes’ ... OK
* checking examples ... OK
Examples with CPU (user + system) or elapsed time > 5s
                                    user system elapsed
context_potential_damage_analysis 29.859  0.527  30.451
read_vcfs_as_granges              26.637  3.000  42.642
plot_lesion_segregation           22.873  0.120  23.037
get_mut_type                      16.897  0.076  17.016
genomic_distribution              15.383  0.267  16.151
calculate_lesion_segregation      15.350  0.283  15.723
bin_mutation_density              13.253  0.547  13.834
plot_indel_contexts               12.747  0.052  12.824
plot_compare_indels               12.641  0.079  12.763
get_indel_context                  9.727  0.427  10.370
fit_to_signatures_bootstrapped     8.834  0.080   8.987
plot_spectrum_region               8.383  0.156   8.557
plot_compare_dbs                   8.376  0.036   8.432
plot_profile_heatmap               8.366  0.020   8.402
plot_river                         7.428  0.012   7.453
split_muts_region                  6.307  0.366   6.718
plot_spectrum                      6.522  0.088   6.622
mut_matrix_stranded                5.909  0.291   6.214
plot_dbs_contexts                  6.049  0.008   6.069
plot_enrichment_depletion          5.220  0.008   5.240
* checking for unstated dependencies in ‘tests’ ... OK
* checking tests ...
  Running ‘testthat.R’
 OK
* checking for unstated dependencies in vignettes ... OK
* checking package vignettes ... OK
* checking running R code from vignettes ... SKIPPED
* checking re-building of vignette outputs ... SKIPPED
* checking PDF version of manual ... OK
* DONE

Status: 1 NOTE
See
  ‘/home/biocbuild/bbs-3.21-bioc/meat/MutationalPatterns.Rcheck/00check.log’
for details.


Installation output

MutationalPatterns.Rcheck/00install.out

##############################################################################
##############################################################################
###
### Running command:
###
###   /home/biocbuild/R/R/bin/R CMD INSTALL MutationalPatterns
###
##############################################################################
##############################################################################


* installing to library ‘/home/biocbuild/R/R-devel_2025-02-19/site-library’
* installing *source* package ‘MutationalPatterns’ ...
** this is package ‘MutationalPatterns’ version ‘3.18.0’
** using staged installation
** R
** inst
** byte-compile and prepare package for lazy loading
** help
*** installing help indices
** building package indices
** installing vignettes
** testing if installed package can be loaded from temporary location
** testing if installed package can be loaded from final location
** testing if installed package keeps a record of temporary installation path
* DONE (MutationalPatterns)

Tests output

MutationalPatterns.Rcheck/tests/testthat.Rout


R Under development (unstable) (2025-02-19 r87757) -- "Unsuffered Consequences"
Copyright (C) 2025 The R Foundation for Statistical Computing
Platform: aarch64-unknown-linux-gnu

R is free software and comes with ABSOLUTELY NO WARRANTY.
You are welcome to redistribute it under certain conditions.
Type 'license()' or 'licence()' for distribution details.

R is a collaborative project with many contributors.
Type 'contributors()' for more information and
'citation()' on how to cite R or R packages in publications.

Type 'demo()' for some demos, 'help()' for on-line help, or
'help.start()' for an HTML browser interface to help.
Type 'q()' to quit R.

> library(testthat)
> library(MutationalPatterns)
Loading required package: GenomicRanges
Loading required package: stats4
Loading required package: BiocGenerics
Loading required package: generics

Attaching package: 'generics'

The following objects are masked from 'package:base':

    as.difftime, as.factor, as.ordered, intersect, is.element, setdiff,
    setequal, union


Attaching package: 'BiocGenerics'

The following objects are masked from 'package:stats':

    IQR, mad, sd, var, xtabs

The following objects are masked from 'package:base':

    Filter, Find, Map, Position, Reduce, anyDuplicated, aperm, append,
    as.data.frame, basename, cbind, colnames, dirname, do.call,
    duplicated, eval, evalq, get, grep, grepl, is.unsorted, lapply,
    mapply, match, mget, order, paste, pmax, pmax.int, pmin, pmin.int,
    rank, rbind, rownames, sapply, saveRDS, table, tapply, unique,
    unsplit, which.max, which.min

Loading required package: S4Vectors

Attaching package: 'S4Vectors'

The following object is masked from 'package:utils':

    findMatches

The following objects are masked from 'package:base':

    I, expand.grid, unname

Loading required package: IRanges
Loading required package: GenomeInfoDb
Loading required package: NMF
Loading required package: registry
Loading required package: rngtools
Loading required package: cluster
NMF - BioConductor layer [OK] | Shared memory capabilities [NO: bigmemory] | Cores 2/2
  To enable shared memory capabilities, try: install.extras('
NMF
')

Attaching package: 'NMF'

The following object is masked from 'package:S4Vectors':

    nrun

The following object is masked from 'package:generics':

    fit

The following object is masked from 'package:testthat':

    compare

> 
> test_check("MutationalPatterns")
[ FAIL 0 | WARN 5 | SKIP 0 | PASS 474 ]

[ FAIL 0 | WARN 5 | SKIP 0 | PASS 474 ]
> 
> proc.time()
   user  system elapsed 
281.315  11.812 325.643 

Example timings

MutationalPatterns.Rcheck/MutationalPatterns-Ex.timings

nameusersystemelapsed
bin_mutation_density13.253 0.54713.834
binomial_test0.0130.0000.013
calculate_lesion_segregation15.350 0.28315.723
cluster_signatures0.0720.0000.073
context_potential_damage_analysis29.859 0.52730.451
convert_sigs_to_ref0.0590.0080.070
cos_sim000
cos_sim_matrix0.0260.0040.031
count_dbs_contexts0.1130.0080.122
count_indel_contexts0.1890.0000.190
count_mbs_contexts0.0980.0000.099
determine_regional_similarity4.3160.1914.738
enrichment_depletion_test0.1980.0040.203
extract_signatures0.0020.0000.002
fit_to_signatures0.1280.0160.146
fit_to_signatures_bootstrapped8.8340.0808.987
fit_to_signatures_strict4.4010.0284.439
genomic_distribution15.383 0.26716.151
get_dbs_context0.3430.0040.349
get_indel_context 9.727 0.42710.370
get_known_signatures0.2850.0750.371
get_mut_type16.897 0.07617.016
lengthen_mut_matrix0.0070.0080.016
merge_signatures1.7310.0401.775
mut_context1.5890.1641.769
mut_matrix2.8870.1123.176
mut_matrix_stranded5.9090.2916.214
mut_strand1.4150.0081.425
mut_type0.0350.0020.038
mut_type_occurrences1.3340.0521.390
mutations_from_vcf0.0310.0040.036
plot_192_profile4.8560.0164.918
plot_96_profile4.1560.0124.179
plot_bootstrapped_contribution2.9760.0082.992
plot_compare_dbs8.3760.0368.432
plot_compare_indels12.641 0.07912.763
plot_compare_mbs1.2240.0041.231
plot_compare_profiles3.3360.0043.348
plot_contribution2.3490.0242.379
plot_contribution_heatmap2.1720.0002.176
plot_correlation_bootstrap0.7330.0000.734
plot_cosine_heatmap2.6300.0042.639
plot_dbs_contexts6.0490.0086.069
plot_enrichment_depletion5.2200.0085.240
plot_indel_contexts12.747 0.05212.824
plot_lesion_segregation22.873 0.12023.037
plot_main_dbs_contexts0.8720.0040.878
plot_main_indel_contexts0.8590.0040.865
plot_mbs_contexts0.7590.0000.761
plot_original_vs_reconstructed0.8520.0030.858
plot_profile_heatmap8.3660.0208.402
plot_profile_region1.7230.0001.726
plot_rainfall2.5360.0042.544
plot_regional_similarity2.2690.0122.286
plot_river7.4280.0127.453
plot_signature_strand_bias1.1310.0201.153
plot_spectrum6.5220.0886.622
plot_spectrum_region8.3830.1568.557
plot_strand0.3020.0040.307
plot_strand_bias1.0440.0111.058
pool_mut_mat0.0560.0010.056
read_vcfs_as_granges26.637 3.00042.642
rename_nmf_signatures0.0440.0040.048
signature_potential_damage_analysis0.1340.0040.139
split_muts_region6.3070.3666.718
strand_bias_test0.1690.0000.172
strand_occurrences0.2340.0120.249
type_context1.7950.1311.945