| Back to Multiple platform build/check report for BioC 3.21: simplified long |
|
This page was generated on 2025-08-11 11:48 -0400 (Mon, 11 Aug 2025).
| Hostname | OS | Arch (*) | R version | Installed pkgs |
|---|---|---|---|---|
| nebbiolo1 | Linux (Ubuntu 24.04.2 LTS) | x86_64 | 4.5.1 (2025-06-13) -- "Great Square Root" | 4823 |
| palomino7 | Windows Server 2022 Datacenter | x64 | 4.5.1 (2025-06-13 ucrt) -- "Great Square Root" | 4565 |
| merida1 | macOS 12.7.5 Monterey | x86_64 | 4.5.1 RC (2025-06-05 r88288) -- "Great Square Root" | 4603 |
| kjohnson1 | macOS 13.6.6 Ventura | arm64 | 4.5.1 Patched (2025-06-14 r88325) -- "Great Square Root" | 4544 |
| kunpeng2 | Linux (openEuler 24.03 LTS) | aarch64 | R Under development (unstable) (2025-02-19 r87757) -- "Unsuffered Consequences" | 4579 |
| Click on any hostname to see more info about the system (e.g. compilers) (*) as reported by 'uname -p', except on Windows and Mac OS X | ||||
| Package 1378/2341 | Hostname | OS / Arch | INSTALL | BUILD | CHECK | BUILD BIN | ||||||||
| MsQuality 1.8.2 (landing page) Thomas Naake
| nebbiolo1 | Linux (Ubuntu 24.04.2 LTS) / x86_64 | OK | OK | ERROR | |||||||||
| palomino7 | Windows Server 2022 Datacenter / x64 | OK | OK | ERROR | OK | |||||||||
| merida1 | macOS 12.7.5 Monterey / x86_64 | OK | OK | ERROR | OK | |||||||||
| kjohnson1 | macOS 13.6.6 Ventura / arm64 | OK | OK | ERROR | OK | |||||||||
| kunpeng2 | Linux (openEuler 24.03 LTS) / aarch64 | OK | OK | TIMEOUT | ||||||||||
|
To the developers/maintainers of the MsQuality package: - Allow up to 24 hours (and sometimes 48 hours) for your latest push to git@git.bioconductor.org:packages/MsQuality.git to reflect on this report. See Troubleshooting Build Report for more information. - Use the following Renviron settings to reproduce errors and warnings. - If 'R CMD check' started to fail recently on the Linux builder(s) over a missing dependency, add the missing dependency to 'Suggests:' in your DESCRIPTION file. See Renviron.bioc for more information. - See Martin Grigorov's blog post for how to debug Linux ARM64 related issues on a x86_64 host. |
| Package: MsQuality |
| Version: 1.8.2 |
| Command: /home/biocbuild/R/R/bin/R CMD check --install=check:MsQuality.install-out.txt --library=/home/biocbuild/R/R/site-library --no-vignettes --timings MsQuality_1.8.2.tar.gz |
| StartedAt: 2025-08-08 11:52:24 -0000 (Fri, 08 Aug 2025) |
| EndedAt: 2025-08-08 12:32:24 -0000 (Fri, 08 Aug 2025) |
| EllapsedTime: 2400.3 seconds |
| RetCode: None |
| Status: TIMEOUT |
| CheckDir: MsQuality.Rcheck |
| Warnings: NA |
##############################################################################
##############################################################################
###
### Running command:
###
### /home/biocbuild/R/R/bin/R CMD check --install=check:MsQuality.install-out.txt --library=/home/biocbuild/R/R/site-library --no-vignettes --timings MsQuality_1.8.2.tar.gz
###
##############################################################################
##############################################################################
* using log directory ‘/home/biocbuild/bbs-3.21-bioc/meat/MsQuality.Rcheck’
* using R Under development (unstable) (2025-02-19 r87757)
* using platform: aarch64-unknown-linux-gnu
* R was compiled by
aarch64-unknown-linux-gnu-gcc (GCC) 14.2.0
GNU Fortran (GCC) 14.2.0
* running under: openEuler 24.03 (LTS-SP1)
* using session charset: UTF-8
* using option ‘--no-vignettes’
* checking for file ‘MsQuality/DESCRIPTION’ ... OK
* checking extension type ... Package
* this is package ‘MsQuality’ version ‘1.8.2’
* package encoding: UTF-8
* checking package namespace information ... OK
* checking package dependencies ... OK
* checking if this is a source package ... OK
* checking if there is a namespace ... OK
* checking for hidden files and directories ... OK
* checking for portable file names ... OK
* checking for sufficient/correct file permissions ... OK
* checking whether package ‘MsQuality’ can be installed ... OK
* checking installed package size ... OK
* checking package directory ... OK
* checking ‘build’ directory ... OK
* checking DESCRIPTION meta-information ... OK
* checking top-level files ... OK
* checking for left-over files ... OK
* checking index information ... OK
* checking package subdirectories ... OK
* checking code files for non-ASCII characters ... OK
* checking R files for syntax errors ... OK
* checking whether the package can be loaded ... OK
* checking whether the package can be loaded with stated dependencies ... OK
* checking whether the package can be unloaded cleanly ... OK
* checking whether the namespace can be loaded with stated dependencies ... OK
* checking whether the namespace can be unloaded cleanly ... OK
* checking loading without being on the library search path ... OK
* checking dependencies in R code ... OK
* checking S3 generic/method consistency ... OK
* checking replacement functions ... OK
* checking foreign function calls ... OK
* checking R code for possible problems ... OK
* checking Rd files ... OK
* checking Rd metadata ... OK
* checking Rd cross-references ... OK
* checking for missing documentation entries ... OK
* checking for code/documentation mismatches ... OK
* checking Rd \usage sections ... OK
* checking Rd contents ... OK
* checking for unstated dependencies in examples ... OK
* checking contents of ‘data’ directory ... OK
* checking data for non-ASCII characters ... OK
* checking data for ASCII and uncompressed saves ... OK
* checking files in ‘vignettes’ ... OK
* checking examples ... OK
Examples with CPU (user + system) or elapsed time > 5s
user system elapsed
calculateMetricsFromMsExperiment 7.262 1.518 4.008
calculateMetrics 7.262 1.076 8.032
transformIntoMzQC 6.593 1.410 7.182
plotMetric 3.446 0.743 5.669
* checking for unstated dependencies in ‘tests’ ... OK
* checking tests ...
Running ‘testthat.R’
MsQuality.Rcheck/00install.out
############################################################################## ############################################################################## ### ### Running command: ### ### /home/biocbuild/R/R/bin/R CMD INSTALL MsQuality ### ############################################################################## ############################################################################## * installing to library ‘/home/biocbuild/R/R-devel_2025-02-19/site-library’ * installing *source* package ‘MsQuality’ ... ** this is package ‘MsQuality’ version ‘1.8.2’ ** using staged installation ** R ** data ** inst ** byte-compile and prepare package for lazy loading ** help *** installing help indices ** building package indices ** installing vignettes ** testing if installed package can be loaded from temporary location ** testing if installed package can be loaded from final location ** testing if installed package keeps a record of temporary installation path * DONE (MsQuality)
MsQuality.Rcheck/tests/testthat.Rout
R Under development (unstable) (2025-02-19 r87757) -- "Unsuffered Consequences"
Copyright (C) 2025 The R Foundation for Statistical Computing
Platform: aarch64-unknown-linux-gnu
R is free software and comes with ABSOLUTELY NO WARRANTY.
You are welcome to redistribute it under certain conditions.
Type 'license()' or 'licence()' for distribution details.
R is a collaborative project with many contributors.
Type 'contributors()' for more information and
'citation()' on how to cite R or R packages in publications.
Type 'demo()' for some demos, 'help()' for on-line help, or
'help.start()' for an HTML browser interface to help.
Type 'q()' to quit R.
> library("testthat")
> library("MsQuality")
> library("Spectra")
Loading required package: S4Vectors
Loading required package: stats4
Loading required package: BiocGenerics
Loading required package: generics
Attaching package: 'generics'
The following objects are masked from 'package:base':
as.difftime, as.factor, as.ordered, intersect, is.element, setdiff,
setequal, union
Attaching package: 'BiocGenerics'
The following objects are masked from 'package:stats':
IQR, mad, sd, var, xtabs
The following objects are masked from 'package:base':
Filter, Find, Map, Position, Reduce, anyDuplicated, aperm, append,
as.data.frame, basename, cbind, colnames, dirname, do.call,
duplicated, eval, evalq, get, grep, grepl, is.unsorted, lapply,
mapply, match, mget, order, paste, pmax, pmax.int, pmin, pmin.int,
rank, rbind, rownames, sapply, saveRDS, table, tapply, unique,
unsplit, which.max, which.min
Attaching package: 'S4Vectors'
The following object is masked from 'package:utils':
findMatches
The following objects are masked from 'package:base':
I, expand.grid, unname
Loading required package: BiocParallel
> library("MsExperiment")
Loading required package: ProtGenerics
Attaching package: 'ProtGenerics'
The following object is masked from 'package:stats':
smooth
> library("msdata")
> library("S4Vectors")
>
> test_check("MsQuality")
MsQuality.Rcheck/MsQuality-Ex.timings
| name | user | system | elapsed | |
| MsQuality-package | 0.000 | 0.000 | 0.001 | |
| areaUnderTic | 0.253 | 0.020 | 0.274 | |
| areaUnderTicRtQuantiles | 0.259 | 0.004 | 0.263 | |
| calculateMetrics | 7.262 | 1.076 | 8.032 | |
| calculateMetricsFromMsExperiment | 7.262 | 1.518 | 4.008 | |
| calculateMetricsFromOneSampleSpectra | 4.144 | 0.545 | 3.094 | |
| calculateMetricsFromSpectra | 3.025 | 0.734 | 3.514 | |
| chromatographyDuration | 2.749 | 0.468 | 0.167 | |
| dot-rtOrderSpectra | 0.163 | 0.036 | 0.199 | |
| extentIdentifiedPrecursorIntensity | 0.153 | 0.006 | 0.160 | |
| meanCharge | 0.156 | 0.005 | 0.161 | |
| medianCharge | 0.137 | 0.012 | 0.149 | |
| medianPrecursorMz | 0.134 | 0.016 | 0.151 | |
| medianTicOfRtRange | 0.146 | 0.012 | 0.158 | |
| medianTicRtIqr | 0.133 | 0.025 | 0.159 | |
| msSignal10xChange | 0.163 | 0.024 | 0.187 | |
| mzAcquisitionRange | 0.140 | 0.004 | 0.144 | |
| numberEmptyScans | 0.139 | 0.020 | 0.159 | |
| numberSpectra | 0.142 | 0.000 | 0.143 | |
| plotMetric | 3.446 | 0.743 | 5.669 | |
| plotMetricTibble | 3.186 | 0.845 | 2.233 | |
| precursorIntensityMean | 0.141 | 0.023 | 0.165 | |
| precursorIntensityQuartiles | 0.147 | 0.048 | 0.195 | |
| precursorIntensityRange | 0.142 | 0.012 | 0.155 | |
| precursorIntensitySd | 0.144 | 0.008 | 0.152 | |
| qualityMetrics | 0.143 | 0.016 | 0.159 | |
| ratioCharge1over2 | 0.150 | 0.008 | 0.159 | |
| ratioCharge3over2 | 0.145 | 0.008 | 0.154 | |
| ratioCharge4over2 | 0.147 | 0.008 | 0.155 | |
| rtAcquisitionRange | 0.146 | 0.020 | 0.167 | |
| rtIqr | 0.213 | 0.068 | 0.281 | |
| rtIqrRate | 0.166 | 0.009 | 0.176 | |
| rtOverMsQuarters | 0.142 | 0.020 | 0.163 | |
| shinyMsQuality | 1.856 | 0.542 | 2.226 | |
| ticQuantileRtFraction | 1.473 | 0.303 | 0.179 | |
| ticQuartileToQuartileLogRatio | 0.156 | 0.012 | 0.170 | |
| transformIntoMzQC | 6.593 | 1.410 | 7.182 | |