Back to Multiple platform build/check report for BioC 3.21:   simplified   long
ABCDEFGHIJKL[M]NOPQRSTUVWXYZ

This page was generated on 2025-02-11 11:43 -0500 (Tue, 11 Feb 2025).

HostnameOSArch (*)R versionInstalled pkgs
nebbiolo1Linux (Ubuntu 24.04.1 LTS)x86_64R Under development (unstable) (2025-01-20 r87609) -- "Unsuffered Consequences" 4719
palomino7Windows Server 2022 Datacenterx64R Under development (unstable) (2025-01-21 r87610 ucrt) -- "Unsuffered Consequences" 4480
lconwaymacOS 12.7.1 Montereyx86_64R Under development (unstable) (2025-01-22 r87618) -- "Unsuffered Consequences" 4491
kjohnson3macOS 13.7.1 Venturaarm64R Under development (unstable) (2025-01-20 r87609) -- "Unsuffered Consequences" 4444
Click on any hostname to see more info about the system (e.g. compilers)      (*) as reported by 'uname -p', except on Windows and Mac OS X

Package 1338/2295HostnameOS / ArchINSTALLBUILDCHECKBUILD BIN
MsBackendSql 1.7.3  (landing page)
Johannes Rainer
Snapshot Date: 2025-02-10 13:40 -0500 (Mon, 10 Feb 2025)
git_url: https://git.bioconductor.org/packages/MsBackendSql
git_branch: devel
git_last_commit: b1a65a0
git_last_commit_date: 2025-01-24 06:25:18 -0500 (Fri, 24 Jan 2025)
nebbiolo1Linux (Ubuntu 24.04.1 LTS) / x86_64  OK    OK    OK  UNNEEDED, same version is already published
palomino7Windows Server 2022 Datacenter / x64  OK    OK    OK    OK  UNNEEDED, same version is already published
lconwaymacOS 12.7.1 Monterey / x86_64  OK    OK    OK    OK  UNNEEDED, same version is already published
kjohnson3macOS 13.7.1 Ventura / arm64  OK    OK    OK    OK  UNNEEDED, same version is already published


CHECK results for MsBackendSql on kjohnson3

To the developers/maintainers of the MsBackendSql package:
- Allow up to 24 hours (and sometimes 48 hours) for your latest push to git@git.bioconductor.org:packages/MsBackendSql.git to reflect on this report. See Troubleshooting Build Report for more information.
- Use the following Renviron settings to reproduce errors and warnings.
- If 'R CMD check' started to fail recently on the Linux builder(s) over a missing dependency, add the missing dependency to 'Suggests:' in your DESCRIPTION file. See Renviron.bioc for more information.

raw results


Summary

Package: MsBackendSql
Version: 1.7.3
Command: /Library/Frameworks/R.framework/Resources/bin/R CMD check --install=check:MsBackendSql.install-out.txt --library=/Library/Frameworks/R.framework/Resources/library --no-vignettes --timings MsBackendSql_1.7.3.tar.gz
StartedAt: 2025-02-10 20:19:05 -0500 (Mon, 10 Feb 2025)
EndedAt: 2025-02-10 20:21:20 -0500 (Mon, 10 Feb 2025)
EllapsedTime: 134.6 seconds
RetCode: 0
Status:   OK  
CheckDir: MsBackendSql.Rcheck
Warnings: 0

Command output

##############################################################################
##############################################################################
###
### Running command:
###
###   /Library/Frameworks/R.framework/Resources/bin/R CMD check --install=check:MsBackendSql.install-out.txt --library=/Library/Frameworks/R.framework/Resources/library --no-vignettes --timings MsBackendSql_1.7.3.tar.gz
###
##############################################################################
##############################################################################


* using log directory ‘/Users/biocbuild/bbs-3.21-bioc/meat/MsBackendSql.Rcheck’
* using R Under development (unstable) (2025-01-20 r87609)
* using platform: aarch64-apple-darwin20
* R was compiled by
    Apple clang version 14.0.0 (clang-1400.0.29.202)
    GNU Fortran (GCC) 14.2.0
* running under: macOS Ventura 13.7.1
* using session charset: UTF-8
* using option ‘--no-vignettes’
* checking for file ‘MsBackendSql/DESCRIPTION’ ... OK
* this is package ‘MsBackendSql’ version ‘1.7.3’
* package encoding: UTF-8
* checking package namespace information ... OK
* checking package dependencies ... OK
* checking if this is a source package ... OK
* checking if there is a namespace ... OK
* checking for hidden files and directories ... OK
* checking for portable file names ... OK
* checking for sufficient/correct file permissions ... OK
* checking whether package ‘MsBackendSql’ can be installed ... OK
* checking installed package size ... OK
* checking package directory ... OK
* checking ‘build’ directory ... OK
* checking DESCRIPTION meta-information ... OK
* checking top-level files ... OK
* checking for left-over files ... OK
* checking index information ... OK
* checking package subdirectories ... OK
* checking code files for non-ASCII characters ... OK
* checking R files for syntax errors ... OK
* checking whether the package can be loaded ... OK
* checking whether the package can be loaded with stated dependencies ... OK
* checking whether the package can be unloaded cleanly ... OK
* checking whether the namespace can be loaded with stated dependencies ... OK
* checking whether the namespace can be unloaded cleanly ... OK
* checking dependencies in R code ... OK
* checking S3 generic/method consistency ... OK
* checking replacement functions ... OK
* checking foreign function calls ... OK
* checking R code for possible problems ... OK
* checking Rd files ... OK
* checking Rd metadata ... OK
* checking Rd cross-references ... OK
* checking for missing documentation entries ... OK
* checking for code/documentation mismatches ... OK
* checking Rd \usage sections ... OK
* checking Rd contents ... OK
* checking for unstated dependencies in examples ... OK
* checking files in ‘vignettes’ ... OK
* checking examples ... OK
* checking for unstated dependencies in ‘tests’ ... OK
* checking tests ...
  Running ‘testthat.R’
 OK
* checking for unstated dependencies in vignettes ... OK
* checking package vignettes ... OK
* checking running R code from vignettes ... SKIPPED
* checking re-building of vignette outputs ... SKIPPED
* checking PDF version of manual ... OK
* DONE

Status: OK


Installation output

MsBackendSql.Rcheck/00install.out

##############################################################################
##############################################################################
###
### Running command:
###
###   /Library/Frameworks/R.framework/Resources/bin/R CMD INSTALL MsBackendSql
###
##############################################################################
##############################################################################


* installing to library ‘/Library/Frameworks/R.framework/Versions/4.5-arm64/Resources/library’
* installing *source* package ‘MsBackendSql’ ...
** this is package ‘MsBackendSql’ version ‘1.7.3’
** using staged installation
** R
** byte-compile and prepare package for lazy loading
** help
*** installing help indices
*** copying figures
** building package indices
** installing vignettes
** testing if installed package can be loaded from temporary location
** testing if installed package can be loaded from final location
** testing if installed package keeps a record of temporary installation path
* DONE (MsBackendSql)

Tests output

MsBackendSql.Rcheck/tests/testthat.Rout


R Under development (unstable) (2025-01-20 r87609) -- "Unsuffered Consequences"
Copyright (C) 2025 The R Foundation for Statistical Computing
Platform: aarch64-apple-darwin20

R is free software and comes with ABSOLUTELY NO WARRANTY.
You are welcome to redistribute it under certain conditions.
Type 'license()' or 'licence()' for distribution details.

R is a collaborative project with many contributors.
Type 'contributors()' for more information and
'citation()' on how to cite R or R packages in publications.

Type 'demo()' for some demos, 'help()' for on-line help, or
'help.start()' for an HTML browser interface to help.
Type 'q()' to quit R.

> library(testthat)
> library(MsBackendSql)
Loading required package: Spectra
Loading required package: S4Vectors
Loading required package: stats4
Loading required package: BiocGenerics
Loading required package: generics

Attaching package: 'generics'

The following objects are masked from 'package:base':

    as.difftime, as.factor, as.ordered, intersect, is.element, setdiff,
    setequal, union


Attaching package: 'BiocGenerics'

The following objects are masked from 'package:stats':

    IQR, mad, sd, var, xtabs

The following objects are masked from 'package:base':

    Filter, Find, Map, Position, Reduce, anyDuplicated, aperm, append,
    as.data.frame, basename, cbind, colnames, dirname, do.call,
    duplicated, eval, evalq, get, grep, grepl, is.unsorted, lapply,
    mapply, match, mget, order, paste, pmax, pmax.int, pmin, pmin.int,
    rank, rbind, rownames, sapply, saveRDS, table, tapply, unique,
    unsplit, which.max, which.min


Attaching package: 'S4Vectors'

The following object is masked from 'package:utils':

    findMatches

The following objects are masked from 'package:base':

    I, expand.grid, unname

Loading required package: BiocParallel
> library(Spectra)
> library(RSQLite)
> library(msdata)
> 
> setClass("DummySQL",
+          contains = "SQLiteConnection")
> 
> setMethod("dbExecute", c("DummySQL", "character"),
+           function(conn, statement, ...) {
+               TRUE
+           })
> 
> mm8_file <- system.file("microtofq", "MM8.mzML", package = "msdata")
> mm8_sps <- Spectra(mm8_file)
> mm8_db_long <- dbConnect(SQLite(), tempfile())
> createMsBackendSqlDatabase(mm8_db_long, mm8_file, blob = FALSE,
+                            peaksStorageMode = "long")
Importing data ... 

[==========================================================] 1/1 (100%) in  0s
Creating indices .... Done
[1] TRUE
> mm8_be_long <- backendInitialize(MsBackendSql(), mm8_db_long)
> 
> mm8_db_blob <- dbConnect(SQLite(), tempfile())
> createMsBackendSqlDatabase(mm8_db_blob, mm8_file, blob = TRUE,
+                            peaksStorageMode = "blob")
Importing data ... 

[==========================================================] 1/1 (100%) in  0s
Creating indices .... Done
[1] TRUE
> mm8_be_blob <- backendInitialize(MsBackendSql(), mm8_db_blob)
> 
> mm8_db_blob2 <- dbConnect(SQLite(), tempfile())
> createMsBackendSqlDatabase(mm8_db_blob2, mm8_file, blob = TRUE,
+                            peaksStorageMode = "blob2")
Importing data ... 

[==========================================================] 1/1 (100%) in  0s
Creating indices .... Done
[1] TRUE
> mm8_be_blob2 <- backendInitialize(MsBackendSql(), mm8_db_blob2)
> 
> mm14_file <- system.file("microtofq", "MM14.mzML", package = "msdata")
> mm_db <- dbConnect(SQLite(), tempfile())
> createMsBackendSqlDatabase(mm_db, c(mm8_file, mm14_file), blob = FALSE)
Importing data ... 

[==========================================================] 1/1 (100%) in  1s
Creating indices .... Done
[1] TRUE
> mm_be <- backendInitialize(MsBackendSql(), mm_db)
> 
> tmt_file <- proteomics(full.names = TRUE)[4L]
> tmt_mzr <- backendInitialize(MsBackendMzR(), tmt_file)
> tmt_db <- dbConnect(SQLite(), tempfile())
> createMsBackendSqlDatabase(tmt_db, tmt_file, blob = FALSE)
Importing data ... 

[==========================================================] 1/1 (100%) in 28s
Creating indices .... Done
[1] TRUE
> tmt_be <- backendInitialize(MsBackendSql(), tmt_db)
> 
> test_check("MsBackendSql")
[ FAIL 0 | WARN 2 | SKIP 1 | PASS 448 ]

══ Skipped tests (1) ═══════════════════════════════════════════════════════════
• empty test (1): 'test_MsBackendSql-functions.R:414:1'

[ FAIL 0 | WARN 2 | SKIP 1 | PASS 448 ]
> 
> test_suite <- system.file("test_backends", "test_MsBackend",
+                           package = "Spectra")
> 
> be <- mm8_be_blob
> test_dir(test_suite, stop_on_failure = TRUE)
✔ | F W  S  OK | Context

⠏ |          0 | peaks_variables                                                
✔ |          4 | peaks_variables

⠏ |          0 | spectra_subsetting                                             
⠸ |         84 | spectra_subsetting                                             
⠇ |        179 | spectra_subsetting                                             
⠼ |        275 | spectra_subsetting                                             
⠏ |        380 | spectra_subsetting                                             
⠧ |        478 | spectra_subsetting                                             
⠼ |        575 | spectra_subsetting                                             
⠋ |        601 | spectra_subsetting                                             
⠸ |        604 | spectra_subsetting                                             
⠧ |        608 | spectra_subsetting                                             
⠙ |        612 | spectra_subsetting                                             
⠴ |        616 | spectra_subsetting                                             
⠏ |        620 | spectra_subsetting                                             
⠸ |        624 | spectra_subsetting                                             
⠧ |        628 | spectra_subsetting                                             
⠙ |        632 | spectra_subsetting                                             
⠴ |        636 | spectra_subsetting                                             
⠇ |        639 | spectra_subsetting                                             
⠹ |        643 | spectra_subsetting                                             
⠴ |        646 | spectra_subsetting                                             
⠏ |        650 | spectra_subsetting                                             
⠹ |        653 | spectra_subsetting                                             
⠦ |        657 | spectra_subsetting                                             
⠋ |        661 | spectra_subsetting                                             
⠼ |        665 | spectra_subsetting                                             
⠇ |        669 | spectra_subsetting                                             
⠙ |        672 | spectra_subsetting                                             
⠼ |        675 | spectra_subsetting                                             
⠧ |        678 | spectra_subsetting                                             
⠙ |        682 | spectra_subsetting                                             
⠴ |        686 | spectra_subsetting                                             
⠇ |        689 | spectra_subsetting                                             
⠙ |        692 | spectra_subsetting                                             
⠴ |        696 | spectra_subsetting                                             
⠏ |        700 | spectra_subsetting                                             
⠸ |        704 | spectra_subsetting                                             
⠧ |        708 | spectra_subsetting                                             
⠙ |        712 | spectra_subsetting                                             
⠴ |        716 | spectra_subsetting                                             
⠏ |        720 | spectra_subsetting                                             
⠸ |        724 | spectra_subsetting                                             
⠧ |        728 | spectra_subsetting                                             
⠙ |        732 | spectra_subsetting                                             
⠴ |        736 | spectra_subsetting                                             
⠏ |        740 | spectra_subsetting                                             
⠸ |        744 | spectra_subsetting                                             
⠧ |        748 | spectra_subsetting                                             
⠙ |        752 | spectra_subsetting                                             
⠴ |        756 | spectra_subsetting                                             
⠇ |        759 | spectra_subsetting                                             
⠙ |        762 | spectra_subsetting                                             
⠼ |        765 | spectra_subsetting                                             
⠧ |        768 | spectra_subsetting                                             
⠙ |        772 | spectra_subsetting                                             
⠼ |        775 | spectra_subsetting                                             
⠇ |        779 | spectra_subsetting                                             
⠹ |        783 | spectra_subsetting                                             
⠦ |        787 | spectra_subsetting                                             
⠏ |        790 | spectra_subsetting                                             
⠸ |        794 | spectra_subsetting                                             
⠇ |        799 | spectra_subsetting                                             
⠼ |        815 | spectra_subsetting                                             
⠏ |        830 | spectra_subsetting                                             
✔ |        830 | spectra_subsetting [7.4s]

⠏ |          0 | spectra_variables                                              
⠸ |         14 | spectra_variables                                              
⠋ |         41 | spectra_variables                                              
⠙ |         62 | spectra_variables                                              
✔ |         64 | spectra_variables

══ Results ═════════════════════════════════════════════════════════════════════
Duration: 7.8 s

[ FAIL 0 | WARN 0 | SKIP 0 | PASS 898 ]

🌈 Your tests are over the rainbow 🌈
Warning message:
call dbDisconnect() when finished working with a connection 
> 
> be <- tmt_be[sample(seq_along(tmt_be), 300)]
> test_dir(test_suite, stop_on_failure = TRUE)
✔ | F W  S  OK | Context

⠏ |          0 | peaks_variables                                                
⠙ |          2 | peaks_variables                                                
⠸ |          4 | peaks_variables                                                
✔ |          4 | peaks_variables [1.5s]

⠏ |          0 | spectra_subsetting                                             
⠸ |         74 | spectra_subsetting                                             
⠼ |        115 | spectra_subsetting                                             
⠏ |        220 | spectra_subsetting                                             
⠴ |        316 | spectra_subsetting                                             
⠹ |        423 | spectra_subsetting                                             
⠹ |        523 | spectra_subsetting                                             
⠙ |        622 | spectra_subsetting                                             
⠼ |        725 | spectra_subsetting                                             
⠧ |        818 | spectra_subsetting                                             
⠼ |        905 | spectra_subsetting                                             
⠧ |        908 | spectra_subsetting                                             
⠙ |        912 | spectra_subsetting                                             
⠴ |        916 | spectra_subsetting                                             
⠏ |        920 | spectra_subsetting                                             
⠙ |        922 | spectra_subsetting                                             
⠴ |        926 | spectra_subsetting                                             
⠏ |        930 | spectra_subsetting                                             
⠸ |        934 | spectra_subsetting                                             
⠧ |        938 | spectra_subsetting                                             
⠋ |        941 | spectra_subsetting                                             
⠹ |        943 | spectra_subsetting                                             
⠼ |        945 | spectra_subsetting                                             
⠇ |        949 | spectra_subsetting                                             
⠹ |        953 | spectra_subsetting                                             
⠦ |        957 | spectra_subsetting                                             
⠋ |        961 | spectra_subsetting                                             
⠼ |        965 | spectra_subsetting                                             
⠇ |        969 | spectra_subsetting                                             
⠙ |        972 | spectra_subsetting                                             
⠼ |        975 | spectra_subsetting                                             
⠇ |        979 | spectra_subsetting                                             
⠋ |        981 | spectra_subsetting                                             
⠸ |        984 | spectra_subsetting                                             
⠦ |        987 | spectra_subsetting                                             
⠏ |        990 | spectra_subsetting                                             
⠹ |        993 | spectra_subsetting                                             
⠦ |        997 | spectra_subsetting                                             
⠇ |        999 | spectra_subsetting                                             
⠙ |        1002 | spectra_subsetting                                            
⠼ |        1005 | spectra_subsetting                                            
⠇ |        1009 | spectra_subsetting                                            
⠹ |        1013 | spectra_subsetting                                            
⠦ |        1017 | spectra_subsetting                                            
⠋ |        1021 | spectra_subsetting                                            
⠼ |        1025 | spectra_subsetting                                            
⠇ |        1029 | spectra_subsetting                                            
⠹ |        1033 | spectra_subsetting                                            
⠴ |        1036 | spectra_subsetting                                            
⠏ |        1040 | spectra_subsetting                                            
⠙ |        1042 | spectra_subsetting                                            
⠼ |        1045 | spectra_subsetting                                            
⠇ |        1049 | spectra_subsetting                                            
⠙ |        1052 | spectra_subsetting                                            
⠼ |        1055 | spectra_subsetting                                            
⠇ |        1059 | spectra_subsetting                                            
⠹ |        1063 | spectra_subsetting                                            
⠦ |        1067 | spectra_subsetting                                            
⠏ |        1070 | spectra_subsetting                                            
⠸ |        1074 | spectra_subsetting                                            
⠴ |        1076 | spectra_subsetting                                            
⠏ |        1080 | spectra_subsetting                                            
⠸ |        1084 | spectra_subsetting                                            
⠴ |        1086 | spectra_subsetting                                            
⠧ |        1088 | spectra_subsetting                                            
⠙ |        1092 | spectra_subsetting                                            
⠴ |        1096 | spectra_subsetting                                            
⠏ |        1100 | spectra_subsetting                                            
⠙ |        1102 | spectra_subsetting                                            
⠸ |        1104 | spectra_subsetting                                            
⠧ |        1108 | spectra_subsetting                                            
⠋ |        1111 | spectra_subsetting                                            
⠼ |        1115 | spectra_subsetting                                            
⠇ |        1119 | spectra_subsetting                                            
⠙ |        1122 | spectra_subsetting                                            
⠸ |        1124 | spectra_subsetting                                            
⠧ |        1128 | spectra_subsetting                                            
⠙ |        1132 | spectra_subsetting                                            
⠼ |        1135 | spectra_subsetting                                            
⠇ |        1139 | spectra_subsetting                                            
⠹ |        1143 | spectra_subsetting                                            
⠦ |        1147 | spectra_subsetting                                            
⠇ |        1149 | spectra_subsetting                                            
⠙ |        1152 | spectra_subsetting                                            
⠴ |        1156 | spectra_subsetting                                            
⠏ |        1160 | spectra_subsetting                                            
⠸ |        1164 | spectra_subsetting                                            
⠧ |        1168 | spectra_subsetting                                            
⠙ |        1172 | spectra_subsetting                                            
⠸ |        1174 | spectra_subsetting                                            
⠧ |        1178 | spectra_subsetting                                            
⠙ |        1182 | spectra_subsetting                                            
⠸ |        1184 | spectra_subsetting                                            
⠧ |        1188 | spectra_subsetting                                            
⠙ |        1192 | spectra_subsetting                                            
⠸ |        1194 | spectra_subsetting                                            
⠧ |        1198 | spectra_subsetting                                            
⠋ |        1201 | spectra_subsetting                                            
⠦ |        1207 | spectra_subsetting                                            
⠦ |        1217 | spectra_subsetting                                            
⠹ |        1223 | spectra_subsetting                                            
⠧ |        1238 | spectra_subsetting                                            
✔ |        1238 | spectra_subsetting [17.7s]

⠏ |          0 | spectra_variables                                              
⠙ |         12 | spectra_variables                                              
⠸ |         14 | spectra_variables                                              
⠴ |         16 | spectra_variables                                              
⠦ |         27 | spectra_variables                                              
⠇ |         29 | spectra_variables                                              
⠋ |         31 | spectra_variables                                              
⠹ |         43 | spectra_variables                                              
⠸ |         54 | spectra_variables                                              
✔ |         64 | spectra_variables [6.0s]

══ Results ═════════════════════════════════════════════════════════════════════
Duration: 25.2 s

[ FAIL 0 | WARN 0 | SKIP 0 | PASS 1306 ]
> 
> dbDisconnect(mm8_db_long)
> dbDisconnect(mm8_db_blob)
> dbDisconnect(mm8_db_blob2)
> dbDisconnect(mm_db)
> dbDisconnect(tmt_db)
> 
> proc.time()
   user  system elapsed 
 91.844   9.960 101.603 

Example timings

MsBackendSql.Rcheck/MsBackendSql-Ex.timings

nameusersystemelapsed
MsBackendSql1.1880.2001.395