Back to Multiple platform build/check report for BioC 3.21: simplified long |
|
This page was generated on 2025-02-15 11:40 -0500 (Sat, 15 Feb 2025).
Hostname | OS | Arch (*) | R version | Installed pkgs |
---|---|---|---|---|
nebbiolo1 | Linux (Ubuntu 24.04.1 LTS) | x86_64 | R Under development (unstable) (2025-01-20 r87609) -- "Unsuffered Consequences" | 4720 |
palomino7 | Windows Server 2022 Datacenter | x64 | R Under development (unstable) (2025-01-21 r87610 ucrt) -- "Unsuffered Consequences" | 4482 |
lconway | macOS 12.7.1 Monterey | x86_64 | R Under development (unstable) (2025-01-22 r87618) -- "Unsuffered Consequences" | 4493 |
kjohnson3 | macOS 13.7.1 Ventura | arm64 | R Under development (unstable) (2025-01-20 r87609) -- "Unsuffered Consequences" | 4446 |
Click on any hostname to see more info about the system (e.g. compilers) (*) as reported by 'uname -p', except on Windows and Mac OS X |
Package 1337/2295 | Hostname | OS / Arch | INSTALL | BUILD | CHECK | BUILD BIN | ||||||||
MsBackendRawFileReader 1.13.1 (landing page) Christian Panse
| nebbiolo1 | Linux (Ubuntu 24.04.1 LTS) / x86_64 | OK | OK | OK | ![]() | ||||||||
palomino7 | Windows Server 2022 Datacenter / x64 | OK | OK | OK | OK | ![]() | ||||||||
lconway | macOS 12.7.1 Monterey / x86_64 | OK | OK | OK | OK | ![]() | ||||||||
kjohnson3 | macOS 13.7.1 Ventura / arm64 | OK | OK | OK | OK | ![]() | ||||||||
To the developers/maintainers of the MsBackendRawFileReader package: - Allow up to 24 hours (and sometimes 48 hours) for your latest push to git@git.bioconductor.org:packages/MsBackendRawFileReader.git to reflect on this report. See Troubleshooting Build Report for more information. - Use the following Renviron settings to reproduce errors and warnings. - If 'R CMD check' started to fail recently on the Linux builder(s) over a missing dependency, add the missing dependency to 'Suggests:' in your DESCRIPTION file. See Renviron.bioc for more information. |
Package: MsBackendRawFileReader |
Version: 1.13.1 |
Command: /home/biocbuild/bbs-3.21-bioc/R/bin/R CMD check --install=check:MsBackendRawFileReader.install-out.txt --library=/home/biocbuild/bbs-3.21-bioc/R/site-library --timings MsBackendRawFileReader_1.13.1.tar.gz |
StartedAt: 2025-02-15 00:12:05 -0500 (Sat, 15 Feb 2025) |
EndedAt: 2025-02-15 00:16:50 -0500 (Sat, 15 Feb 2025) |
EllapsedTime: 285.3 seconds |
RetCode: 0 |
Status: OK |
CheckDir: MsBackendRawFileReader.Rcheck |
Warnings: 0 |
############################################################################## ############################################################################## ### ### Running command: ### ### /home/biocbuild/bbs-3.21-bioc/R/bin/R CMD check --install=check:MsBackendRawFileReader.install-out.txt --library=/home/biocbuild/bbs-3.21-bioc/R/site-library --timings MsBackendRawFileReader_1.13.1.tar.gz ### ############################################################################## ############################################################################## * using log directory ‘/home/biocbuild/bbs-3.21-bioc/meat/MsBackendRawFileReader.Rcheck’ * using R Under development (unstable) (2025-01-20 r87609) * using platform: x86_64-pc-linux-gnu * R was compiled by gcc (Ubuntu 13.3.0-6ubuntu2~24.04) 13.3.0 GNU Fortran (Ubuntu 13.3.0-6ubuntu2~24.04) 13.3.0 * running under: Ubuntu 24.04.2 LTS * using session charset: UTF-8 * checking for file ‘MsBackendRawFileReader/DESCRIPTION’ ... OK * checking extension type ... Package * this is package ‘MsBackendRawFileReader’ version ‘1.13.1’ * package encoding: UTF-8 * checking package namespace information ... OK * checking package dependencies ... OK * checking if this is a source package ... OK * checking if there is a namespace ... OK * checking for hidden files and directories ... OK * checking for portable file names ... OK * checking for sufficient/correct file permissions ... OK * checking whether package ‘MsBackendRawFileReader’ can be installed ... OK * checking installed package size ... OK * checking package directory ... OK * checking ‘build’ directory ... OK * checking DESCRIPTION meta-information ... OK * checking top-level files ... OK * checking for left-over files ... OK * checking index information ... OK * checking package subdirectories ... OK * checking code files for non-ASCII characters ... OK * checking R files for syntax errors ... OK * checking whether the package can be loaded ... OK * checking whether the package can be loaded with stated dependencies ... OK * checking whether the package can be unloaded cleanly ... OK * checking whether the namespace can be loaded with stated dependencies ... OK * checking whether the namespace can be unloaded cleanly ... OK * checking loading without being on the library search path ... OK * checking whether startup messages can be suppressed ... OK * checking dependencies in R code ... OK * checking S3 generic/method consistency ... OK * checking replacement functions ... OK * checking foreign function calls ... OK * checking R code for possible problems ... OK * checking Rd files ... OK * checking Rd metadata ... OK * checking Rd cross-references ... OK * checking for missing documentation entries ... OK * checking for code/documentation mismatches ... OK * checking Rd \usage sections ... OK * checking Rd contents ... OK * checking for unstated dependencies in examples ... OK * checking files in ‘vignettes’ ... OK * checking examples ... OK Examples with CPU (user + system) or elapsed time > 5s user system elapsed ioBenchmark 31.448 6.022 11.387 MsBackendRawFileReader 6.308 2.025 8.820 * checking for unstated dependencies in ‘tests’ ... OK * checking tests ... Running ‘testthat.R’ OK * checking for unstated dependencies in vignettes ... OK * checking package vignettes ... OK * checking re-building of vignette outputs ... OK * checking PDF version of manual ... OK * DONE Status: OK
MsBackendRawFileReader.Rcheck/00install.out
############################################################################## ############################################################################## ### ### Running command: ### ### /home/biocbuild/bbs-3.21-bioc/R/bin/R CMD INSTALL MsBackendRawFileReader ### ############################################################################## ############################################################################## * installing to library ‘/home/biocbuild/bbs-3.21-bioc/R/site-library’ * installing *source* package ‘MsBackendRawFileReader’ ... ** this is package ‘MsBackendRawFileReader’ version ‘1.13.1’ ** using staged installation ** R ** inst ** byte-compile and prepare package for lazy loading ** help *** installing help indices ** building package indices ** installing vignettes ** testing if installed package can be loaded from temporary location ** testing if installed package can be loaded from final location ** testing if installed package keeps a record of temporary installation path * DONE (MsBackendRawFileReader)
MsBackendRawFileReader.Rcheck/tests/testthat.Rout
R Under development (unstable) (2025-01-20 r87609) -- "Unsuffered Consequences" Copyright (C) 2025 The R Foundation for Statistical Computing Platform: x86_64-pc-linux-gnu R is free software and comes with ABSOLUTELY NO WARRANTY. You are welcome to redistribute it under certain conditions. Type 'license()' or 'licence()' for distribution details. R is a collaborative project with many contributors. Type 'contributors()' for more information and 'citation()' on how to cite R or R packages in publications. Type 'demo()' for some demos, 'help()' for on-line help, or 'help.start()' for an HTML browser interface to help. Type 'q()' to quit R. > library("testthat") > library("MsBackendRawFileReader") Loading required package: Spectra Loading required package: S4Vectors Loading required package: stats4 Loading required package: BiocGenerics Loading required package: generics Attaching package: 'generics' The following objects are masked from 'package:base': as.difftime, as.factor, as.ordered, intersect, is.element, setdiff, setequal, union Attaching package: 'BiocGenerics' The following objects are masked from 'package:stats': IQR, mad, sd, var, xtabs The following objects are masked from 'package:base': Filter, Find, Map, Position, Reduce, anyDuplicated, aperm, append, as.data.frame, basename, cbind, colnames, dirname, do.call, duplicated, eval, evalq, get, grep, grepl, is.unsorted, lapply, mapply, match, mget, order, paste, pmax, pmax.int, pmin, pmin.int, rank, rbind, rownames, sapply, saveRDS, table, tapply, unique, unsplit, which.max, which.min Attaching package: 'S4Vectors' The following object is masked from 'package:utils': findMatches The following objects are masked from 'package:base': I, expand.grid, unname Loading required package: BiocParallel > library("Spectra") > > > sample_raw_file <- file.path(system.file(package = "rawrr"), + 'extdata', 'sample.raw') > > sample_mzXML_file <- file.path(path.package(package = 'MsBackendRawFileReader'), + 'extdata', 'sample.mzXML') > > > sample_raw <- backendInitialize(MsBackendRawFileReader::MsBackendRawFileReader(), files = sample_raw_file) > > > #sample_mzr <- backendInitialize(MsBackendMzR(), files = sample_mzXML_file) > > > mgf_file <- file.path(system.file(package = "MsBackendRawFileReader"), + 'extdata', '3159619b11ed_4590_9594.mgf') > > > rv <- lapply(1:2, function(x){ + file.copy(from = sample_raw_file, to = tempfile(fileext='.raw'))}) > > > register(SnowParam(workers = 1, type = "SOCK") , default = TRUE); > sample_raw_2 <- backendInitialize(MsBackendRawFileReader(), + files = file.path(tempdir(), + list.files(path = tempdir(), pattern = 'raw$'))) > > > test_check("MsBackendRawFileReader") [ FAIL 0 | WARN 1 | SKIP 2 | PASS 21 ] ══ Skipped tests (2) ═══════════════════════════════════════════════════════════ • isFALSE(file.exists(sample_mzXML_file)) is TRUE (1): 'test_MsBackendMzR_MsBackendRawFileReader.R:1:1' • isFALSE(require(MsBackendRawMgf)) is TRUE (1): 'test_top_n_mgf.R:1:1' [ FAIL 0 | WARN 1 | SKIP 2 | PASS 21 ] > > > be <- Spectra::backendInitialize(MsBackendRawFileReader::MsBackendRawFileReader(), + files = c(sample_raw_file)) > > ## Run the MsBackend spectra variable test suite > > test_suite <- system.file("test_backends", "test_MsBackend", + package = "Spectra") > > #res <- test_file(paste0(test_suite, "/test_spectra_variables.R"), > # reporter = check_reporter(), stop_on_failure = TRUE) > > > ## Run the whole suite. > res <- test_dir(test_suite, stop_on_failure = TRUE) ✔ | F W S OK | Context ⠏ | 0 | peaks_variables ⠙ | 2 | peaks_variables ⠸ | 4 | peaks_variables ✔ | 4 | peaks_variables [3.8s] ⠏ | 0 | spectra_subsetting ⠋ | 1 | spectra_subsetting ⠴ | 16 | spectra_subsetting ⠋ | 31 | spectra_subsetting ⠹ | 43 | spectra_subsetting ⠧ | 58 | spectra_subsetting ⠋ | 71 | spectra_subsetting ⠼ | 85 | spectra_subsetting ⠏ | 100 | spectra_subsetting ⠙ | 112 | spectra_subsetting ⠦ | 127 | spectra_subsetting ⠇ | 139 | spectra_subsetting ⠸ | 154 | spectra_subsetting ⠦ | 167 | spectra_subsetting ⠋ | 181 | spectra_subsetting ⠴ | 196 | spectra_subsetting ⠧ | 208 | spectra_subsetting ⠹ | 223 | spectra_subsetting ⠧ | 238 | spectra_subsetting ⠹ | 253 | spectra_subsetting ⠦ | 267 | spectra_subsetting ⠦ | 277 | spectra_subsetting ⠇ | 289 | spectra_subsetting ⠋ | 301 | spectra_subsetting ⠹ | 313 | spectra_subsetting ⠧ | 328 | spectra_subsetting ⠏ | 340 | spectra_subsetting ⠼ | 355 | spectra_subsetting ⠏ | 370 | spectra_subsetting ⠼ | 385 | spectra_subsetting ⠏ | 400 | spectra_subsetting ⠙ | 412 | spectra_subsetting ⠦ | 427 | spectra_subsetting ⠦ | 437 | spectra_subsetting ⠧ | 448 | spectra_subsetting ⠹ | 463 | spectra_subsetting ⠴ | 476 | spectra_subsetting ⠏ | 490 | spectra_subsetting ⠙ | 502 | spectra_subsetting ⠸ | 514 | spectra_subsetting ⠴ | 526 | spectra_subsetting ⠧ | 538 | spectra_subsetting ⠏ | 550 | spectra_subsetting ⠼ | 565 | spectra_subsetting ⠦ | 577 | spectra_subsetting ⠙ | 592 | spectra_subsetting ⠸ | 604 | spectra_subsetting ⠦ | 617 | spectra_subsetting ⠋ | 631 | spectra_subsetting ⠹ | 643 | spectra_subsetting ⠧ | 658 | spectra_subsetting ⠏ | 670 | spectra_subsetting ⠼ | 685 | spectra_subsetting ⠧ | 698 | spectra_subsetting ⠇ | 709 | spectra_subsetting ⠸ | 724 | spectra_subsetting ⠴ | 736 | spectra_subsetting ⠧ | 748 | spectra_subsetting ⠹ | 763 | spectra_subsetting ⠼ | 775 | spectra_subsetting ⠏ | 790 | spectra_subsetting ⠼ | 805 | spectra_subsetting ⠏ | 820 | spectra_subsetting ⠸ | 834 | spectra_subsetting ⠸ | 844 | spectra_subsetting ⠇ | 859 | spectra_subsetting ⠙ | 872 | spectra_subsetting ⠼ | 885 | spectra_subsetting ⠧ | 898 | spectra_subsetting ⠏ | 910 | spectra_subsetting ⠼ | 925 | spectra_subsetting ⠧ | 938 | spectra_subsetting ⠙ | 952 | spectra_subsetting ⠼ | 965 | spectra_subsetting ⠴ | 976 | spectra_subsetting ⠋ | 991 | spectra_subsetting ⠹ | 1003 | spectra_subsetting ⠴ | 1016 | spectra_subsetting ⠏ | 1030 | spectra_subsetting ⠙ | 1042 | spectra_subsetting ⠴ | 1056 | spectra_subsetting ⠴ | 1066 | spectra_subsetting ⠧ | 1078 | spectra_subsetting ⠹ | 1093 | spectra_subsetting ⠸ | 1104 | spectra_subsetting ⠸ | 1114 | spectra_subsetting ⠧ | 1128 | spectra_subsetting ⠧ | 1138 | spectra_subsetting ⠋ | 1151 | spectra_subsetting ⠼ | 1165 | spectra_subsetting ⠦ | 1177 | spectra_subsetting ⠙ | 1192 | spectra_subsetting ⠸ | 1204 | spectra_subsetting ⠦ | 1217 | spectra_subsetting ⠇ | 1229 | spectra_subsetting ⠋ | 1241 | spectra_subsetting ⠼ | 1255 | spectra_subsetting ⠇ | 1269 | spectra_subsetting ⠙ | 1282 | spectra_subsetting ⠴ | 1296 | spectra_subsetting ⠧ | 1308 | spectra_subsetting ⠋ | 1321 | spectra_subsetting ⠹ | 1333 | spectra_subsetting ⠼ | 1345 | spectra_subsetting ⠏ | 1360 | spectra_subsetting ⠙ | 1372 | spectra_subsetting ⠦ | 1387 | spectra_subsetting ⠇ | 1399 | spectra_subsetting ⠋ | 1411 | spectra_subsetting ⠴ | 1426 | spectra_subsetting ⠧ | 1438 | spectra_subsetting ⠋ | 1451 | spectra_subsetting ⠹ | 1463 | spectra_subsetting ⠼ | 1475 | spectra_subsetting ⠇ | 1489 | spectra_subsetting ⠋ | 1501 | spectra_subsetting ⠼ | 1515 | spectra_subsetting ⠧ | 1528 | spectra_subsetting ⠏ | 1540 | spectra_subsetting ⠙ | 1552 | spectra_subsetting ⠸ | 1564 | spectra_subsetting ⠴ | 1576 | spectra_subsetting ⠇ | 1589 | spectra_subsetting ⠏ | 1600 | spectra_subsetting ⠹ | 1613 | spectra_subsetting ⠼ | 1625 | spectra_subsetting ⠴ | 1636 | spectra_subsetting ⠏ | 1650 | spectra_subsetting ⠏ | 1660 | spectra_subsetting ⠙ | 1672 | spectra_subsetting ⠦ | 1687 | spectra_subsetting ⠇ | 1699 | spectra_subsetting ⠸ | 1714 | spectra_subsetting ⠦ | 1727 | spectra_subsetting ⠇ | 1729 | spectra_subsetting ⠋ | 1731 | spectra_subsetting ⠹ | 1733 | spectra_subsetting ⠼ | 1735 | spectra_subsetting ⠦ | 1737 | spectra_subsetting ⠇ | 1739 | spectra_subsetting ⠋ | 1741 | spectra_subsetting ⠹ | 1743 | spectra_subsetting ⠼ | 1745 | spectra_subsetting ⠦ | 1747 | spectra_subsetting ⠇ | 1749 | spectra_subsetting ⠋ | 1751 | spectra_subsetting ⠹ | 1753 | spectra_subsetting ⠼ | 1755 | spectra_subsetting ⠦ | 1757 | spectra_subsetting ⠇ | 1759 | spectra_subsetting ⠋ | 1761 | spectra_subsetting ⠹ | 1763 | spectra_subsetting ⠼ | 1765 | spectra_subsetting ⠦ | 1767 | spectra_subsetting ⠇ | 1769 | spectra_subsetting ⠋ | 1771 | spectra_subsetting ⠹ | 1773 | spectra_subsetting ⠼ | 1775 | spectra_subsetting ⠦ | 1777 | spectra_subsetting ⠇ | 1779 | spectra_subsetting ⠋ | 1781 | spectra_subsetting ⠹ | 1783 | spectra_subsetting ⠼ | 1785 | spectra_subsetting ⠦ | 1787 | spectra_subsetting ⠇ | 1789 | spectra_subsetting ⠋ | 1791 | spectra_subsetting ⠹ | 1793 | spectra_subsetting ⠼ | 1795 | spectra_subsetting ⠦ | 1797 | spectra_subsetting ⠇ | 1799 | spectra_subsetting ⠋ | 1801 | spectra_subsetting ⠹ | 1803 | spectra_subsetting ⠼ | 1805 | spectra_subsetting ⠦ | 1807 | spectra_subsetting ⠇ | 1809 | spectra_subsetting ⠋ | 1811 | spectra_subsetting ⠹ | 1813 | spectra_subsetting ⠼ | 1815 | spectra_subsetting ⠦ | 1817 | spectra_subsetting ⠇ | 1819 | spectra_subsetting ⠋ | 1821 | spectra_subsetting ⠹ | 1823 | spectra_subsetting ⠼ | 1825 | spectra_subsetting ⠦ | 1827 | spectra_subsetting ⠇ | 1829 | spectra_subsetting ⠋ | 1831 | spectra_subsetting ⠹ | 1833 | spectra_subsetting ⠼ | 1835 | spectra_subsetting ⠦ | 1837 | spectra_subsetting ⠇ | 1839 | spectra_subsetting ⠋ | 1841 | spectra_subsetting ⠹ | 1843 | spectra_subsetting ⠼ | 1845 | spectra_subsetting ⠦ | 1847 | spectra_subsetting ⠇ | 1849 | spectra_subsetting ⠋ | 1851 | spectra_subsetting ⠹ | 1853 | spectra_subsetting ⠼ | 1855 | spectra_subsetting ⠦ | 1857 | spectra_subsetting ⠇ | 1859 | spectra_subsetting ⠋ | 1861 | spectra_subsetting ⠹ | 1863 | spectra_subsetting ⠼ | 1865 | spectra_subsetting ⠧ | 1868 | spectra_subsetting ⠏ | 1870 | spectra_subsetting ⠙ | 1872 | spectra_subsetting ⠸ | 1874 | spectra_subsetting ⠴ | 1876 | spectra_subsetting ⠧ | 1878 | spectra_subsetting ⠏ | 1880 | spectra_subsetting ⠙ | 1882 | spectra_subsetting ⠸ | 1884 | spectra_subsetting ⠴ | 1886 | spectra_subsetting ⠧ | 1888 | spectra_subsetting ⠏ | 1890 | spectra_subsetting ⠙ | 1892 | spectra_subsetting ⠸ | 1894 | spectra_subsetting ⠴ | 1896 | spectra_subsetting ⠧ | 1898 | spectra_subsetting ⠏ | 1900 | spectra_subsetting ⠙ | 1902 | spectra_subsetting ⠸ | 1904 | spectra_subsetting ⠴ | 1906 | spectra_subsetting ⠧ | 1908 | spectra_subsetting ⠏ | 1910 | spectra_subsetting ⠙ | 1912 | spectra_subsetting ⠸ | 1914 | spectra_subsetting ⠴ | 1916 | spectra_subsetting ⠧ | 1918 | spectra_subsetting ⠏ | 1920 | spectra_subsetting ⠹ | 1923 | spectra_subsetting ⠼ | 1925 | spectra_subsetting ⠧ | 1928 | spectra_subsetting ⠋ | 1931 | spectra_subsetting ⠹ | 1933 | spectra_subsetting ⠼ | 1935 | spectra_subsetting ⠦ | 1937 | spectra_subsetting ⠏ | 1940 | spectra_subsetting ⠙ | 1942 | spectra_subsetting ⠸ | 1944 | spectra_subsetting ⠴ | 1946 | spectra_subsetting ⠧ | 1948 | spectra_subsetting ⠏ | 1950 | spectra_subsetting ⠙ | 1952 | spectra_subsetting ⠸ | 1954 | spectra_subsetting ⠴ | 1956 | spectra_subsetting ⠧ | 1958 | spectra_subsetting ⠏ | 1960 | spectra_subsetting ⠙ | 1962 | spectra_subsetting ⠸ | 1964 | spectra_subsetting ⠴ | 1966 | spectra_subsetting ⠧ | 1968 | spectra_subsetting ⠏ | 1970 | spectra_subsetting ⠙ | 1972 | spectra_subsetting ⠸ | 1974 | spectra_subsetting ⠴ | 1976 | spectra_subsetting ⠧ | 1978 | spectra_subsetting ⠏ | 1980 | spectra_subsetting ⠙ | 1982 | spectra_subsetting ⠸ | 1984 | spectra_subsetting ⠴ | 1986 | spectra_subsetting ⠧ | 1988 | spectra_subsetting ⠏ | 1990 | spectra_subsetting ⠙ | 1992 | spectra_subsetting ⠸ | 1994 | spectra_subsetting ⠴ | 1996 | spectra_subsetting ⠧ | 1998 | spectra_subsetting ⠏ | 2000 | spectra_subsetting ⠙ | 2002 | spectra_subsetting ⠸ | 2004 | spectra_subsetting ⠴ | 2006 | spectra_subsetting ⠧ | 2008 | spectra_subsetting ⠏ | 2010 | spectra_subsetting ⠙ | 2012 | spectra_subsetting ⠸ | 2014 | spectra_subsetting ⠴ | 2016 | spectra_subsetting ⠇ | 2019 | spectra_subsetting ⠋ | 2021 | spectra_subsetting ⠹ | 2023 | spectra_subsetting ⠼ | 2025 | spectra_subsetting ⠦ | 2027 | spectra_subsetting ⠏ | 2030 | spectra_subsetting ⠙ | 2032 | spectra_subsetting ⠼ | 2035 | spectra_subsetting ⠦ | 2037 | spectra_subsetting ⠇ | 2039 | spectra_subsetting ⠋ | 2041 | spectra_subsetting ⠹ | 2043 | spectra_subsetting ⠼ | 2045 | spectra_subsetting ⠦ | 2047 | spectra_subsetting ⠇ | 2049 | spectra_subsetting ⠋ | 2051 | spectra_subsetting ⠹ | 2053 | spectra_subsetting ⠴ | 2056 | spectra_subsetting ⠧ | 2058 | spectra_subsetting ⠏ | 2060 | spectra_subsetting ⠙ | 2062 | spectra_subsetting ⠸ | 2064 | spectra_subsetting ⠴ | 2066 | spectra_subsetting ⠧ | 2068 | spectra_subsetting ⠏ | 2070 | spectra_subsetting ⠹ | 2073 | spectra_subsetting ⠼ | 2075 | spectra_subsetting ⠧ | 2078 | spectra_subsetting ⠏ | 2080 | spectra_subsetting ⠙ | 2082 | spectra_subsetting ⠸ | 2084 | spectra_subsetting ⠴ | 2086 | spectra_subsetting ⠧ | 2088 | spectra_subsetting ⠏ | 2090 | spectra_subsetting ⠙ | 2092 | spectra_subsetting ⠸ | 2094 | spectra_subsetting ⠴ | 2096 | spectra_subsetting ⠧ | 2098 | spectra_subsetting ⠏ | 2100 | spectra_subsetting ⠙ | 2102 | spectra_subsetting ⠸ | 2104 | spectra_subsetting ⠴ | 2106 | spectra_subsetting ⠧ | 2108 | spectra_subsetting ⠏ | 2110 | spectra_subsetting ⠙ | 2112 | spectra_subsetting ⠸ | 2114 | spectra_subsetting ⠴ | 2116 | spectra_subsetting ⠧ | 2118 | spectra_subsetting ⠏ | 2120 | spectra_subsetting ⠙ | 2122 | spectra_subsetting ⠸ | 2124 | spectra_subsetting ⠴ | 2126 | spectra_subsetting ⠧ | 2128 | spectra_subsetting ⠏ | 2130 | spectra_subsetting ⠙ | 2132 | spectra_subsetting ⠸ | 2134 | spectra_subsetting ⠴ | 2136 | spectra_subsetting ⠧ | 2138 | spectra_subsetting ⠏ | 2140 | spectra_subsetting ⠙ | 2142 | spectra_subsetting ⠸ | 2144 | spectra_subsetting ⠴ | 2146 | spectra_subsetting ⠧ | 2148 | spectra_subsetting ⠏ | 2150 | spectra_subsetting ⠙ | 2152 | spectra_subsetting ⠸ | 2154 | spectra_subsetting ⠴ | 2156 | spectra_subsetting ⠧ | 2158 | spectra_subsetting ⠏ | 2160 | spectra_subsetting ⠹ | 2163 | spectra_subsetting ⠼ | 2165 | spectra_subsetting ⠦ | 2167 | spectra_subsetting ⠇ | 2169 | spectra_subsetting ⠋ | 2171 | spectra_subsetting ⠹ | 2173 | spectra_subsetting ⠼ | 2175 | spectra_subsetting ⠦ | 2177 | spectra_subsetting ⠇ | 2179 | spectra_subsetting ⠋ | 2181 | spectra_subsetting ⠹ | 2183 | spectra_subsetting ⠼ | 2185 | spectra_subsetting ⠦ | 2187 | spectra_subsetting ⠇ | 2189 | spectra_subsetting ⠋ | 2191 | spectra_subsetting ⠹ | 2193 | spectra_subsetting ⠼ | 2195 | spectra_subsetting ⠦ | 2197 | spectra_subsetting ⠇ | 2199 | spectra_subsetting ⠙ | 2202 | spectra_subsetting ⠸ | 2204 | spectra_subsetting ⠴ | 2206 | spectra_subsetting ⠧ | 2208 | spectra_subsetting ⠋ | 2211 | spectra_subsetting ⠹ | 2213 | spectra_subsetting ⠼ | 2215 | spectra_subsetting ⠦ | 2217 | spectra_subsetting ⠇ | 2219 | spectra_subsetting ⠋ | 2221 | spectra_subsetting ⠹ | 2223 | spectra_subsetting ⠼ | 2225 | spectra_subsetting ⠧ | 2228 | spectra_subsetting ⠏ | 2230 | spectra_subsetting ⠙ | 2232 | spectra_subsetting ⠸ | 2234 | spectra_subsetting ⠦ | 2237 | spectra_subsetting ⠇ | 2239 | spectra_subsetting ⠋ | 2241 | spectra_subsetting ⠹ | 2243 | spectra_subsetting ⠼ | 2245 | spectra_subsetting ⠦ | 2247 | spectra_subsetting ⠇ | 2249 | spectra_subsetting ⠋ | 2251 | spectra_subsetting ⠹ | 2253 | spectra_subsetting ⠼ | 2255 | spectra_subsetting ⠦ | 2257 | spectra_subsetting ⠇ | 2259 | spectra_subsetting ⠋ | 2261 | spectra_subsetting ⠹ | 2263 | spectra_subsetting ⠼ | 2265 | spectra_subsetting ⠦ | 2267 | spectra_subsetting ⠇ | 2269 | spectra_subsetting ⠋ | 2271 | spectra_subsetting ⠹ | 2273 | spectra_subsetting ⠼ | 2275 | spectra_subsetting ⠦ | 2277 | spectra_subsetting ⠇ | 2279 | spectra_subsetting ⠋ | 2281 | spectra_subsetting ⠸ | 2284 | spectra_subsetting ⠴ | 2286 | spectra_subsetting ⠧ | 2288 | spectra_subsetting ⠏ | 2290 | spectra_subsetting ⠙ | 2292 | spectra_subsetting ⠸ | 2294 | spectra_subsetting ⠴ | 2296 | spectra_subsetting ⠧ | 2298 | spectra_subsetting ⠋ | 2301 | spectra_subsetting ⠸ | 2304 | spectra_subsetting ⠙ | 2312 | spectra_subsetting ⠇ | 2319 | spectra_subsetting ⠇ | 2329 | spectra_subsetting ⠸ | 2334 | spectra_subsetting ✔ | 2334 | spectra_subsetting [47.7s] ⠏ | 0 | spectra_variables ⠙ | 12 | spectra_variables ⠸ | 14 | spectra_variables ⠴ | 16 | spectra_variables ⠦ | 27 | spectra_variables ⠇ | 29 | spectra_variables ⠋ | 31 | spectra_variables ⠹ | 43 | spectra_variables ⠹ | 1 62 | spectra_variables ✔ | 1 62 | spectra_variables [14.1s] ══ Results ═════════════════════════════════════════════════════════════════════ Duration: 65.6 s ── Skipped tests (1) ─────────────────────────────────────────────────────────── • empty test (1): 'test_spectra_variables.R:262:1' [ FAIL 0 | WARN 0 | SKIP 1 | PASS 2400 ] > > proc.time() user system elapsed 86.464 7.572 96.262
MsBackendRawFileReader.Rcheck/MsBackendRawFileReader-Ex.timings
name | user | system | elapsed | |
MsBackendRawFileReader-class | 3.053 | 0.757 | 4.186 | |
MsBackendRawFileReader | 6.308 | 2.025 | 8.820 | |
hidden_aliases | 1.977 | 0.656 | 2.831 | |
ioBenchmark | 31.448 | 6.022 | 11.387 | |