| Back to Multiple platform build/check report for BioC 3.21: simplified long |
|
This page was generated on 2025-10-16 11:41 -0400 (Thu, 16 Oct 2025).
| Hostname | OS | Arch (*) | R version | Installed pkgs |
|---|---|---|---|---|
| nebbiolo1 | Linux (Ubuntu 24.04.3 LTS) | x86_64 | 4.5.1 (2025-06-13) -- "Great Square Root" | 4833 |
| merida1 | macOS 12.7.6 Monterey | x86_64 | 4.5.1 RC (2025-06-05 r88288) -- "Great Square Root" | 4614 |
| kjohnson1 | macOS 13.7.5 Ventura | arm64 | 4.5.1 Patched (2025-06-14 r88325) -- "Great Square Root" | 4555 |
| kunpeng2 | Linux (openEuler 24.03 LTS) | aarch64 | R Under development (unstable) (2025-02-19 r87757) -- "Unsuffered Consequences" | 4586 |
| Click on any hostname to see more info about the system (e.g. compilers) (*) as reported by 'uname -p', except on Windows and Mac OS X | ||||
| Package 1359/2341 | Hostname | OS / Arch | INSTALL | BUILD | CHECK | BUILD BIN | ||||||||
| MsBackendMgf 1.16.0 (landing page) RforMassSpectrometry Package Maintainer
| nebbiolo1 | Linux (Ubuntu 24.04.3 LTS) / x86_64 | OK | OK | OK | |||||||||
| merida1 | macOS 12.7.6 Monterey / x86_64 | OK | OK | OK | OK | |||||||||
| kjohnson1 | macOS 13.7.5 Ventura / arm64 | OK | OK | OK | OK | |||||||||
| kunpeng2 | Linux (openEuler 24.03 LTS) / aarch64 | OK | OK | OK | ||||||||||
|
To the developers/maintainers of the MsBackendMgf package: - Allow up to 24 hours (and sometimes 48 hours) for your latest push to git@git.bioconductor.org:packages/MsBackendMgf.git to reflect on this report. See Troubleshooting Build Report for more information. - Use the following Renviron settings to reproduce errors and warnings. - If 'R CMD check' started to fail recently on the Linux builder(s) over a missing dependency, add the missing dependency to 'Suggests:' in your DESCRIPTION file. See Renviron.bioc for more information. - See Martin Grigorov's blog post for how to debug Linux ARM64 related issues on a x86_64 host. |
| Package: MsBackendMgf |
| Version: 1.16.0 |
| Command: /home/biocbuild/R/R/bin/R CMD check --install=check:MsBackendMgf.install-out.txt --library=/home/biocbuild/R/R/site-library --no-vignettes --timings MsBackendMgf_1.16.0.tar.gz |
| StartedAt: 2025-10-14 11:36:34 -0000 (Tue, 14 Oct 2025) |
| EndedAt: 2025-10-14 11:38:09 -0000 (Tue, 14 Oct 2025) |
| EllapsedTime: 95.1 seconds |
| RetCode: 0 |
| Status: OK |
| CheckDir: MsBackendMgf.Rcheck |
| Warnings: 0 |
##############################################################################
##############################################################################
###
### Running command:
###
### /home/biocbuild/R/R/bin/R CMD check --install=check:MsBackendMgf.install-out.txt --library=/home/biocbuild/R/R/site-library --no-vignettes --timings MsBackendMgf_1.16.0.tar.gz
###
##############################################################################
##############################################################################
* using log directory ‘/home/biocbuild/bbs-3.21-bioc/meat/MsBackendMgf.Rcheck’
* using R Under development (unstable) (2025-02-19 r87757)
* using platform: aarch64-unknown-linux-gnu
* R was compiled by
aarch64-unknown-linux-gnu-gcc (GCC) 14.2.0
GNU Fortran (GCC) 14.2.0
* running under: openEuler 24.03 (LTS-SP1)
* using session charset: UTF-8
* using option ‘--no-vignettes’
* checking for file ‘MsBackendMgf/DESCRIPTION’ ... OK
* this is package ‘MsBackendMgf’ version ‘1.16.0’
* package encoding: UTF-8
* checking package namespace information ... OK
* checking package dependencies ... OK
* checking if this is a source package ... OK
* checking if there is a namespace ... OK
* checking for hidden files and directories ... OK
* checking for portable file names ... OK
* checking for sufficient/correct file permissions ... OK
* checking whether package ‘MsBackendMgf’ can be installed ... OK
* checking installed package size ... OK
* checking package directory ... OK
* checking ‘build’ directory ... OK
* checking DESCRIPTION meta-information ... OK
* checking top-level files ... OK
* checking for left-over files ... OK
* checking index information ... OK
* checking package subdirectories ... OK
* checking code files for non-ASCII characters ... OK
* checking R files for syntax errors ... OK
* checking whether the package can be loaded ... OK
* checking whether the package can be loaded with stated dependencies ... OK
* checking whether the package can be unloaded cleanly ... OK
* checking whether the namespace can be loaded with stated dependencies ... OK
* checking whether the namespace can be unloaded cleanly ... OK
* checking loading without being on the library search path ... OK
* checking dependencies in R code ... OK
* checking S3 generic/method consistency ... OK
* checking replacement functions ... OK
* checking foreign function calls ... OK
* checking R code for possible problems ... OK
* checking Rd files ... OK
* checking Rd metadata ... OK
* checking Rd cross-references ... OK
* checking for missing documentation entries ... OK
* checking for code/documentation mismatches ... OK
* checking Rd \usage sections ... OK
* checking Rd contents ... OK
* checking for unstated dependencies in examples ... OK
* checking files in ‘vignettes’ ... OK
* checking examples ... OK
* checking for unstated dependencies in ‘tests’ ... OK
* checking tests ...
Running ‘testthat.R’
OK
* checking for unstated dependencies in vignettes ... OK
* checking package vignettes ... OK
* checking running R code from vignettes ... SKIPPED
* checking re-building of vignette outputs ... SKIPPED
* checking PDF version of manual ... OK
* DONE
Status: OK
MsBackendMgf.Rcheck/00install.out
############################################################################## ############################################################################## ### ### Running command: ### ### /home/biocbuild/R/R/bin/R CMD INSTALL MsBackendMgf ### ############################################################################## ############################################################################## * installing to library ‘/home/biocbuild/R/R-devel_2025-02-19/site-library’ * installing *source* package ‘MsBackendMgf’ ... ** this is package ‘MsBackendMgf’ version ‘1.16.0’ ** using staged installation ** R ** inst ** byte-compile and prepare package for lazy loading ** help *** installing help indices *** copying figures ** building package indices ** installing vignettes ** testing if installed package can be loaded from temporary location ** testing if installed package can be loaded from final location ** testing if installed package keeps a record of temporary installation path * DONE (MsBackendMgf)
MsBackendMgf.Rcheck/tests/testthat.Rout
R Under development (unstable) (2025-02-19 r87757) -- "Unsuffered Consequences"
Copyright (C) 2025 The R Foundation for Statistical Computing
Platform: aarch64-unknown-linux-gnu
R is free software and comes with ABSOLUTELY NO WARRANTY.
You are welcome to redistribute it under certain conditions.
Type 'license()' or 'licence()' for distribution details.
R is a collaborative project with many contributors.
Type 'contributors()' for more information and
'citation()' on how to cite R or R packages in publications.
Type 'demo()' for some demos, 'help()' for on-line help, or
'help.start()' for an HTML browser interface to help.
Type 'q()' to quit R.
> library(testthat)
> library(MsBackendMgf)
Loading required package: Spectra
Loading required package: S4Vectors
Loading required package: stats4
Loading required package: BiocGenerics
Loading required package: generics
Attaching package: 'generics'
The following objects are masked from 'package:base':
as.difftime, as.factor, as.ordered, intersect, is.element, setdiff,
setequal, union
Attaching package: 'BiocGenerics'
The following objects are masked from 'package:stats':
IQR, mad, sd, var, xtabs
The following objects are masked from 'package:base':
Filter, Find, Map, Position, Reduce, anyDuplicated, aperm, append,
as.data.frame, basename, cbind, colnames, dirname, do.call,
duplicated, eval, evalq, get, grep, grepl, is.unsorted, lapply,
mapply, match, mget, order, paste, pmax, pmax.int, pmin, pmin.int,
rank, rbind, rownames, sapply, saveRDS, table, tapply, unique,
unsplit, which.max, which.min
Attaching package: 'S4Vectors'
The following object is masked from 'package:utils':
findMatches
The following objects are masked from 'package:base':
I, expand.grid, unname
Loading required package: BiocParallel
>
> fls <- dir(system.file("extdata", package = "MsBackendMgf"),
+ full.names = TRUE, pattern = "mgf$")[1:2]
>
> test_check("MsBackendMgf")
[ FAIL 0 | WARN 3 | SKIP 0 | PASS 131 ]
[ FAIL 0 | WARN 3 | SKIP 0 | PASS 131 ]
>
> ## Run tests defined in test suites from the Spectra package.
> fls <- dir(system.file("extdata", package = "MsBackendMgf"),
+ full.names = TRUE, pattern = "mgf$")[1:2]
> be <- MsBackendMgf()
> be <- backendInitialize(be, fls)
Start data import from 2 files ... done
>
> ## Run the MsBackend spectra variable test suite
> test_suite <- system.file("test_backends", "test_MsBackend",
+ package = "Spectra")
>
> ## Run single test file.
> res <- test_dir(test_suite, stop_on_failure = TRUE)
✔ | F W S OK | Context
⠏ | 0 | peaks_variables
✔ | 4 | peaks_variables
⠏ | 0 | spectra_subsetting
⠇ | 9 | spectra_subsetting
⠴ | 16 | spectra_subsetting
⠼ | 25 | spectra_subsetting
⠧ | 28 | spectra_subsetting
⠋ | 31 | spectra_subsetting
⠼ | 35 | spectra_subsetting
⠋ | 41 | spectra_subsetting
⠼ | 45 | spectra_subsetting
⠙ | 52 | spectra_subsetting
⠇ | 59 | spectra_subsetting
⠼ | 65 | spectra_subsetting
⠏ | 70 | spectra_subsetting
✔ | 74 | spectra_subsetting [1.4s]
⠏ | 0 | spectra_variables
⠦ | 7 | spectra_variables
⠦ | 17 | spectra_variables
⠧ | 28 | spectra_variables
⠦ | 37 | spectra_variables
⠴ | 46 | spectra_variables
⠇ | 59 | spectra_variables
⠧ | 68 | spectra_variables
⠴ | 76 | spectra_variables
✔ | 78 | spectra_variables
══ Results ═════════════════════════════════════════════════════════════════════
Duration: 2.5 s
[ FAIL 0 | WARN 0 | SKIP 0 | PASS 156 ]
>
> proc.time()
user system elapsed
13.374 0.849 14.018
MsBackendMgf.Rcheck/MsBackendMgf-Ex.timings
| name | user | system | elapsed | |
| MsBackendMgf | 2.096 | 0.048 | 2.152 | |
| readMgf | 0.112 | 0.002 | 0.115 | |