Back to Multiple platform build/check report for BioC 3.21:   simplified   long
ABCDEFGHIJKL[M]NOPQRSTUVWXYZ

This page was generated on 2025-02-15 11:42 -0500 (Sat, 15 Feb 2025).

HostnameOSArch (*)R versionInstalled pkgs
nebbiolo1Linux (Ubuntu 24.04.1 LTS)x86_64R Under development (unstable) (2025-01-20 r87609) -- "Unsuffered Consequences" 4720
palomino7Windows Server 2022 Datacenterx64R Under development (unstable) (2025-01-21 r87610 ucrt) -- "Unsuffered Consequences" 4482
lconwaymacOS 12.7.1 Montereyx86_64R Under development (unstable) (2025-01-22 r87618) -- "Unsuffered Consequences" 4493
kjohnson3macOS 13.7.1 Venturaarm64R Under development (unstable) (2025-01-20 r87609) -- "Unsuffered Consequences" 4446
Click on any hostname to see more info about the system (e.g. compilers)      (*) as reported by 'uname -p', except on Windows and Mac OS X

Package 1323/2295HostnameOS / ArchINSTALLBUILDCHECKBUILD BIN
MotifPeeker 0.99.13  (landing page)
Hiranyamaya Dash
Snapshot Date: 2025-02-14 13:40 -0500 (Fri, 14 Feb 2025)
git_url: https://git.bioconductor.org/packages/MotifPeeker
git_branch: devel
git_last_commit: 665ef16
git_last_commit_date: 2025-01-06 06:01:59 -0500 (Mon, 06 Jan 2025)
nebbiolo1Linux (Ubuntu 24.04.1 LTS) / x86_64  OK    OK    OK  UNNEEDED, same version is already published
palomino7Windows Server 2022 Datacenter / x64... NOT SUPPORTED ...
lconwaymacOS 12.7.1 Monterey / x86_64  OK    OK    OK    OK  UNNEEDED, same version is already published
kjohnson3macOS 13.7.1 Ventura / arm64  OK    OK    OK    OK  UNNEEDED, same version is already published


CHECK results for MotifPeeker on lconway

To the developers/maintainers of the MotifPeeker package:
- Allow up to 24 hours (and sometimes 48 hours) for your latest push to git@git.bioconductor.org:packages/MotifPeeker.git to reflect on this report. See Troubleshooting Build Report for more information.
- Use the following Renviron settings to reproduce errors and warnings.
- If 'R CMD check' started to fail recently on the Linux builder(s) over a missing dependency, add the missing dependency to 'Suggests:' in your DESCRIPTION file. See Renviron.bioc for more information.

raw results


Summary

Package: MotifPeeker
Version: 0.99.13
Command: /Library/Frameworks/R.framework/Resources/bin/R CMD check --install=check:MotifPeeker.install-out.txt --library=/Library/Frameworks/R.framework/Resources/library --no-vignettes --timings MotifPeeker_0.99.13.tar.gz
StartedAt: 2025-02-14 21:40:52 -0500 (Fri, 14 Feb 2025)
EndedAt: 2025-02-14 21:55:23 -0500 (Fri, 14 Feb 2025)
EllapsedTime: 870.1 seconds
RetCode: 0
Status:   OK  
CheckDir: MotifPeeker.Rcheck
Warnings: 0

Command output

##############################################################################
##############################################################################
###
### Running command:
###
###   /Library/Frameworks/R.framework/Resources/bin/R CMD check --install=check:MotifPeeker.install-out.txt --library=/Library/Frameworks/R.framework/Resources/library --no-vignettes --timings MotifPeeker_0.99.13.tar.gz
###
##############################################################################
##############################################################################


* using log directory ‘/Users/biocbuild/bbs-3.21-bioc/meat/MotifPeeker.Rcheck’
* using R Under development (unstable) (2025-01-22 r87618)
* using platform: x86_64-apple-darwin20
* R was compiled by
    Apple clang version 14.0.0 (clang-1400.0.29.202)
    GNU Fortran (GCC) 14.2.0
* running under: macOS Monterey 12.7.6
* using session charset: UTF-8
* using option ‘--no-vignettes’
* checking for file ‘MotifPeeker/DESCRIPTION’ ... OK
* checking extension type ... Package
* this is package ‘MotifPeeker’ version ‘0.99.13’
* package encoding: UTF-8
* checking package namespace information ... OK
* checking package dependencies ... INFO
Imports includes 25 non-default packages.
Importing from so many packages makes the package vulnerable to any of
them becoming unavailable.  Move as many as possible to Suggests and
use conditionally.
* checking if this is a source package ... OK
* checking if there is a namespace ... OK
* checking for hidden files and directories ... OK
* checking for portable file names ... OK
* checking for sufficient/correct file permissions ... OK
* checking whether package ‘MotifPeeker’ can be installed ... OK
* checking installed package size ... OK
* checking package directory ... OK
* checking ‘build’ directory ... OK
* checking DESCRIPTION meta-information ... OK
* checking top-level files ... OK
* checking for left-over files ... OK
* checking index information ... OK
* checking package subdirectories ... OK
* checking code files for non-ASCII characters ... OK
* checking R files for syntax errors ... OK
* checking whether the package can be loaded ... OK
* checking whether the package can be loaded with stated dependencies ... OK
* checking whether the package can be unloaded cleanly ... OK
* checking whether the namespace can be loaded with stated dependencies ... OK
* checking whether the namespace can be unloaded cleanly ... OK
* checking dependencies in R code ... OK
* checking S3 generic/method consistency ... OK
* checking replacement functions ... OK
* checking foreign function calls ... OK
* checking R code for possible problems ... OK
* checking Rd files ... OK
* checking Rd metadata ... OK
* checking Rd cross-references ... NOTE
Found the following Rd file(s) with Rd \link{} targets missing package
anchors:
  motif_enrichment.Rd: memes
  plot_motif_comparison.Rd: compare_motifs
Please provide package anchors for all Rd \link{} targets not in the
package itself and the base packages.
* checking for missing documentation entries ... OK
* checking for code/documentation mismatches ... OK
* checking Rd \usage sections ... OK
* checking Rd contents ... OK
* checking for unstated dependencies in examples ... OK
* checking contents of ‘data’ directory ... OK
* checking data for non-ASCII characters ... OK
* checking data for ASCII and uncompressed saves ... OK
* checking files in ‘vignettes’ ... OK
* checking examples ... OK
Examples with CPU (user + system) or elapsed time > 5s
                     user system elapsed
MotifPeeker       117.098 64.334 179.965
motif_enrichment    5.382  6.757  12.134
motif_similarity    6.656  1.141   7.130
find_motifs         1.854  0.372   5.337
get_df_enrichment   0.191  0.202  36.963
* checking for unstated dependencies in ‘tests’ ... OK
* checking tests ...
  Running ‘testthat.R’
 OK
* checking for unstated dependencies in vignettes ... OK
* checking package vignettes ... OK
* checking running R code from vignettes ... SKIPPED
* checking re-building of vignette outputs ... SKIPPED
* checking PDF version of manual ... OK
* DONE

Status: 1 NOTE
See
  ‘/Users/biocbuild/bbs-3.21-bioc/meat/MotifPeeker.Rcheck/00check.log’
for details.


Installation output

MotifPeeker.Rcheck/00install.out

##############################################################################
##############################################################################
###
### Running command:
###
###   /Library/Frameworks/R.framework/Resources/bin/R CMD INSTALL MotifPeeker
###
##############################################################################
##############################################################################


* installing to library ‘/Library/Frameworks/R.framework/Versions/4.5-x86_64/Resources/library’
* installing *source* package ‘MotifPeeker’ ...
** this is package ‘MotifPeeker’ version ‘0.99.13’
** using staged installation
** R
** data
** inst
** byte-compile and prepare package for lazy loading
** help
*** installing help indices
** building package indices
** installing vignettes
** testing if installed package can be loaded from temporary location
** testing if installed package can be loaded from final location
** testing if installed package keeps a record of temporary installation path
* DONE (MotifPeeker)

Tests output

MotifPeeker.Rcheck/tests/testthat.Rout


R Under development (unstable) (2025-01-22 r87618) -- "Unsuffered Consequences"
Copyright (C) 2025 The R Foundation for Statistical Computing
Platform: x86_64-apple-darwin20

R is free software and comes with ABSOLUTELY NO WARRANTY.
You are welcome to redistribute it under certain conditions.
Type 'license()' or 'licence()' for distribution details.

R is a collaborative project with many contributors.
Type 'contributors()' for more information and
'citation()' on how to cite R or R packages in publications.

Type 'demo()' for some demos, 'help()' for on-line help, or
'help.start()' for an HTML browser interface to help.
Type 'q()' to quit R.

> desc_path <- list.files("../","^DESCRIPTION$",
+                         full.names = TRUE, recursive = TRUE)[1]
> pkg <- read.dcf(desc_path, fields = "Package")[1]
> library(testthat)
> library(pkg, character.only = TRUE)
> 
> test_check(pkg)
[WARNING] This document format requires a nonempty <title> element.
  Please specify either 'title' or 'pagetitle' in the metadata,
  e.g. by using --metadata pagetitle="..." on the command line.
  Falling back to 'MotifPeeker.knit'
[WARNING] This document format requires a nonempty <title> element.
  Please specify either 'title' or 'pagetitle' in the metadata,
  e.g. by using --metadata pagetitle="..." on the command line.
  Falling back to 'MotifPeeker.knit'
[WARNING] This document format requires a nonempty <title> element.
  Please specify either 'title' or 'pagetitle' in the metadata,
  e.g. by using --metadata pagetitle="..." on the command line.
  Falling back to 'MotifPeeker.knit'
Warning: p-values will be inaccurate if primary and control

Warning: p-values will be inaccurate if primary and control

The output directory '/tmp/RtmpupzfLq/tomtom/2/1' already exists.
Its contents will be overwritten.
Processing query 1 out of 1 
# Computing q-values.
#   Estimating pi_0 from all 4692 observed p-values.
#   Estimating pi_0.
# Minimal pi_zero = 1.00096
#   Estimated pi_0=1


The output directory '/tmp/RtmpupzfLq/tomtom/1/1' already exists.
Its contents will be overwritten.
Processing query 1 out of 1 
# Computing q-values.
#   Estimating pi_0 from all 4692 observed p-values.
#   Estimating pi_0.
# Minimal pi_zero = 1.00096
#   Estimated pi_0=1

The output directory '/tmp/RtmpupzfLq/tomtom/1/2' already exists.
Its contents will be overwritten.
Processing query 1 out of 1 
# Computing q-values.
#   Estimating pi_0 from all 4692 observed p-values.
#   Estimating pi_0.
# Minimal pi_zero = 0.989668
#   Estimated pi_0=0.990885


The output directory '/tmp/RtmpupzfLq/tomtom/3/1' already exists.
Its contents will be overwritten.
Processing query 1 out of 1 
# Computing q-values.
#   Estimating pi_0 from all 4692 observed p-values.
#   Estimating pi_0.
# Minimal pi_zero = 1.00288
#   Estimated pi_0=1

The output directory '/tmp/RtmpupzfLq/tomtom/3/2' already exists.
Its contents will be overwritten.
Processing query 1 out of 1 
# Computing q-values.
#   Estimating pi_0 from all 4692 observed p-values.
#   Estimating pi_0.
# Minimal pi_zero = 0.99046
#   Estimated pi_0=0.99046


The output directory '/tmp/RtmpupzfLq/tomtom/4/1' already exists.
Its contents will be overwritten.
Processing query 1 out of 1 
# Computing q-values.
#   Estimating pi_0 from all 4692 observed p-values.
#   Estimating pi_0.
# Minimal pi_zero = 0.989961
#   Estimated pi_0=0.99008

The output directory '/tmp/RtmpupzfLq/tomtom/4/2' already exists.
Its contents will be overwritten.
Processing query 1 out of 1 
# Computing q-values.
#   Estimating pi_0 from all 4692 observed p-values.
#   Estimating pi_0.
# Minimal pi_zero = 0.999983
#   Estimated pi_0=1



### Exp2 {- .unlisted}  
**Reference Experiment Label**: Exp1 (Total Reads: 100)  
**Comparison Experiment Label**: Exp2 (Total Reads: 200)  

## Exp2 {- .unlisted .tabset .tabset-fade .tabset-pills}  
**Reference Experiment Label**: Exp1  
**Comparison Experiment Label**: Exp2  
[ FAIL 0 | WARN 0 | SKIP 2 | PASS 696 ]

══ Skipped tests (2) ═══════════════════════════════════════════════════════════
• On CRAN (2): 'test-check_ENCODE.R:1:1', 'test-check_JASPAR.R:1:1'

[ FAIL 0 | WARN 0 | SKIP 2 | PASS 696 ]
> 
> proc.time()
   user  system elapsed 
191.852  81.918 316.932 
Error while shutting down parallel: unable to terminate some child processes

Example timings

MotifPeeker.Rcheck/MotifPeeker-Ex.timings

nameusersystemelapsed
MotifPeeker117.098 64.334179.965
bpapply0.0260.0900.124
calc_frip0.1150.1390.720
check_ENCODE0.2490.0620.996
check_JASPAR0.2250.0330.259
check_genome_build0.0030.0010.004
denovo_motifs1.7690.2821.903
find_motifs1.8540.3725.337
format_exptype0.0010.0010.000
get_JASPARCORE0.2220.0680.292
get_df_distances0.0990.0461.266
get_df_enrichment 0.191 0.20236.963
motif_enrichment 5.382 6.75712.134
motif_similarity6.6561.1417.130
pipe0.0000.0000.001
pretty_number0.0000.0000.001
read_motif_file0.0040.0020.006
read_peak_file0.1070.0230.129
read_peak_file_macs0.0550.0060.060
report_command0.0010.0010.000
report_header0.0030.0010.004
save_peak_file0.0250.0040.028
segregate_seqs0.0960.0190.114
summit_to_motif0.5170.1900.669
to_plotly0.1020.0470.151
trim_seqs0.0220.0040.026