Back to Multiple platform build/check report for BioC 3.21:   simplified   long
ABCDEFGHIJKL[M]NOPQRSTUVWXYZ

This page was generated on 2025-01-28 11:47 -0500 (Tue, 28 Jan 2025).

HostnameOSArch (*)R versionInstalled pkgs
nebbiolo1Linux (Ubuntu 24.04.1 LTS)x86_64R Under development (unstable) (2025-01-20 r87609) -- "Unsuffered Consequences" 4659
palomino7Windows Server 2022 Datacenterx64R Under development (unstable) (2025-01-21 r87610 ucrt) -- "Unsuffered Consequences" 4454
lconwaymacOS 12.7.1 Montereyx86_64R Under development (unstable) (2025-01-22 r87618) -- "Unsuffered Consequences" 4465
kjohnson3macOS 13.7.1 Venturaarm64R Under development (unstable) (2025-01-20 r87609) -- "Unsuffered Consequences" 4419
kunpeng2Linux (openEuler 22.03 LTS-SP1)aarch64R Under development (unstable) (2024-11-24 r87369) -- "Unsuffered Consequences" 4409
Click on any hostname to see more info about the system (e.g. compilers)      (*) as reported by 'uname -p', except on Windows and Mac OS X

Package 1190/2286HostnameOS / ArchINSTALLBUILDCHECKBUILD BIN
Mergeomics 1.35.0  (landing page)
Zeyneb Kurt
Snapshot Date: 2025-01-27 13:40 -0500 (Mon, 27 Jan 2025)
git_url: https://git.bioconductor.org/packages/Mergeomics
git_branch: devel
git_last_commit: 2b53e79
git_last_commit_date: 2024-10-29 10:07:07 -0500 (Tue, 29 Oct 2024)
nebbiolo1Linux (Ubuntu 24.04.1 LTS) / x86_64  OK    OK    OK  UNNEEDED, same version is already published
palomino7Windows Server 2022 Datacenter / x64  OK    OK    OK    OK  UNNEEDED, same version is already published
lconwaymacOS 12.7.1 Monterey / x86_64  OK    OK    OK    OK  UNNEEDED, same version is already published
kjohnson3macOS 13.7.1 Ventura / arm64  OK    OK    OK    OK  UNNEEDED, same version is already published
kunpeng2Linux (openEuler 22.03 LTS-SP1) / aarch64  OK    OK    OK  


CHECK results for Mergeomics on kunpeng2

To the developers/maintainers of the Mergeomics package:
- Allow up to 24 hours (and sometimes 48 hours) for your latest push to git@git.bioconductor.org:packages/Mergeomics.git to reflect on this report. See Troubleshooting Build Report for more information.
- Use the following Renviron settings to reproduce errors and warnings.
- If 'R CMD check' started to fail recently on the Linux builder(s) over a missing dependency, add the missing dependency to 'Suggests:' in your DESCRIPTION file. See Renviron.bioc for more information.
- See Martin Grigorov's blog post for how to debug Linux ARM64 related issues on a x86_64 host.

raw results


Summary

Package: Mergeomics
Version: 1.35.0
Command: /home/biocbuild/R/R/bin/R CMD check --install=check:Mergeomics.install-out.txt --library=/home/biocbuild/R/R/site-library --no-vignettes --timings Mergeomics_1.35.0.tar.gz
StartedAt: 2025-01-28 12:11:24 -0000 (Tue, 28 Jan 2025)
EndedAt: 2025-01-28 12:26:35 -0000 (Tue, 28 Jan 2025)
EllapsedTime: 910.9 seconds
RetCode: 0
Status:   OK  
CheckDir: Mergeomics.Rcheck
Warnings: 0

Command output

##############################################################################
##############################################################################
###
### Running command:
###
###   /home/biocbuild/R/R/bin/R CMD check --install=check:Mergeomics.install-out.txt --library=/home/biocbuild/R/R/site-library --no-vignettes --timings Mergeomics_1.35.0.tar.gz
###
##############################################################################
##############################################################################


* using log directory ‘/home/biocbuild/bbs-3.21-bioc/meat/Mergeomics.Rcheck’
* using R Under development (unstable) (2024-11-24 r87369)
* using platform: aarch64-unknown-linux-gnu
* R was compiled by
    aarch64-unknown-linux-gnu-gcc (GCC) 14.2.0
    GNU Fortran (GCC) 14.2.0
* running under: openEuler 24.03 (LTS)
* using session charset: UTF-8
* using option ‘--no-vignettes’
* checking for file ‘Mergeomics/DESCRIPTION’ ... OK
* checking extension type ... Package
* this is package ‘Mergeomics’ version ‘1.35.0’
* checking package namespace information ... OK
* checking package dependencies ... OK
* checking if this is a source package ... OK
* checking if there is a namespace ... OK
* checking for hidden files and directories ... OK
* checking for portable file names ... OK
* checking for sufficient/correct file permissions ... OK
* checking whether package ‘Mergeomics’ can be installed ... OK
* checking installed package size ... INFO
  installed size is  8.4Mb
  sub-directories of 1Mb or more:
    extdata   7.5Mb
* checking package directory ... OK
* checking ‘build’ directory ... OK
* checking DESCRIPTION meta-information ... OK
* checking top-level files ... OK
* checking for left-over files ... OK
* checking index information ... OK
* checking package subdirectories ... OK
* checking code files for non-ASCII characters ... OK
* checking R files for syntax errors ... OK
* checking whether the package can be loaded ... OK
* checking whether the package can be loaded with stated dependencies ... OK
* checking whether the package can be unloaded cleanly ... OK
* checking whether the namespace can be loaded with stated dependencies ... OK
* checking whether the namespace can be unloaded cleanly ... OK
* checking loading without being on the library search path ... OK
* checking dependencies in R code ... OK
* checking S3 generic/method consistency ... OK
* checking replacement functions ... OK
* checking foreign function calls ... OK
* checking R code for possible problems ... NOTE
kda.analyze: no visible global function definition for ‘p.adjust’
kda.analyze.exec: no visible global function definition for ‘pnorm’
kda.analyze.simulate: no visible global function definition for ‘rnorm’
kda.prepare: no visible global function definition for ‘quantile’
kda.prepare: no visible global function definition for ‘object.size’
kda.prepare.screen: no visible global function definition for
  ‘quantile’
kda.prepare.screen: no visible global function definition for ‘median’
kda.start: no visible global function definition for ‘object.size’
kda2cytoscape: no visible global function definition for ‘write.table’
kda2cytoscape.colormap: no visible global function definition for
  ‘rainbow’
kda2cytoscape.colormap: no visible global function definition for
  ‘col2rgb’
kda2himmeli: no visible global function definition for ‘quantile’
kda2himmeli: no visible global function definition for ‘write.table’
kda2himmeli.colormap: no visible global function definition for
  ‘rainbow’
kda2himmeli.colormap: no visible global function definition for
  ‘col2rgb’
ssea.analyze: no visible global function definition for ‘qnorm’
ssea.analyze: no visible global function definition for ‘approx’
ssea.analyze: no visible global function definition for ‘pnorm’
ssea.analyze.simulate: no visible global function definition for
  ‘quantile’
ssea.control: no visible global function definition for ‘median’
ssea.control: no visible global function definition for ‘object.size’
ssea.meta: no visible global function definition for ‘qnorm’
ssea.meta: no visible global function definition for ‘quantile’
ssea.meta: no visible global function definition for ‘pnorm’
ssea.meta: no visible global function definition for ‘median’
ssea.meta: no visible global function definition for ‘na.omit’
ssea.prepare: no visible global function definition for ‘median’
ssea.prepare: no visible global function definition for ‘object.size’
ssea.start: no visible global function definition for ‘na.omit’
ssea.start: no visible global function definition for ‘object.size’
ssea.start.configure: no visible global function definition for
  ‘write.table’
ssea2kda: no visible global function definition for ‘na.omit’
ssea2kda.import: no visible global function definition for ‘na.omit’
tool.aggregate: no visible global function definition for ‘na.omit’
tool.cluster: no visible global function definition for ‘as.dist’
tool.cluster: no visible global function definition for ‘hclust’
tool.fdr.bh: no visible global function definition for ‘qnorm’
tool.fdr.bh: no visible global function definition for ‘p.adjust’
tool.fdr.bh: no visible global function definition for ‘approx’
tool.fdr.empirical: no visible global function definition for ‘qnorm’
tool.fdr.empirical: no visible global function definition for ‘approx’
tool.metap: no visible global function definition for ‘qnorm’
tool.metap: no visible global function definition for ‘pnorm’
tool.normalize: no visible global function definition for ‘sd’
tool.normalize: no visible global function definition for ‘median’
tool.normalize: no visible global function definition for ‘optim’
tool.normalize: no visible global function definition for ‘ks.test’
tool.normalize.quality: no visible global function definition for ‘sd’
tool.normalize.quality: no visible global function definition for
  ‘ks.test’
tool.overlap: no visible global function definition for ‘phyper’
tool.read: no visible global function definition for ‘read.delim’
tool.read: no visible global function definition for ‘na.omit’
tool.save: no visible global function definition for ‘write.table’
tool.unify: no visible global function definition for ‘sd’
tool.unify: no visible global function definition for ‘quantile’
tool.unify: no visible global function definition for ‘approx’
Undefined global functions or variables:
  approx as.dist col2rgb hclust ks.test median na.omit object.size
  optim p.adjust phyper pnorm qnorm quantile rainbow read.delim rnorm
  sd write.table
Consider adding
  importFrom("grDevices", "col2rgb", "rainbow")
  importFrom("stats", "approx", "as.dist", "hclust", "ks.test", "median",
             "na.omit", "optim", "p.adjust", "phyper", "pnorm", "qnorm",
             "quantile", "rnorm", "sd")
  importFrom("utils", "object.size", "read.delim", "write.table")
to your NAMESPACE file.
* checking Rd files ... OK
* checking Rd metadata ... OK
* checking Rd cross-references ... OK
* checking for missing documentation entries ... OK
* checking for code/documentation mismatches ... OK
* checking Rd \usage sections ... OK
* checking Rd contents ... OK
* checking for unstated dependencies in examples ... OK
* checking contents of ‘data’ directory ... OK
* checking data for non-ASCII characters ... OK
* checking data for ASCII and uncompressed saves ... OK
* checking files in ‘vignettes’ ... OK
* checking examples ... OK
Examples with CPU (user + system) or elapsed time > 5s
                         user system elapsed
ssea2kda               11.881  0.016  11.925
ssea2kda.analyze       11.691  0.008  11.726
kda.analyze.test       11.217  0.004  11.245
kda.prepare            11.141  0.012  11.178
kda.analyze.exec       11.065  0.026  11.118
kda.analyze.simulate   11.085  0.004  11.112
ssea.finish             8.316  0.016   8.354
ssea.finish.fdr         8.313  0.004   8.335
ssea.finish.details     8.288  0.012   8.317
ssea.finish.genes       8.287  0.004   8.310
ssea.meta               8.231  0.008   8.259
ssea2kda.import         8.206  0.012   8.237
ssea.analyze.simulate   8.074  0.012   8.104
ssea.analyze            8.038  0.016   8.081
ssea.analyze.randgenes  5.544  0.000   5.554
* checking for unstated dependencies in ‘tests’ ... OK
* checking tests ...
  Running ‘runTests.R’
 OK
* checking for unstated dependencies in vignettes ... OK
* checking package vignettes ... OK
* checking running R code from vignettes ... SKIPPED
* checking re-building of vignette outputs ... SKIPPED
* checking PDF version of manual ... OK
* DONE

Status: 1 NOTE
See
  ‘/home/biocbuild/bbs-3.21-bioc/meat/Mergeomics.Rcheck/00check.log’
for details.


Installation output

Mergeomics.Rcheck/00install.out

##############################################################################
##############################################################################
###
### Running command:
###
###   /home/biocbuild/R/R/bin/R CMD INSTALL Mergeomics
###
##############################################################################
##############################################################################


* installing to library ‘/home/biocbuild/R/R-4.5.0-devel_2024-11-24/site-library’
* installing *source* package ‘Mergeomics’ ...
** using staged installation
** R
** data
** inst
** byte-compile and prepare package for lazy loading
** help
*** installing help indices
** building package indices
** installing vignettes
** testing if installed package can be loaded from temporary location
** testing if installed package can be loaded from final location
** testing if installed package keeps a record of temporary installation path
* DONE (Mergeomics)

Tests output

Mergeomics.Rcheck/tests/runTests.Rout


R Under development (unstable) (2024-11-24 r87369) -- "Unsuffered Consequences"
Copyright (C) 2024 The R Foundation for Statistical Computing
Platform: aarch64-unknown-linux-gnu

R is free software and comes with ABSOLUTELY NO WARRANTY.
You are welcome to redistribute it under certain conditions.
Type 'license()' or 'licence()' for distribution details.

R is a collaborative project with many contributors.
Type 'contributors()' for more information and
'citation()' on how to cite R or R packages in publications.

Type 'demo()' for some demos, 'help()' for on-line help, or
'help.start()' for an HTML browser interface to help.
Type 'q()' to quit R.

> BiocGenerics:::testPackage("Mergeomics")

KDA Version:12.7.2015

Parameters:
  Search depth: 1
  Search direction: 1
  Maximum overlap: 0.33
  Minimum module size: 20
  Minimum degree: automatic
  Maximum degree: automatic
  Edge factor: 0
  Random seed: 1

Importing edges...
     TAIL               HEAD               WEIGHT 
 Length:140663      Length:140663      Min.   :1  
 Class :character   Class :character   1st Qu.:1  
 Mode  :character   Mode  :character   Median :1  
                                       Mean   :1  
                                       3rd Qu.:1  
                                       Max.   :1  

Importing modules...
    MODULE              NODE          
 Length:1643        Length:1643       
 Class :character   Class :character  
 Mode  :character   Mode  :character  
Graph: 7.694687 Mb

Minimum degree set to 20 

Maximum degree set to 278 

Collecting hubs...
4876 hubs (25.21%)
Graph: 13.28768 Mb

Analyzing network...
6675: Dhcr7, n=114, p=2.24e-17
6648: Cit, n=20, p=7.89e-01
6643: Pbx4, n=23, p=2.32e-05
5582: Sypl, n=319, p=2.02e-02
4746: Tcf7l2, n=73, p=2.63e-02
4708: Tpte, n=86, p=5.05e-02
4511: Pzp, n=160, p=8.85e-03
4464: Tsc22d3, n=487, p=4.28e-13
4407: Dntt, n=93, p=2.40e-20
4360: Amica1, n=132, p=1.06e-06
4588,..: Lrg1, n=86, p=5.76e-12

MSEA Version:01.04.2016

Parameters:
  Permutation type: gene
  Permutations: 100
  Random seed: 1
  Minimum gene count: 10
  Maximum gene count: 500
  Maximum overlap between genes: 0.33

Importing modules...
    MODULE             DESCR          
 Length:20          Length:20         
 Class :character   Class :character  
 Mode  :character   Mode  :character  
    MODULE              GENE          
 Length:2906        Length:2906       
 Class :character   Class :character  
 Mode  :character   Mode  :character  

Importing marker values...
    MARKER              VALUE         
 Length:76866       Min.   :  0.8094  
 Class :character   1st Qu.:  0.9450  
 Mode  :character   Median :  1.1374  
                    Mean   :  1.3944  
                    3rd Qu.:  1.4688  
                    Max.   :323.0100  

Importing mapping data...
     GENE              MARKER         
 Length:132705      Length:132705     
 Class :character   Class :character  
 Mode  :character   Mode  :character  

Merging genes containing shared markers...
WARNING! Limited overlap analysis due to large number of groups.

95665/1673535 
190573/1673535 
286332/1673535 
381772/1673535 
476891/1673535 
572153/1673535 
668969/1673535 
765319/1673535 
859573/1673535 
953197/1673535 
1049543/1673535 
1144448/1673535 
1233092/1673535 
1323468/1673535 
1413907/1673535 
1504709/1673535 
1593533/1673535 
1673535 comparisons

21115 comparisons

13861 comparisons

12880 comparisons
Job: 11.66891 Mb

Preparing data structures...
Job: 17.11776 Mb

Adding positive controls...
Job: 17.42039 Mb

Estimating enrichment...
40/100 cycles
83/100 cycles
100/100 cycles

Normalizing scores...


RUNIT TEST PROTOCOL -- Tue Jan 28 12:26:27 2025 
*********************************************** 
Number of test functions: 2 
Number of errors: 0 
Number of failures: 0 

 
1 Test Suite : 
Mergeomics RUnit Tests - 2 test functions, 0 errors, 0 failures
Number of test functions: 2 
Number of errors: 0 
Number of failures: 0 
> 
> proc.time()
   user  system elapsed 
689.758   0.235 691.168 

Example timings

Mergeomics.Rcheck/Mergeomics-Ex.timings

nameusersystemelapsed
MSEA.KDA.onestep0.0000.0030.003
job.kda0.0170.0000.017
kda.analyze0.0090.0010.012
kda.analyze.exec11.065 0.02611.118
kda.analyze.simulate11.085 0.00411.112
kda.analyze.test11.217 0.00411.245
kda.configure0.0010.0000.001
kda.finish0.1310.0000.131
kda.finish.estimate0.0720.0040.075
kda.finish.save0.0760.0000.076
kda.finish.summarize0.0750.0000.076
kda.finish.trim0.0860.0000.086
kda.prepare11.141 0.01211.178
kda.prepare.overlap0.0010.0000.001
kda.prepare.screen000
kda.start1.5030.0121.517
kda.start.edges0.0020.0000.002
kda.start.identify0.0040.0000.005
kda.start.modules0.0020.0000.001
kda2cytoscape0.3870.0040.392
kda2cytoscape.colorize000
kda2cytoscape.colormap0.0010.0000.000
kda2cytoscape.drivers0.1350.0040.139
kda2cytoscape.edges0.1370.0000.138
kda2cytoscape.exec0.1750.0000.175
kda2cytoscape.identify0.0040.0000.004
kda2himmeli0.4100.0000.414
kda2himmeli.colorize000
kda2himmeli.colormap0.0010.0000.001
kda2himmeli.drivers0.1230.0080.131
kda2himmeli.edges0.1350.0040.139
kda2himmeli.exec0.2160.0040.221
kda2himmeli.identify0.0110.0000.011
ssea.analyze8.0380.0168.081
ssea.analyze.observe4.8640.0004.873
ssea.analyze.randgenes5.5440.0005.554
ssea.analyze.randloci4.8240.0084.842
ssea.analyze.simulate8.0740.0128.104
ssea.analyze.statistic000
ssea.control4.7220.0064.740
ssea.finish8.3160.0168.354
ssea.finish.details8.2880.0128.317
ssea.finish.fdr8.3130.0048.335
ssea.finish.genes8.2870.0048.310
ssea.meta8.2310.0088.259
ssea.prepare4.5950.0004.606
ssea.prepare.counts4.5560.0084.574
ssea.prepare.structure4.5680.0084.587
ssea.start4.2760.0004.287
ssea.start.configure0.3650.0080.374
ssea.start.identify0.0040.0000.005
ssea.start.relabel4.4330.0004.443
ssea2kda11.881 0.01611.925
ssea2kda.analyze11.691 0.00811.726
ssea2kda.import8.2060.0128.237
tool.aggregate0.0010.0000.001
tool.cluster0.0170.0040.021
tool.cluster.static000
tool.coalesce0.0580.0000.058
tool.coalesce.exec0.1470.0000.148
tool.coalesce.find0.1560.0000.157
tool.coalesce.merge0.1660.0000.166
tool.fdr0.0010.0000.001
tool.fdr.bh0.0010.0000.001
tool.fdr.empirical0.0010.0000.001
tool.graph1.4040.0001.407
tool.graph.degree1.5190.0121.534
tool.graph.list1.4570.0031.463
tool.metap0.0040.0000.004
tool.normalize0.0160.0000.015
tool.normalize.quality0.0130.0000.012
tool.overlap0.0080.0000.008
tool.read0.260.000.26
tool.save0.0020.0000.001
tool.subgraph0.080.000.08
tool.subgraph.find0.0770.0000.078
tool.subgraph.search0.0770.0000.077
tool.subgraph.stats0.0920.0000.093
tool.translate0.0370.0000.038
tool.unify0.0010.0000.001