Back to Multiple platform build/check report for BioC 3.21: simplified long |
|
This page was generated on 2025-02-15 11:41 -0500 (Sat, 15 Feb 2025).
Hostname | OS | Arch (*) | R version | Installed pkgs |
---|---|---|---|---|
nebbiolo1 | Linux (Ubuntu 24.04.1 LTS) | x86_64 | R Under development (unstable) (2025-01-20 r87609) -- "Unsuffered Consequences" | 4720 |
palomino7 | Windows Server 2022 Datacenter | x64 | R Under development (unstable) (2025-01-21 r87610 ucrt) -- "Unsuffered Consequences" | 4482 |
lconway | macOS 12.7.1 Monterey | x86_64 | R Under development (unstable) (2025-01-22 r87618) -- "Unsuffered Consequences" | 4493 |
kjohnson3 | macOS 13.7.1 Ventura | arm64 | R Under development (unstable) (2025-01-20 r87609) -- "Unsuffered Consequences" | 4446 |
Click on any hostname to see more info about the system (e.g. compilers) (*) as reported by 'uname -p', except on Windows and Mac OS X |
Package 1185/2295 | Hostname | OS / Arch | INSTALL | BUILD | CHECK | BUILD BIN | ||||||||
MeasurementError.cor 1.79.0 (landing page) Beiying Ding
| nebbiolo1 | Linux (Ubuntu 24.04.1 LTS) / x86_64 | OK | OK | OK | ![]() | ||||||||
palomino7 | Windows Server 2022 Datacenter / x64 | OK | OK | OK | OK | ![]() | ||||||||
lconway | macOS 12.7.1 Monterey / x86_64 | OK | OK | OK | OK | ![]() | ||||||||
kjohnson3 | macOS 13.7.1 Ventura / arm64 | OK | OK | OK | OK | ![]() | ||||||||
To the developers/maintainers of the MeasurementError.cor package: - Allow up to 24 hours (and sometimes 48 hours) for your latest push to git@git.bioconductor.org:packages/MeasurementError.cor.git to reflect on this report. See Troubleshooting Build Report for more information. - Use the following Renviron settings to reproduce errors and warnings. - If 'R CMD check' started to fail recently on the Linux builder(s) over a missing dependency, add the missing dependency to 'Suggests:' in your DESCRIPTION file. See Renviron.bioc for more information. |
Package: MeasurementError.cor |
Version: 1.79.0 |
Command: chmod a+r MeasurementError.cor -R && E:\biocbuild\bbs-3.21-bioc\R\bin\R.exe CMD build --keep-empty-dirs --no-resave-data MeasurementError.cor |
StartedAt: 2025-02-14 19:44:28 -0500 (Fri, 14 Feb 2025) |
EndedAt: 2025-02-14 19:45:01 -0500 (Fri, 14 Feb 2025) |
EllapsedTime: 33.7 seconds |
RetCode: 0 |
Status: OK |
PackageFile: MeasurementError.cor_1.79.0.tar.gz |
PackageFileSize: 47.33 KiB |
############################################################################## ############################################################################## ### ### Running command: ### ### chmod a+r MeasurementError.cor -R && E:\biocbuild\bbs-3.21-bioc\R\bin\R.exe CMD build --keep-empty-dirs --no-resave-data MeasurementError.cor ### ############################################################################## ############################################################################## * checking for file 'MeasurementError.cor/DESCRIPTION' ... OK * preparing 'MeasurementError.cor': * checking DESCRIPTION meta-information ... OK * installing the package to build vignettes * creating vignettes ... OK * excluding invalid files Subdirectory 'R' contains invalid file names: 'zzz' Subdirectory 'man' contains invalid file names: 'CalcInitials' 'TransformCon2Uncon' 'TransformUncon2Con' 'cor.me' 'fcn' 'fcn.uncons' 'gradient' 'gradient.uncons' * checking for LF line-endings in source and make files and shell scripts * checking for empty or unneeded directories * building 'MeasurementError.cor_1.79.0.tar.gz'