| Back to Multiple platform build/check report for BioC 3.21: simplified long |
|
This page was generated on 2025-10-16 11:38 -0400 (Thu, 16 Oct 2025).
| Hostname | OS | Arch (*) | R version | Installed pkgs |
|---|---|---|---|---|
| nebbiolo1 | Linux (Ubuntu 24.04.3 LTS) | x86_64 | 4.5.1 (2025-06-13) -- "Great Square Root" | 4833 |
| merida1 | macOS 12.7.6 Monterey | x86_64 | 4.5.1 RC (2025-06-05 r88288) -- "Great Square Root" | 4614 |
| kjohnson1 | macOS 13.7.5 Ventura | arm64 | 4.5.1 Patched (2025-06-14 r88325) -- "Great Square Root" | 4555 |
| kunpeng2 | Linux (openEuler 24.03 LTS) | aarch64 | R Under development (unstable) (2025-02-19 r87757) -- "Unsuffered Consequences" | 4586 |
| Click on any hostname to see more info about the system (e.g. compilers) (*) as reported by 'uname -p', except on Windows and Mac OS X | ||||
| Package 1184/2341 | Hostname | OS / Arch | INSTALL | BUILD | CHECK | BUILD BIN | ||||||||
| MassSpecWavelet 1.74.0 (landing page) Sergio Oller Moreno
| nebbiolo1 | Linux (Ubuntu 24.04.3 LTS) / x86_64 | OK | OK | OK | |||||||||
| merida1 | macOS 12.7.6 Monterey / x86_64 | OK | OK | OK | OK | |||||||||
| kjohnson1 | macOS 13.7.5 Ventura / arm64 | OK | OK | OK | OK | |||||||||
| kunpeng2 | Linux (openEuler 24.03 LTS) / aarch64 | OK | OK | OK | ||||||||||
|
To the developers/maintainers of the MassSpecWavelet package: - Allow up to 24 hours (and sometimes 48 hours) for your latest push to git@git.bioconductor.org:packages/MassSpecWavelet.git to reflect on this report. See Troubleshooting Build Report for more information. - Use the following Renviron settings to reproduce errors and warnings. - If 'R CMD check' started to fail recently on the Linux builder(s) over a missing dependency, add the missing dependency to 'Suggests:' in your DESCRIPTION file. See Renviron.bioc for more information. |
| Package: MassSpecWavelet |
| Version: 1.74.0 |
| Command: /home/biocbuild/bbs-3.21-bioc/R/bin/R CMD check --install=check:MassSpecWavelet.install-out.txt --library=/home/biocbuild/bbs-3.21-bioc/R/site-library --timings MassSpecWavelet_1.74.0.tar.gz |
| StartedAt: 2025-10-16 00:42:03 -0400 (Thu, 16 Oct 2025) |
| EndedAt: 2025-10-16 00:43:11 -0400 (Thu, 16 Oct 2025) |
| EllapsedTime: 67.2 seconds |
| RetCode: 0 |
| Status: OK |
| CheckDir: MassSpecWavelet.Rcheck |
| Warnings: 0 |
##############################################################################
##############################################################################
###
### Running command:
###
### /home/biocbuild/bbs-3.21-bioc/R/bin/R CMD check --install=check:MassSpecWavelet.install-out.txt --library=/home/biocbuild/bbs-3.21-bioc/R/site-library --timings MassSpecWavelet_1.74.0.tar.gz
###
##############################################################################
##############################################################################
* using log directory ‘/home/biocbuild/bbs-3.21-bioc/meat/MassSpecWavelet.Rcheck’
* using R version 4.5.1 (2025-06-13)
* using platform: x86_64-pc-linux-gnu
* R was compiled by
gcc (Ubuntu 13.3.0-6ubuntu2~24.04) 13.3.0
GNU Fortran (Ubuntu 13.3.0-6ubuntu2~24.04) 13.3.0
* running under: Ubuntu 24.04.3 LTS
* using session charset: UTF-8
* checking for file ‘MassSpecWavelet/DESCRIPTION’ ... OK
* checking extension type ... Package
* this is package ‘MassSpecWavelet’ version ‘1.74.0’
* package encoding: UTF-8
* checking package namespace information ... OK
* checking package dependencies ... OK
* checking if this is a source package ... OK
* checking if there is a namespace ... OK
* checking for hidden files and directories ... OK
* checking for portable file names ... OK
* checking for sufficient/correct file permissions ... OK
* checking whether package ‘MassSpecWavelet’ can be installed ... OK
* used C compiler: ‘gcc (Ubuntu 13.3.0-6ubuntu2~24.04) 13.3.0’
* checking installed package size ... OK
* checking package directory ... OK
* checking ‘build’ directory ... OK
* checking DESCRIPTION meta-information ... OK
* checking top-level files ... OK
* checking for left-over files ... OK
* checking index information ... OK
* checking package subdirectories ... OK
* checking code files for non-ASCII characters ... OK
* checking R files for syntax errors ... OK
* checking whether the package can be loaded ... OK
* checking whether the package can be loaded with stated dependencies ... OK
* checking whether the package can be unloaded cleanly ... OK
* checking whether the namespace can be loaded with stated dependencies ... OK
* checking whether the namespace can be unloaded cleanly ... OK
* checking loading without being on the library search path ... OK
* checking dependencies in R code ... OK
* checking S3 generic/method consistency ... OK
* checking replacement functions ... OK
* checking foreign function calls ... OK
* checking R code for possible problems ... OK
* checking Rd files ... NOTE
checkRd: (-1) exampleMS.Rd:16: Escaped LaTeX specials: \#
checkRd: (-1) extendNBase.Rd:13: Escaped LaTeX specials: \^
checkRd: (-1) getRidge.Rd:45: Escaped LaTeX specials: \_
* checking Rd metadata ... OK
* checking Rd cross-references ... OK
* checking for missing documentation entries ... OK
* checking for code/documentation mismatches ... OK
* checking Rd \usage sections ... OK
* checking Rd contents ... OK
* checking for unstated dependencies in examples ... OK
* checking contents of ‘data’ directory ... OK
* checking data for non-ASCII characters ... OK
* checking data for ASCII and uncompressed saves ... OK
* checking line endings in C/C++/Fortran sources/headers ... OK
* checking compiled code ... NOTE
Note: information on .o files is not available
* checking files in ‘vignettes’ ... OK
* checking examples ... OK
* checking for unstated dependencies in ‘tests’ ... OK
* checking tests ...
Running ‘runit.R’
OK
* checking for unstated dependencies in vignettes ... OK
* checking package vignettes ... OK
* checking re-building of vignette outputs ... OK
* checking PDF version of manual ... OK
* DONE
Status: 2 NOTEs
See
‘/home/biocbuild/bbs-3.21-bioc/meat/MassSpecWavelet.Rcheck/00check.log’
for details.
MassSpecWavelet.Rcheck/00install.out
############################################################################## ############################################################################## ### ### Running command: ### ### /home/biocbuild/bbs-3.21-bioc/R/bin/R CMD INSTALL MassSpecWavelet ### ############################################################################## ############################################################################## * installing to library ‘/home/biocbuild/bbs-3.21-bioc/R/site-library’ * installing *source* package ‘MassSpecWavelet’ ... ** this is package ‘MassSpecWavelet’ version ‘1.74.0’ ** using staged installation ** libs using C compiler: ‘gcc (Ubuntu 13.3.0-6ubuntu2~24.04) 13.3.0’ gcc -std=gnu2x -I"/home/biocbuild/bbs-3.21-bioc/R/include" -DNDEBUG -I/usr/local/include -fpic -g -O2 -Wall -Werror=format-security -c find_local_maximum.c -o find_local_maximum.o gcc -std=gnu2x -I"/home/biocbuild/bbs-3.21-bioc/R/include" -DNDEBUG -I/usr/local/include -fpic -g -O2 -Wall -Werror=format-security -c init.c -o init.o gcc -std=gnu2x -shared -L/home/biocbuild/bbs-3.21-bioc/R/lib -L/usr/local/lib -o MassSpecWavelet.so find_local_maximum.o init.o -L/home/biocbuild/bbs-3.21-bioc/R/lib -lR installing to /home/biocbuild/bbs-3.21-bioc/R/site-library/00LOCK-MassSpecWavelet/00new/MassSpecWavelet/libs ** R ** data ** inst ** byte-compile and prepare package for lazy loading ** help *** installing help indices ** building package indices ** installing vignettes ** testing if installed package can be loaded from temporary location ** checking absolute paths in shared objects and dynamic libraries ** testing if installed package can be loaded from final location ** testing if installed package keeps a record of temporary installation path * DONE (MassSpecWavelet)
MassSpecWavelet.Rcheck/tests/runit.Rout
R version 4.5.1 (2025-06-13) -- "Great Square Root"
Copyright (C) 2025 The R Foundation for Statistical Computing
Platform: x86_64-pc-linux-gnu
R is free software and comes with ABSOLUTELY NO WARRANTY.
You are welcome to redistribute it under certain conditions.
Type 'license()' or 'licence()' for distribution details.
R is a collaborative project with many contributors.
Type 'contributors()' for more information and
'citation()' on how to cite R or R packages in publications.
Type 'demo()' for some demos, 'help()' for on-line help, or
'help.start()' for an HTML browser interface to help.
Type 'q()' to quit R.
> stopifnot(require(RUnit, quietly = TRUE))
> stopifnot(require(MassSpecWavelet, quietly = TRUE))
> ## Define tests
> testSuite <- defineTestSuite(name = "MassSpecWavelet Unit Tests",
+ dirs = system.file("tests", package = "MassSpecWavelet"),
+ testFuncRegexp = "^[Tt]est+",
+ rngKind = "Mersenne-Twister",
+ rngNormalKind = "Inversion"
+ )
> tests <- runTestSuite(testSuite) # Run tests
Executing test function test01_cwt ... done successfully.
Executing test function test02_cwt ... done successfully.
Executing test function test01_localMaximum ... done successfully.
Executing test function test02_checkIdenticalResults_classic_vs_faster ... done successfully.
Executing test function test03_check_new_does_not_miss_maxima ... done successfully.
Executing test function test01_peakDetection ... done successfully.
Executing test function test02_peakDetection ... done successfully.
> printTextProtocol(tests) # Print results
RUNIT TEST PROTOCOL -- Thu Oct 16 00:42:27 2025
***********************************************
Number of test functions: 7
Number of errors: 0
Number of failures: 0
1 Test Suite :
MassSpecWavelet Unit Tests - 7 test functions, 0 errors, 0 failures
Details
***************************
Test Suite: MassSpecWavelet Unit Tests
Test function regexp: ^[Tt]est+
Test file regexp: ^runit.+\.[rR]$
Involved directory:
/home/biocbuild/bbs-3.21-bioc/R/site-library/MassSpecWavelet/tests
---------------------------
Test file: /home/biocbuild/bbs-3.21-bioc/R/site-library/MassSpecWavelet/tests/runit.cwt.R
test01_cwt: (1 checks) ... OK (0 seconds)
test02_cwt: (2 checks) ... OK (0.01 seconds)
---------------------------
Test file: /home/biocbuild/bbs-3.21-bioc/R/site-library/MassSpecWavelet/tests/runit.localMaximum.R
test01_localMaximum: (1 checks) ... OK (0 seconds)
test02_checkIdenticalResults_classic_vs_faster: (240 checks) ... OK (1.36 seconds)
test03_check_new_does_not_miss_maxima: (240 checks) ... OK (0.24 seconds)
---------------------------
Test file: /home/biocbuild/bbs-3.21-bioc/R/site-library/MassSpecWavelet/tests/runit.peakDetectionCWT.R
test01_peakDetection: (3 checks) ... OK (0.02 seconds)
test02_peakDetection: (2 checks) ... OK (0.01 seconds)
> # Return success or failure to R CMD CHECK
> if (getErrors(tests)$nFail > 0) stop("TEST FAILED!")
> if (getErrors(tests)$nErr > 0) stop("TEST HAD ERRORS!")
> if (getErrors(tests)$nTestFunc < 1) stop("NO TEST FUNCTIONS RUN!")
>
> proc.time()
user system elapsed
1.769 0.074 1.832
MassSpecWavelet.Rcheck/MassSpecWavelet-Ex.timings
| name | user | system | elapsed | |
| MassSpecWavelet-package | 0.577 | 0.047 | 0.624 | |
| cwt | 0.829 | 0.019 | 0.848 | |
| extendLength | 0.000 | 0.000 | 0.001 | |
| extendNBase | 0 | 0 | 0 | |
| getLocalMaximumCWT | 0.182 | 0.004 | 0.185 | |
| getRidge | 0.096 | 0.000 | 0.097 | |
| getRidgeLength | 0.000 | 0.000 | 0.001 | |
| identifyMajorPeaks | 1.434 | 0.014 | 1.448 | |
| localMaximum | 0.051 | 0.000 | 0.050 | |
| mexh | 0.000 | 0.001 | 0.002 | |
| peakDetectionCWT | 2.291 | 0.040 | 2.334 | |
| plotLocalMax | 0.079 | 0.002 | 0.081 | |
| plotPeak | 0.571 | 0.003 | 0.574 | |
| plotRidgeList | 0.134 | 0.001 | 0.135 | |
| prepareWavelets | 0.001 | 0.000 | 0.001 | |
| tuneInPeakInfo | 0.803 | 0.001 | 0.804 | |