| Back to Multiple platform build/check report for BioC 3.21: simplified long |
|
This page was generated on 2025-10-16 11:41 -0400 (Thu, 16 Oct 2025).
| Hostname | OS | Arch (*) | R version | Installed pkgs |
|---|---|---|---|---|
| nebbiolo1 | Linux (Ubuntu 24.04.3 LTS) | x86_64 | 4.5.1 (2025-06-13) -- "Great Square Root" | 4833 |
| merida1 | macOS 12.7.6 Monterey | x86_64 | 4.5.1 RC (2025-06-05 r88288) -- "Great Square Root" | 4614 |
| kjohnson1 | macOS 13.7.5 Ventura | arm64 | 4.5.1 Patched (2025-06-14 r88325) -- "Great Square Root" | 4555 |
| kunpeng2 | Linux (openEuler 24.03 LTS) | aarch64 | R Under development (unstable) (2025-02-19 r87757) -- "Unsuffered Consequences" | 4586 |
| Click on any hostname to see more info about the system (e.g. compilers) (*) as reported by 'uname -p', except on Windows and Mac OS X | ||||
| Package 1413/2341 | Hostname | OS / Arch | INSTALL | BUILD | CHECK | BUILD BIN | ||||||||
| MVCClass 1.82.0 (landing page) Elizabeth Whalen
| nebbiolo1 | Linux (Ubuntu 24.04.3 LTS) / x86_64 | OK | OK | OK | |||||||||
| merida1 | macOS 12.7.6 Monterey / x86_64 | OK | OK | OK | OK | |||||||||
| kjohnson1 | macOS 13.7.5 Ventura / arm64 | OK | OK | OK | OK | |||||||||
| kunpeng2 | Linux (openEuler 24.03 LTS) / aarch64 | OK | OK | OK | ||||||||||
|
To the developers/maintainers of the MVCClass package: - Allow up to 24 hours (and sometimes 48 hours) for your latest push to git@git.bioconductor.org:packages/MVCClass.git to reflect on this report. See Troubleshooting Build Report for more information. - Use the following Renviron settings to reproduce errors and warnings. - If 'R CMD check' started to fail recently on the Linux builder(s) over a missing dependency, add the missing dependency to 'Suggests:' in your DESCRIPTION file. See Renviron.bioc for more information. - See Martin Grigorov's blog post for how to debug Linux ARM64 related issues on a x86_64 host. |
| Package: MVCClass |
| Version: 1.82.0 |
| Command: /home/biocbuild/R/R/bin/R CMD check --install=check:MVCClass.install-out.txt --library=/home/biocbuild/R/R/site-library --no-vignettes --timings MVCClass_1.82.0.tar.gz |
| StartedAt: 2025-10-14 11:50:38 -0000 (Tue, 14 Oct 2025) |
| EndedAt: 2025-10-14 11:50:59 -0000 (Tue, 14 Oct 2025) |
| EllapsedTime: 21.0 seconds |
| RetCode: 0 |
| Status: OK |
| CheckDir: MVCClass.Rcheck |
| Warnings: 0 |
##############################################################################
##############################################################################
###
### Running command:
###
### /home/biocbuild/R/R/bin/R CMD check --install=check:MVCClass.install-out.txt --library=/home/biocbuild/R/R/site-library --no-vignettes --timings MVCClass_1.82.0.tar.gz
###
##############################################################################
##############################################################################
* using log directory ‘/home/biocbuild/bbs-3.21-bioc/meat/MVCClass.Rcheck’
* using R Under development (unstable) (2025-02-19 r87757)
* using platform: aarch64-unknown-linux-gnu
* R was compiled by
aarch64-unknown-linux-gnu-gcc (GCC) 14.2.0
GNU Fortran (GCC) 14.2.0
* running under: openEuler 24.03 (LTS-SP1)
* using session charset: UTF-8
* using option ‘--no-vignettes’
* checking for file ‘MVCClass/DESCRIPTION’ ... OK
* this is package ‘MVCClass’ version ‘1.82.0’
* checking package namespace information ... OK
* checking package dependencies ... OK
* checking if this is a source package ... OK
* checking if there is a namespace ... OK
* checking for hidden files and directories ... OK
* checking for portable file names ... OK
* checking for sufficient/correct file permissions ... OK
* checking whether package ‘MVCClass’ can be installed ... OK
* checking installed package size ... OK
* checking package directory ... OK
* checking ‘build’ directory ... OK
* checking DESCRIPTION meta-information ... NOTE
Malformed Description field: should contain one or more complete sentences.
* checking top-level files ... OK
* checking for left-over files ... OK
* checking index information ... OK
* checking package subdirectories ... OK
* checking code files for non-ASCII characters ... OK
* checking R files for syntax errors ... OK
* checking whether the package can be loaded ... OK
* checking whether the package can be loaded with stated dependencies ... OK
* checking whether the package can be unloaded cleanly ... OK
* checking whether the namespace can be loaded with stated dependencies ... OK
* checking whether the namespace can be unloaded cleanly ... OK
* checking loading without being on the library search path ... OK
* checking whether startup messages can be suppressed ... OK
* checking dependencies in R code ... NOTE
'library' or 'require' call to ‘methods’ which was already attached by Depends.
Please remove these calls from your code.
* checking S3 generic/method consistency ... OK
* checking replacement functions ... OK
* checking foreign function calls ... OK
* checking R code for possible problems ... NOTE
File ‘MVCClass/R/zzz.R’:
.onLoad calls:
require("methods")
Package startup functions should not change the search path.
See section ‘Good practice’ in '?.onAttach'.
* checking Rd files ... NOTE
prepare_Rd: MVC-class.Rd:54-55: Dropping empty section \examples
prepare_Rd: dfModel-class.Rd:42-43: Dropping empty section \examples
prepare_Rd: gAddChildMessage-class.Rd:42-43: Dropping empty section \examples
prepare_Rd: gAddDataMessage-class.Rd:42-43: Dropping empty section \examples
prepare_Rd: gAddMessage-class.Rd:37-38: Dropping empty section \examples
prepare_Rd: gAddViewMessage-class.Rd:42-43: Dropping empty section \examples
prepare_Rd: gAskAncestorMessage-class.Rd:62-63: Dropping empty section \examples
prepare_Rd: gEventFun-class.Rd:49-50: Dropping empty section \examples
prepare_Rd: gMessage-class.Rd:32-33: Dropping empty section \examples
prepare_Rd: gModel-class.Rd:71-72: Dropping empty section \examples
prepare_Rd: gModifyMessage-class.Rd:52-53: Dropping empty section \examples
prepare_Rd: gSendChildMessage-class.Rd:58-59: Dropping empty section \examples
prepare_Rd: gSendParentMessage-class.Rd:49-50: Dropping empty section \examples
prepare_Rd: gUpdateDataMessage-class.Rd:51-52: Dropping empty section \examples
prepare_Rd: gUpdateMessage-class.Rd:37-38: Dropping empty section \examples
prepare_Rd: gUpdateViewMessage-class.Rd:43-44: Dropping empty section \examples
prepare_Rd: genView-class.Rd:62-63: Dropping empty section \examples
prepare_Rd: linkedModelMVC-class.Rd:59-60: Dropping empty section \examples
prepare_Rd: plotView-class.Rd:67-68: Dropping empty section \examples
prepare_Rd: qqPlotView-class.Rd:59-60: Dropping empty section \examples
prepare_Rd: sPlotView-class.Rd:69-70: Dropping empty section \examples
prepare_Rd: singleModelMVC-class.Rd:41-42: Dropping empty section \examples
prepare_Rd: spreadView-class.Rd:50-51: Dropping empty section \examples
* checking Rd metadata ... OK
* checking Rd cross-references ... OK
* checking for missing documentation entries ... OK
* checking for code/documentation mismatches ... OK
* checking Rd \usage sections ... OK
* checking Rd contents ... OK
* checking for unstated dependencies in examples ... OK
* checking files in ‘vignettes’ ... OK
* checking examples ... NONE
* checking for unstated dependencies in vignettes ... OK
* checking package vignettes ... OK
* checking running R code from vignettes ... SKIPPED
* checking re-building of vignette outputs ... SKIPPED
* checking PDF version of manual ... OK
* DONE
Status: 4 NOTEs
See
‘/home/biocbuild/bbs-3.21-bioc/meat/MVCClass.Rcheck/00check.log’
for details.
MVCClass.Rcheck/00install.out
############################################################################## ############################################################################## ### ### Running command: ### ### /home/biocbuild/R/R/bin/R CMD INSTALL MVCClass ### ############################################################################## ############################################################################## * installing to library ‘/home/biocbuild/R/R-devel_2025-02-19/site-library’ * installing *source* package ‘MVCClass’ ... ** this is package ‘MVCClass’ version ‘1.82.0’ ** using staged installation ** R ** inst ** byte-compile and prepare package for lazy loading ** help *** installing help indices ** building package indices ** installing vignettes ** testing if installed package can be loaded from temporary location ** testing if installed package can be loaded from final location ** testing if installed package keeps a record of temporary installation path * DONE (MVCClass)