| Back to Multiple platform build/check report for BioC 3.21: simplified long |
|
This page was generated on 2025-04-22 13:18 -0400 (Tue, 22 Apr 2025).
| Hostname | OS | Arch (*) | R version | Installed pkgs |
|---|---|---|---|---|
| nebbiolo1 | Linux (Ubuntu 24.04.1 LTS) | x86_64 | 4.5.0 RC (2025-04-04 r88126) -- "How About a Twenty-Six" | 4831 |
| palomino7 | Windows Server 2022 Datacenter | x64 | 4.5.0 RC (2025-04-04 r88126 ucrt) -- "How About a Twenty-Six" | 4573 |
| lconway | macOS 12.7.1 Monterey | x86_64 | 4.5.0 RC (2025-04-04 r88126) -- "How About a Twenty-Six" | 4599 |
| kjohnson3 | macOS 13.7.1 Ventura | arm64 | 4.5.0 RC (2025-04-04 r88126) -- "How About a Twenty-Six" | 4553 |
| kunpeng2 | Linux (openEuler 24.03 LTS) | aarch64 | R Under development (unstable) (2025-02-19 r87757) -- "Unsuffered Consequences" | 4570 |
| Click on any hostname to see more info about the system (e.g. compilers) (*) as reported by 'uname -p', except on Windows and Mac OS X | ||||
| Package 1372/2341 | Hostname | OS / Arch | INSTALL | BUILD | CHECK | BUILD BIN | ||||||||
| MSnbase 2.34.0 (landing page) Laurent Gatto
| nebbiolo1 | Linux (Ubuntu 24.04.1 LTS) / x86_64 | OK | OK | OK | |||||||||
| palomino7 | Windows Server 2022 Datacenter / x64 | OK | OK | OK | OK | |||||||||
| lconway | macOS 12.7.1 Monterey / x86_64 | OK | OK | OK | OK | |||||||||
| kjohnson3 | macOS 13.7.1 Ventura / arm64 | OK | OK | OK | OK | |||||||||
| kunpeng2 | Linux (openEuler 24.03 LTS) / aarch64 | OK | OK | ERROR | ||||||||||
|
To the developers/maintainers of the MSnbase package: - Allow up to 24 hours (and sometimes 48 hours) for your latest push to git@git.bioconductor.org:packages/MSnbase.git to reflect on this report. See Troubleshooting Build Report for more information. - Use the following Renviron settings to reproduce errors and warnings. - If 'R CMD check' started to fail recently on the Linux builder(s) over a missing dependency, add the missing dependency to 'Suggests:' in your DESCRIPTION file. See Renviron.bioc for more information. |
| Package: MSnbase |
| Version: 2.34.0 |
| Command: /Library/Frameworks/R.framework/Resources/bin/R CMD check --install=check:MSnbase.install-out.txt --library=/Library/Frameworks/R.framework/Resources/library --no-vignettes --timings MSnbase_2.34.0.tar.gz |
| StartedAt: 2025-04-21 20:32:26 -0400 (Mon, 21 Apr 2025) |
| EndedAt: 2025-04-21 20:38:58 -0400 (Mon, 21 Apr 2025) |
| EllapsedTime: 391.9 seconds |
| RetCode: 0 |
| Status: OK |
| CheckDir: MSnbase.Rcheck |
| Warnings: 0 |
##############################################################################
##############################################################################
###
### Running command:
###
### /Library/Frameworks/R.framework/Resources/bin/R CMD check --install=check:MSnbase.install-out.txt --library=/Library/Frameworks/R.framework/Resources/library --no-vignettes --timings MSnbase_2.34.0.tar.gz
###
##############################################################################
##############################################################################
* using log directory ‘/Users/biocbuild/bbs-3.21-bioc/meat/MSnbase.Rcheck’
* using R version 4.5.0 RC (2025-04-04 r88126)
* using platform: aarch64-apple-darwin20
* R was compiled by
Apple clang version 14.0.0 (clang-1400.0.29.202)
GNU Fortran (GCC) 14.2.0
* running under: macOS Ventura 13.7.1
* using session charset: UTF-8
* using option ‘--no-vignettes’
* checking for file ‘MSnbase/DESCRIPTION’ ... OK
* this is package ‘MSnbase’ version ‘2.34.0’
* package encoding: UTF-8
* checking package namespace information ... OK
* checking package dependencies ... OK
* checking if this is a source package ... OK
* checking if there is a namespace ... OK
* checking for hidden files and directories ... OK
* checking for portable file names ... OK
* checking for sufficient/correct file permissions ... OK
* checking whether package ‘MSnbase’ can be installed ... OK
* used C compiler: ‘Apple clang version 15.0.0 (clang-1500.1.0.2.5)’
* used C++ compiler: ‘Apple clang version 15.0.0 (clang-1500.1.0.2.5)’
* used SDK: ‘MacOSX11.3.sdk’
* checking installed package size ... INFO
installed size is 5.7Mb
sub-directories of 1Mb or more:
R 2.5Mb
data 1.7Mb
* checking package directory ... OK
* checking ‘build’ directory ... OK
* checking DESCRIPTION meta-information ... NOTE
Authors@R field gives more than one person with maintainer role:
Laurent Gatto <laurent.gatto@uclouvain.be> [aut, cre] (ORCID: <https://orcid.org/0000-0002-1520-2268>)
Johannes Rainer <Johannes.Rainer@eurac.edu> [aut, cre] (ORCID: <https://orcid.org/0000-0002-6977-7147>)
Sebastian Gibb <mail@sebastiangibb.de> [aut, cre] (ORCID: <https://orcid.org/0000-0001-7406-4443>)
* checking top-level files ... OK
* checking for left-over files ... OK
* checking index information ... OK
* checking package subdirectories ... OK
* checking code files for non-ASCII characters ... OK
* checking R files for syntax errors ... OK
* checking whether the package can be loaded ... OK
* checking whether the package can be loaded with stated dependencies ... OK
* checking whether the package can be unloaded cleanly ... OK
* checking whether the namespace can be loaded with stated dependencies ... OK
* checking whether the namespace can be unloaded cleanly ... OK
* checking whether startup messages can be suppressed ... OK
* checking dependencies in R code ... NOTE
':::' calls which should be '::':
‘S4Vectors:::makeClassinfoRowForCompactPrinting’
‘S4Vectors:::makePrettyMatrixForCompactPrinting’
See the note in ?`:::` about the use of this operator.
Unexported objects imported by ':::' calls:
‘Biobase:::.showAnnotatedDataFrame’ ‘MALDIquant:::.estimateNoise’
‘MALDIquant:::.localMaxima’ ‘MALDIquant:::.movingAverage’
‘MALDIquant:::.savitzkyGolay’ ‘mzR:::.hasChromatograms’
‘mzR:::.hasSpectra’
See the note in ?`:::` about the use of this operator.
* checking S3 generic/method consistency ... OK
* checking replacement functions ... OK
* checking foreign function calls ... OK
* checking R code for possible problems ... OK
* checking Rd files ... OK
* checking Rd metadata ... OK
* checking Rd cross-references ... NOTE
Non-topic package-anchored link(s) in Rd file 'impute.Rd':
‘[MsCoreUtils:imputation]{MsCoreUtils::impute_matrix()}’
See section 'Cross-references' in the 'Writing R Extensions' manual.
Found the following Rd file(s) with Rd \link{} targets missing package
anchors:
Chromatogram-class.Rd: closest
FeaturesOfInterest-class.Rd: Versioned-class
MIAPE-class.Rd: MIAME-class, MIAxE-class, Versioned-class
MSnExp-class.Rd: AnnotatedDataFrame-class, phenoData, eSet-class,
featureData, experimentData, protocolData, Versions-class,
VersionedBiobase-class, Versioned-class, isolationWindow
MSnProcess-class.Rd: Versioned-class
MSnSet-class.Rd: eSet-class, ExpressionSet-class,
AnnotatedDataFrame-class, AssayData-class, exprs, assayData,
phenoData, featureData, experimentData, protocolData,
Versions-class, VersionedBiobase-class, Versioned-class, impute,
meanSdPlot, ma.plot, mva.pairs
MSnSetList-class.Rd: AnnotatedDataFrame-class
MSpectra.Rd: mcols, DataFrame, SimpleList
OnDiskMSnExp-class.Rd: AnnotatedDataFrame-class, phenoData,
featureData, experimentData, eSet-class, protocolData,
Versions-class, VersionedBiobase-class, Versioned-class
ProcessingStep-class.Rd: Versioned-class
ReporterIons-class.Rd: Versioned-class
Spectrum-class.Rd: Versioned-class
Spectrum1-class.Rd: Versioned-class
Spectrum2-class.Rd: Versioned-class
combineFeatures.Rd: impute
combineSpectra.Rd: bpparam
extractSpectraData.Rd: DataFrame
normToReference.Rd: exprs
normalise-methods.Rd: vsn2
pSet-class.Rd: eSet-class, AnnotatedDataFrame-class, phenoData,
featureData, experimentData, protocolData, Versions-class,
VersionedBiobase-class, Versioned-class
plotMzDelta-methods.Rd: geom_histogram
readMSData.Rd: AnnotatedDataFrame-class
readMSnSet.Rd: readExpressionSet, read.AnnotatedDataFrame, read.MIAME
readMgfData.Rd: AnnotatedDataFrame-class
Please provide package anchors for all Rd \link{} targets not in the
package itself and the base packages.
* checking for missing documentation entries ... OK
* checking for code/documentation mismatches ... OK
* checking Rd \usage sections ... OK
* checking Rd contents ... OK
* checking for unstated dependencies in examples ... OK
* checking contents of ‘data’ directory ... OK
* checking data for non-ASCII characters ... OK
* checking LazyData ... OK
* checking data for ASCII and uncompressed saves ... OK
* checking line endings in C/C++/Fortran sources/headers ... OK
* checking compiled code ... NOTE
Note: information on .o files is not available
* checking files in ‘vignettes’ ... OK
* checking examples ... OK
Examples with CPU (user + system) or elapsed time > 5s
user system elapsed
MzTab-class 0.194 0.019 5.246
* checking for unstated dependencies in ‘tests’ ... OK
* checking tests ...
Running ‘testthat.R’
OK
* checking for unstated dependencies in vignettes ... OK
* checking package vignettes ... OK
* checking running R code from vignettes ... SKIPPED
* checking re-building of vignette outputs ... SKIPPED
* checking PDF version of manual ... OK
* DONE
Status: 4 NOTEs
See
‘/Users/biocbuild/bbs-3.21-bioc/meat/MSnbase.Rcheck/00check.log’
for details.
MSnbase.Rcheck/00install.out
##############################################################################
##############################################################################
###
### Running command:
###
### /Library/Frameworks/R.framework/Resources/bin/R CMD INSTALL MSnbase
###
##############################################################################
##############################################################################
* installing to library ‘/Library/Frameworks/R.framework/Versions/4.5-arm64/Resources/library’
* installing *source* package ‘MSnbase’ ...
** this is package ‘MSnbase’ version ‘2.34.0’
** using staged installation
** libs
using C compiler: ‘Apple clang version 15.0.0 (clang-1500.1.0.2.5)’
using C++ compiler: ‘Apple clang version 15.0.0 (clang-1500.1.0.2.5)’
using SDK: ‘MacOSX11.3.sdk’
clang++ -arch arm64 -std=gnu++17 -I"/Library/Frameworks/R.framework/Resources/include" -DNDEBUG -I'/Library/Frameworks/R.framework/Versions/4.5-arm64/Resources/library/Rcpp/include' -I/opt/R/arm64/include -fPIC -falign-functions=64 -Wall -g -O2 -c RcppExports.cpp -o RcppExports.o
clang -arch arm64 -I"/Library/Frameworks/R.framework/Resources/include" -DNDEBUG -I'/Library/Frameworks/R.framework/Versions/4.5-arm64/Resources/library/Rcpp/include' -I/opt/R/arm64/include -fPIC -falign-functions=64 -Wall -g -O2 -c Spectrum1_class.c -o Spectrum1_class.o
Spectrum1_class.c:8:13: warning: unused function '_new_Spectrum1' [-Wunused-function]
static SEXP _new_Spectrum1(SEXP msLevel, SEXP peaksCount, SEXP rt,
^
1 warning generated.
clang -arch arm64 -I"/Library/Frameworks/R.framework/Resources/include" -DNDEBUG -I'/Library/Frameworks/R.framework/Versions/4.5-arm64/Resources/library/Rcpp/include' -I/opt/R/arm64/include -fPIC -falign-functions=64 -Wall -g -O2 -c Spectrum2_class.c -o Spectrum2_class.o
Spectrum2_class.c:9:13: warning: unused function '_new_Spectrum2' [-Wunused-function]
static SEXP _new_Spectrum2(SEXP msLevel, SEXP peaksCount, SEXP rt,
^
1 warning generated.
clang++ -arch arm64 -std=gnu++17 -I"/Library/Frameworks/R.framework/Resources/include" -DNDEBUG -I'/Library/Frameworks/R.framework/Versions/4.5-arm64/Resources/library/Rcpp/include' -I/opt/R/arm64/include -fPIC -falign-functions=64 -Wall -g -O2 -c imp_neighbour_avg.cpp -o imp_neighbour_avg.o
clang -arch arm64 -I"/Library/Frameworks/R.framework/Resources/include" -DNDEBUG -I'/Library/Frameworks/R.framework/Versions/4.5-arm64/Resources/library/Rcpp/include' -I/opt/R/arm64/include -fPIC -falign-functions=64 -Wall -g -O2 -c utils.c -o utils.o
utils.c:92:15: warning: unused variable 'ret' [-Wunused-variable]
int i1, i2, ret;
^
utils.c:107:15: warning: unused variable 'ret' [-Wunused-variable]
int i1, i2, ret;
^
utils.c:123:18: warning: unused variable 'ret' [-Wunused-variable]
double d1, d2, ret;
^
utils.c:133:18: warning: unused variable 'ret' [-Wunused-variable]
double d1, d2, ret;
^
utils.c:121:12: warning: unused function 'compar_double_asc_order' [-Wunused-function]
static int compar_double_asc_order(const void *p1, const void *p2)
^
utils.c:131:12: warning: unused function 'compar_double_desc_order' [-Wunused-function]
static int compar_double_desc_order(const void *p1, const void *p2)
^
6 warnings generated.
clang++ -arch arm64 -std=gnu++17 -dynamiclib -Wl,-headerpad_max_install_names -undefined dynamic_lookup -L/Library/Frameworks/R.framework/Resources/lib -L/opt/R/arm64/lib -o MSnbase.so RcppExports.o Spectrum1_class.o Spectrum2_class.o imp_neighbour_avg.o utils.o -F/Library/Frameworks/R.framework/.. -framework R
installing to /Library/Frameworks/R.framework/Versions/4.5-arm64/Resources/library/00LOCK-MSnbase/00new/MSnbase/libs
** R
** data
*** moving datasets to lazyload DB
Creating a new generic function for ‘trimws’ in package ‘MSnbase’
in method for ‘coerce’ with signature ‘"IBSpectra","MSnSet"’: no definition for class “IBSpectra”
in method for ‘plotMzDelta’ with signature ‘"mzRramp"’: no definition for class “mzRramp”
** inst
** byte-compile and prepare package for lazy loading
Creating a new generic function for ‘trimws’ in package ‘MSnbase’
in method for ‘coerce’ with signature ‘"IBSpectra","MSnSet"’: no definition for class “IBSpectra”
in method for ‘plotMzDelta’ with signature ‘"mzRramp"’: no definition for class “mzRramp”
** help
*** installing help indices
** building package indices
** installing vignettes
** testing if installed package can be loaded from temporary location
** checking absolute paths in shared objects and dynamic libraries
** testing if installed package can be loaded from final location
** testing if installed package keeps a record of temporary installation path
* DONE (MSnbase)
MSnbase.Rcheck/tests/testthat.Rout
R version 4.5.0 RC (2025-04-04 r88126) -- "How About a Twenty-Six"
Copyright (C) 2025 The R Foundation for Statistical Computing
Platform: aarch64-apple-darwin20
R is free software and comes with ABSOLUTELY NO WARRANTY.
You are welcome to redistribute it under certain conditions.
Type 'license()' or 'licence()' for distribution details.
R is a collaborative project with many contributors.
Type 'contributors()' for more information and
'citation()' on how to cite R or R packages in publications.
Type 'demo()' for some demos, 'help()' for on-line help, or
'help.start()' for an HTML browser interface to help.
Type 'q()' to quit R.
> # setting R_TESTS to empty string because of
> # https://github.com/hadley/testthat/issues/144
> # revert this when that issue in R is fixed.
> Sys.setenv("R_TESTS" = "")
> library("testthat")
> library("MSnbase")
Loading required package: BiocGenerics
Loading required package: generics
Attaching package: 'generics'
The following objects are masked from 'package:base':
as.difftime, as.factor, as.ordered, intersect, is.element, setdiff,
setequal, union
Attaching package: 'BiocGenerics'
The following objects are masked from 'package:stats':
IQR, mad, sd, var, xtabs
The following objects are masked from 'package:base':
Filter, Find, Map, Position, Reduce, anyDuplicated, aperm, append,
as.data.frame, basename, cbind, colnames, dirname, do.call,
duplicated, eval, evalq, get, grep, grepl, is.unsorted, lapply,
mapply, match, mget, order, paste, pmax, pmax.int, pmin, pmin.int,
rank, rbind, rownames, sapply, saveRDS, table, tapply, unique,
unsplit, which.max, which.min
Loading required package: Biobase
Welcome to Bioconductor
Vignettes contain introductory material; view with
'browseVignettes()'. To cite Bioconductor, see
'citation("Biobase")', and for packages 'citation("pkgname")'.
Loading required package: mzR
Loading required package: Rcpp
Loading required package: S4Vectors
Loading required package: stats4
Attaching package: 'S4Vectors'
The following object is masked from 'package:utils':
findMatches
The following objects are masked from 'package:base':
I, expand.grid, unname
Loading required package: ProtGenerics
Attaching package: 'ProtGenerics'
The following object is masked from 'package:stats':
smooth
This is MSnbase version 2.34.0
Visit https://lgatto.github.io/MSnbase/ to get started.
Consider switching to the 'R for Mass Spectrometry'
packages - see https://RforMassSpectrometry.org for details.
Attaching package: 'MSnbase'
The following object is masked from 'package:base':
trimws
> setMSnbaseVerbose(FALSE)
> ## register(SerialParam()) ## see issue 205
>
> ## Erwinia
> f <- msdata::proteomics(full.names = TRUE,
+ pattern = "TMT_Erwinia_1uLSike_Top10HCD_isol2_45stepped_60min_01.mzML.gz")
> tmt_erwinia_in_mem_ms1 <- readMSData(f, msLevel = 1)
> tmt_erwinia_in_mem_ms2 <- readMSData(f, msLevel = 2)
> tmt_erwinia_on_disk <- readMSData(f, mode = "onDisk")
> tmt_erwinia_on_disk_ms1 <- readMSData(f, msLevel = 1, mode = "onDisk")
> tmt_erwinia_on_disk_ms2 <- readMSData(f, msLevel = 2, mode = "onDisk")
> ## subset by rt
> tmt_im_ms1_sub <- filterRt(tmt_erwinia_in_mem_ms1, c(1200, 1250))
> tmt_im_ms2_sub <- filterRt(tmt_erwinia_in_mem_ms2, c(1200, 1250))
> tmt_od_sub <- filterRt(tmt_erwinia_on_disk, c(1200, 1250))
> tmt_od_ms1_sub <- filterRt(tmt_erwinia_on_disk_ms1, c(1200, 1250))
> tmt_od_ms2_sub <- filterRt(tmt_erwinia_on_disk_ms2, c(1200, 1250))
>
> ## microtofq
> f <- c(system.file("microtofq/MM14.mzML", package = "msdata"),
+ system.file("microtofq/MM8.mzML", package = "msdata"))
> microtofq_in_mem_ms1 <- readMSData(f, msLevel = 1)
> microtofq_on_disk_ms1 <- readMSData(f, msLevel = 1, mode = "onDisk")
> microtofq_on_disk <- readMSData(f, mode = "onDisk")
>
> ## extdata mzML
> f <- dir(system.file(package = "MSnbase", dir = "extdata"),
+ full.name = TRUE, pattern = "mzXML$")
> extdata_mzXML_in_mem_ms2 <- readMSData(f, verbose = FALSE, centroided. = FALSE)
> extdata_mzXML_on_disk <- readMSData(f, centroided. = FALSE, mode = "onDisk")
> extdata_mzXML_on_disk_ms2 <- readMSData(f, msLevel = 2, centroided. = FALSE, mode = "onDisk")
>
> sf <- dir(system.file("sciex", package = "msdata"), full.names = TRUE)
> sciex <- readMSData(sf, mode = "onDisk")
>
> test_check("MSnbase")
Experiment data
Experimenter name: Laurent Gatto
Laboratory: Cambridge Centre for Proteomics (CCP)
Contact information: Laurent Gatto
Contact email: lg390@cam.ac.uk
Title: Example 'MSnExp' data set
URL:
PMIDs:
No abstract available.
Instrument :
Model: test (1)
Manufacturer:
Customisations:
Use 'msInfo(object)' for more MIAPE-MS information.
Experiment data
Experimenter name: Laurent Gatto
Laboratory: Cambridge Centre for Proteomics (CCP)
Contact information: Laurent Gatto
Contact email: lg390@cam.ac.uk
Title: Example 'MSnExp' data set
URL:
PMIDs:
No abstract available.
notes:
Note1:
First note
MIAPE-MS information:
1. General features:
Date stamp:
Contact: Laurent Gatto
Name: Laurent Gatto
Laboratory: Cambridge Centre for Proteomics (CCP)
Instument model: test
Manufacturer:
Customisations:
Software:
Version:
Switching:
Param file:
2. Ion source
Source:
Source details:
3. Post-source componentry
Analyzer:
Analyzer details:
Collision gas:
Pressure: bars
Energy:
Detector type:
Sensitivity:
Object of class "MSmap"
Map [75, 401]
[1] Retention time: 30:01 - 34:58
[2] M/Z: 521 - 523 (res 0.005)
Object of class "MSmap"
Map [401, 75]
[1] M/Z: 521 - 523 (res 0.005)
[2] Retention time: 30:01 - 34:58
Object of class "MzTab".
Description: mzTab example file for reporting a summary report of
quantification data quantified on the protein level
Mode: Complete
Type: Quantification
Available data: Proteins PSMs
Object of class "MzTab".
Description:
Mode:
Type:
Available data: SmallMolecules
Object of class "MzTab".
Description:
Mode:
Type:
Available data: SmallMolecules
Instance of class 'MSnSetList' containig 3 objects.
MSn experiment data ("OnDiskMSnExp")
Object size in memory: 0.26 Mb
- - - Spectra data - - -
MS level(s): 1 2
Number of spectra: 509
MSn retention times: 18:28 - 22:03 minutes
- - - Processing information - - -
Data loaded [Mon Apr 21 20:35:15 2025]
MSnbase version: 2.34.0
- - - Meta data - - -
phenoData
rowNames:
TMT_Erwinia_1uLSike_Top10HCD_isol2_45stepped_60min_01.mzML.gz
varLabels: sampleNames
varMetadata: labelDescription
Loaded from:
TMT_Erwinia_1uLSike_Top10HCD_isol2_45stepped_60min_01.mzML.gz
protocolData: none
featureData
featureNames: F1.S001 F1.S002 ... F1.S509 (509 total)
fvarLabels: fileIdx spIdx ... spectrum (36 total)
fvarMetadata: labelDescription
experimentData: use 'experimentData(object)'
Object of class "ReporterIons"
TMT10HCD: '10-plex TMT HCD' with 10 reporter ions
- [126] 126.1277 +/- 0.002 (#8DD3C7)
- [127N] 127.1248 +/- 0.002 (#FFFFB3)
- [127C] 127.1311 +/- 0.002 (#BEBADA)
- [128N] 128.1281 +/- 0.002 (#FB8072)
- [128C] 128.1344 +/- 0.002 (#80B1D3)
- [129N] 129.1315 +/- 0.002 (#FDB462)
- [129C] 129.1378 +/- 0.002 (#B3DE69)
- [130N] 130.1348 +/- 0.002 (#FCCDE5)
- [130C] 130.1411 +/- 0.002 (#D9D9D9)
- [131] 131.1382 +/- 0.002 (#BC80BD)
Object of class "Spectrum1"
Retention time: 0:00
MSn level: 1
Total ion count: 684
Polarity: 1
MSn experiment data ("MSnExp")
Object size in memory: 0.18 Mb
- - - Spectra data - - -
MS level(s): 2
Number of spectra: 5
MSn retention times: 25:01 - 25:02 minutes
- - - Processing information - - -
Data loaded: Mon Apr 21 20:37:08 2025
MSnbase version: 2.34.0
- - - Meta data - - -
phenoData
rowNames: dummyiTRAQ.mzXML
varLabels: sampleNames
varMetadata: labelDescription
Loaded from:
dummyiTRAQ.mzXML
protocolData: none
featureData
featureNames: F1.S1 F1.S2 ... F1.S5 (5 total)
fvarLabels: spectrum
fvarMetadata: labelDescription
experimentData: use 'experimentData(object)'
MSn experiment data ("MSnExp")
Object size in memory: 0.2 Mb
- - - Spectra data - - -
MS level(s): 2
Number of spectra: 5
MSn retention times: 25:01 - 25:02 minutes
- - - Processing information - - -
Data loaded: Mon Apr 21 20:37:09 2025
MSnbase version: 2.34.0
- - - Meta data - - -
phenoData
rowNames: dummyiTRAQ.mzXML
varLabels: sampleNames
varMetadata: labelDescription
Loaded from:
dummyiTRAQ.mzXML
protocolData: none
featureData
featureNames: F1.S1 F1.S2 ... F1.S5 (5 total)
fvarLabels: spectrum
fvarMetadata: labelDescription
experimentData: use 'experimentData(object)'
Object of class "FeaturesOfInterest"
Created on Mon Apr 21 20:37:16 2025
Description:
small foi
3 features of interest:
P20353, P53501, Q7KU78
Traceable object of class "FeaturesOfInterest"
Created on Mon Apr 21 20:37:16 2025
Description:
my description
10 features of interest:
P20353, P53501 ... Q9VCK0, Q9VIU7
A collection of 1 features of interest.
A collection of 10 features of interest.
MSpectra with 3 spectra and 1 metadata column(s):
msLevel rtime peaksCount | id
1 2 NA 3 | 1
2 2 1.23245 4 | 2
3 1 1.23245 5 | 3
MSpectra with 3 spectra and 1 metadata column(s):
msLevel rtime peaksCount | id
<integer> <numeric> <integer> | <integer>
1 2 NA 3 | 1
2 2 1.23245 4 | 2
3 1 1.23245 5 | 3
MSpectra with 3 spectra and 1 metadata column(s):
msLevel rtime peaksCount | id
<integer> <numeric> <integer> | <integer>
1 2 NA 3 | 1
2 2 1.23245 4 | 2
3 1 1.23245 5 | 3
reading dummyiTRAQ.mzid... DONE!
[ FAIL 0 | WARN 1092 | SKIP 12 | PASS 2360 ]
══ Skipped tests (12) ══════════════════════════════════════════════════════════
• empty test (12): 'test_MzTab.R:108:1', 'test_MzTab.R:123:1',
'test_OnDiskMSnExp2.R:132:1', 'test_fdata-selection.R:71:1',
'test_functions-Chromatogram.R:39:1', 'test_functions-MSpectra.R:72:1',
'test_functions-plotting.R:1:1', 'test_io.R:3:1',
'test_methods-MChromatograms.R:155:1', 'test_readMSData2.R:51:1',
'test_readMSData2.R:63:1', 'test_readMSData2.R:80:1'
[ FAIL 0 | WARN 1092 | SKIP 12 | PASS 2360 ]
Warning message:
In for (i in seq_len(n)) { :
closing unused connection 4 (/var/folders/r0/l4fjk6cj5xj0j3brt4bplpl40000gt/T//RtmpJJmYSR/file3f869b01aec)
>
> proc.time()
user system elapsed
199.831 26.496 225.526
MSnbase.Rcheck/MSnbase-Ex.timings
| name | user | system | elapsed | |
| Chromatogram-class | 0.027 | 0.003 | 0.030 | |
| FeatComp-class | 0.067 | 0.010 | 0.080 | |
| FeaturesOfInterest-class | 0.020 | 0.003 | 0.022 | |
| MChromatograms-class | 0.053 | 0.005 | 0.066 | |
| MSmap-class | 0.001 | 0.000 | 0.000 | |
| MSnExp-class | 0.428 | 0.004 | 0.441 | |
| MSnProcess-class | 0.000 | 0.000 | 0.001 | |
| MSnSet-class | 1.228 | 0.061 | 1.298 | |
| MSnSetList-class | 0.299 | 0.009 | 0.316 | |
| MSpectra | 0.024 | 0.002 | 0.025 | |
| MzTab-class | 0.194 | 0.019 | 5.246 | |
| OnDiskMSnExp-class | 2.947 | 0.071 | 3.074 | |
| ProcessingStep-class | 0.000 | 0.000 | 0.001 | |
| ReporterIons-class | 0.004 | 0.000 | 0.004 | |
| TMT6 | 0.001 | 0.001 | 0.002 | |
| addIdentificationData-methods | 0.452 | 0.004 | 0.458 | |
| aggvar | 1.261 | 0.022 | 1.285 | |
| averageMSnSet | 1.674 | 0.115 | 1.830 | |
| bin-methods | 0.216 | 0.009 | 0.228 | |
| calculateFragments-methods | 0.528 | 0.008 | 0.541 | |
| chromatogram-MSnExp-method | 4.539 | 0.095 | 4.724 | |
| clean-methods | 0.035 | 0.003 | 0.039 | |
| combineFeatures | 0.278 | 0.006 | 0.285 | |
| combineSpectra | 1.846 | 0.070 | 1.924 | |
| combineSpectraMovingWindow | 0.983 | 0.014 | 0.997 | |
| commonFeatureNames | 0.081 | 0.003 | 0.084 | |
| compareSpectra-methods | 0.056 | 0.012 | 0.071 | |
| consensusSpectrum | 0.008 | 0.000 | 0.009 | |
| estimateMzResolution | 2.816 | 0.145 | 2.971 | |
| estimateMzScattering | 0.636 | 0.016 | 0.652 | |
| estimateNoise-method | 0.003 | 0.000 | 0.003 | |
| extractPrecSpectra-methods | 0.521 | 0.004 | 0.531 | |
| extractSpectraData | 0.892 | 0.027 | 0.922 | |
| fData-utils | 0.101 | 0.004 | 0.105 | |
| factorsAsStrings | 0.003 | 0.001 | 0.005 | |
| featureCV | 0.005 | 0.001 | 0.006 | |
| fillUp | 0.001 | 0.001 | 0.001 | |
| formatRt | 0 | 0 | 0 | |
| getVariableName | 0.001 | 0.001 | 0.002 | |
| hasSpectraOrChromatograms | 0.191 | 0.006 | 0.202 | |
| iPQF | 0.071 | 0.003 | 0.075 | |
| iTRAQ4 | 0.004 | 0.000 | 0.005 | |
| imageNA2 | 0.810 | 0.112 | 0.931 | |
| impute | 0.308 | 0.017 | 0.333 | |
| isCentroidedFromFile | 1.259 | 0.046 | 1.311 | |
| itraqdata | 0.015 | 0.007 | 0.022 | |
| listOf | 0.000 | 0.000 | 0.001 | |
| makeCamelCase | 0.000 | 0.000 | 0.001 | |
| makeNaData | 0.089 | 0.002 | 0.092 | |
| meanMzInts | 0.013 | 0.000 | 0.014 | |
| missing-data | 0.688 | 0.080 | 0.796 | |
| mzRident2dfr | 0.008 | 0.000 | 0.009 | |
| nFeatures | 0.246 | 0.006 | 0.256 | |
| nQuants | 0.029 | 0.001 | 0.029 | |
| naplot | 0.021 | 0.002 | 0.024 | |
| normToReference | 0.044 | 0.002 | 0.045 | |
| normalise-methods | 0.004 | 0.001 | 0.006 | |
| npcv | 0.002 | 0.000 | 0.001 | |
| pSet-class | 0.000 | 0.001 | 0.001 | |
| pickPeaks-method | 0.085 | 0.003 | 0.091 | |
| plot-methods | 1.549 | 0.036 | 1.632 | |
| plot2d-methods | 0.141 | 0.005 | 0.158 | |
| plotDensity-methods | 0.189 | 0.014 | 0.206 | |
| plotMzDelta-methods | 0.231 | 0.023 | 0.262 | |
| plotNA-methods | 0.111 | 0.002 | 0.114 | |
| plotSpectrumSpectrum-methods | 0.740 | 0.006 | 0.765 | |
| precSelection | 0.002 | 0.001 | 0.003 | |
| purityCorrect-methods | 0.007 | 0.002 | 0.008 | |
| quantify-methods | 0.960 | 0.024 | 0.988 | |
| readMSData | 1.010 | 0.004 | 1.014 | |
| readMSnSet | 0.025 | 0.002 | 0.027 | |
| readMgfData | 0.555 | 0.012 | 0.578 | |
| readMzIdData | 0.300 | 0.199 | 0.504 | |
| readMzTabData | 0.316 | 0.022 | 0.436 | |
| readMzTabData_v0.9 | 0.038 | 0.005 | 0.411 | |
| readSRMData | 0.448 | 0.028 | 0.476 | |
| reduce-data.frame-method | 0.004 | 0.000 | 0.004 | |
| removeNoId-methods | 0.655 | 0.003 | 0.661 | |
| removePeaks-methods | 0.148 | 0.007 | 0.155 | |
| removeReporters-methods | 0.133 | 0.001 | 0.134 | |
| selectFeatureData | 0.623 | 0.023 | 0.651 | |
| smooth-methods | 0.053 | 0.003 | 0.057 | |
| trimMz-methods | 0.047 | 0.005 | 0.052 | |
| writeMgfData-methods | 0.553 | 0.015 | 0.569 | |