| Back to Multiple platform build/check report for BioC 3.21: simplified long |
|
This page was generated on 2025-10-16 11:41 -0400 (Thu, 16 Oct 2025).
| Hostname | OS | Arch (*) | R version | Installed pkgs |
|---|---|---|---|---|
| nebbiolo1 | Linux (Ubuntu 24.04.3 LTS) | x86_64 | 4.5.1 (2025-06-13) -- "Great Square Root" | 4833 |
| merida1 | macOS 12.7.6 Monterey | x86_64 | 4.5.1 RC (2025-06-05 r88288) -- "Great Square Root" | 4614 |
| kjohnson1 | macOS 13.7.5 Ventura | arm64 | 4.5.1 Patched (2025-06-14 r88325) -- "Great Square Root" | 4555 |
| kunpeng2 | Linux (openEuler 24.03 LTS) | aarch64 | R Under development (unstable) (2025-02-19 r87757) -- "Unsuffered Consequences" | 4586 |
| Click on any hostname to see more info about the system (e.g. compilers) (*) as reported by 'uname -p', except on Windows and Mac OS X | ||||
| Package 1329/2341 | Hostname | OS / Arch | INSTALL | BUILD | CHECK | BUILD BIN | ||||||||
| MOGAMUN 1.18.0 (landing page) Elva-María Novoa-del-Toro
| nebbiolo1 | Linux (Ubuntu 24.04.3 LTS) / x86_64 | OK | OK | OK | |||||||||
| merida1 | macOS 12.7.6 Monterey / x86_64 | OK | OK | OK | OK | |||||||||
| kjohnson1 | macOS 13.7.5 Ventura / arm64 | OK | OK | OK | OK | |||||||||
| kunpeng2 | Linux (openEuler 24.03 LTS) / aarch64 | OK | OK | OK | ||||||||||
|
To the developers/maintainers of the MOGAMUN package: - Allow up to 24 hours (and sometimes 48 hours) for your latest push to git@git.bioconductor.org:packages/MOGAMUN.git to reflect on this report. See Troubleshooting Build Report for more information. - Use the following Renviron settings to reproduce errors and warnings. - If 'R CMD check' started to fail recently on the Linux builder(s) over a missing dependency, add the missing dependency to 'Suggests:' in your DESCRIPTION file. See Renviron.bioc for more information. - See Martin Grigorov's blog post for how to debug Linux ARM64 related issues on a x86_64 host. |
| Package: MOGAMUN |
| Version: 1.18.0 |
| Command: /home/biocbuild/R/R/bin/R CMD check --install=check:MOGAMUN.install-out.txt --library=/home/biocbuild/R/R/site-library --no-vignettes --timings MOGAMUN_1.18.0.tar.gz |
| StartedAt: 2025-10-14 11:26:26 -0000 (Tue, 14 Oct 2025) |
| EndedAt: 2025-10-14 11:27:31 -0000 (Tue, 14 Oct 2025) |
| EllapsedTime: 65.1 seconds |
| RetCode: 0 |
| Status: OK |
| CheckDir: MOGAMUN.Rcheck |
| Warnings: 0 |
##############################################################################
##############################################################################
###
### Running command:
###
### /home/biocbuild/R/R/bin/R CMD check --install=check:MOGAMUN.install-out.txt --library=/home/biocbuild/R/R/site-library --no-vignettes --timings MOGAMUN_1.18.0.tar.gz
###
##############################################################################
##############################################################################
* using log directory ‘/home/biocbuild/bbs-3.21-bioc/meat/MOGAMUN.Rcheck’
* using R Under development (unstable) (2025-02-19 r87757)
* using platform: aarch64-unknown-linux-gnu
* R was compiled by
aarch64-unknown-linux-gnu-gcc (GCC) 14.2.0
GNU Fortran (GCC) 14.2.0
* running under: openEuler 24.03 (LTS-SP1)
* using session charset: UTF-8
* using option ‘--no-vignettes’
* checking for file ‘MOGAMUN/DESCRIPTION’ ... OK
* checking extension type ... Package
* this is package ‘MOGAMUN’ version ‘1.18.0’
* package encoding: UTF-8
* checking package namespace information ... OK
* checking package dependencies ... OK
* checking if this is a source package ... OK
* checking if there is a namespace ... OK
* checking for hidden files and directories ... OK
* checking for portable file names ... OK
* checking for sufficient/correct file permissions ... OK
* checking whether package ‘MOGAMUN’ can be installed ... OK
* checking installed package size ... OK
* checking package directory ... OK
* checking ‘build’ directory ... OK
* checking DESCRIPTION meta-information ... OK
* checking top-level files ... OK
* checking for left-over files ... OK
* checking index information ... OK
* checking package subdirectories ... OK
* checking code files for non-ASCII characters ... OK
* checking R files for syntax errors ... OK
* checking whether the package can be loaded ... OK
* checking whether the package can be loaded with stated dependencies ... OK
* checking whether the package can be unloaded cleanly ... OK
* checking whether the namespace can be loaded with stated dependencies ... OK
* checking whether the namespace can be unloaded cleanly ... OK
* checking loading without being on the library search path ... OK
* checking dependencies in R code ... OK
* checking S3 generic/method consistency ... OK
* checking replacement functions ... OK
* checking foreign function calls ... OK
* checking R code for possible problems ... OK
* checking Rd files ... OK
* checking Rd metadata ... OK
* checking Rd cross-references ... OK
* checking for missing documentation entries ... OK
* checking for code/documentation mismatches ... OK
* checking Rd \usage sections ... OK
* checking Rd contents ... OK
* checking for unstated dependencies in examples ... OK
* checking files in ‘vignettes’ ... OK
* checking examples ... OK
* checking for unstated dependencies in ‘tests’ ... OK
* checking tests ...
Running ‘unitTests.R’
OK
* checking for unstated dependencies in vignettes ... OK
* checking package vignettes ... OK
* checking running R code from vignettes ... SKIPPED
* checking re-building of vignette outputs ... SKIPPED
* checking PDF version of manual ... OK
* DONE
Status: OK
MOGAMUN.Rcheck/00install.out
############################################################################## ############################################################################## ### ### Running command: ### ### /home/biocbuild/R/R/bin/R CMD INSTALL MOGAMUN ### ############################################################################## ############################################################################## * installing to library ‘/home/biocbuild/R/R-devel_2025-02-19/site-library’ * installing *source* package ‘MOGAMUN’ ... ** this is package ‘MOGAMUN’ version ‘1.18.0’ ** using staged installation ** R ** inst ** byte-compile and prepare package for lazy loading ** help *** installing help indices ** building package indices ** installing vignettes ** testing if installed package can be loaded from temporary location ** testing if installed package can be loaded from final location ** testing if installed package keeps a record of temporary installation path * DONE (MOGAMUN)
MOGAMUN.Rcheck/tests/unitTests.Rout
R Under development (unstable) (2025-02-19 r87757) -- "Unsuffered Consequences"
Copyright (C) 2025 The R Foundation for Statistical Computing
Platform: aarch64-unknown-linux-gnu
R is free software and comes with ABSOLUTELY NO WARRANTY.
You are welcome to redistribute it under certain conditions.
Type 'license()' or 'licence()' for distribution details.
R is a collaborative project with many contributors.
Type 'contributors()' for more information and
'citation()' on how to cite R or R packages in publications.
Type 'demo()' for some demos, 'help()' for on-line help, or
'help.start()' for an HTML browser interface to help.
Type 'q()' to quit R.
> # Our package. Used for the test suite name
> pkgname <- c("MOGAMUN", "RUnit")
>
> for (p in pkgname) {
+ require(p, quietly=TRUE, character.only=TRUE) ||
+ stop("package '", p, "' not found")
+ }
>
> pkgname <- "MOGAMUN"
>
> # Determine which files to load (have to start with test_ and end with .R)
> pattern <- "^test.*\\.R$"
>
> # Which functions to run. Have to start with 'test.'
> testFunctionRegexp = "^test.+"
>
> # Path to the unit tests folder in the package
> directory <- paste0(system.file("tests", package=pkgname), "/")
> if (.Platform$OS.type == "windows") { # windows needs the absolute file names
+ directory <- list.files(directory, pattern = pattern, full.names = TRUE)
+ }
>
> for (dir in directory) {
+ # Define RUnit test suite
+ suite <- defineTestSuite(name=paste(pkgname, "RUnit Tests"),
+ dirs=dir,
+ testFileRegexp=pattern,
+ testFuncRegexp = testFunctionRegexp,
+ rngKind="default",
+ rngNormalKind="default")
+
+ # Run tests
+ result <- runTestSuite(suite)
+
+ # Display result tests on the console
+ printTextProtocol(result)
+
+ # Write results in JUnit-like xml format
+ printJUnitProtocol(result, fileName="junit.xml")
+ }
Executing test function test.mogamun_init ... done successfully.
Executing test function test.mogamun_load_data ... Timing stopped at: 0.043 0.004 0.048
Error in LoadedData$GenesWithNodesScores$nodescore >= 0 && LoadedData$GenesWithNodesScores$nodescore <= :
'length = 1000' in coercion to 'logical(1)'
done successfully.
Executing test function test.mogamun_postprocess ... [1] "Attempt to add a new neighbor FAILED. Rolling back mutation"
[1] "Run 1. Gen. 1 completed"
[1] "FINISH TIME, RUN 1: 2025-10-14 11:27:26.29721"
Timing stopped at: 1.615 0.02 1.641
Error in checkIdentical(RealOutput, ExpectedOutput) : FALSE
In addition: Warning message:
In dir.create(ResultsPath, recursive = TRUE) :
'/home/biocbuild/R/R-devel_2025-02-19/site-library/MOGAMUN/SampleResults//Experiment_2025-10-14' already exists
done successfully.
Executing test function test.mogamun_run ... [1] "Attempt to add a new neighbor FAILED. Rolling back mutation"
[1] "Keeping similar individuals. Inf crowding distance."
Individual AverageNodesScore Density Rank CrowdingDistance
17 57, 103,.... 0.5183024 31.15112 1 Inf
18 106, 131.... 0.4917273 51.67158 1 Inf
[1] "Run 1. Gen. 1 completed"
[1] "FINISH TIME, RUN 1: 2025-10-14 11:27:28.158155"
Timing stopped at: 1.768 0.004 1.776
Error in checkEquals(length(list.files(ResDirAll)), 2) :
Mean relative difference: 0.75
In addition: Warning message:
In dir.create(ResultsPath, recursive = TRUE) :
'/home/biocbuild/R/R-devel_2025-02-19/site-library/MOGAMUN/SampleResults//Experiment_2025-10-14' already exists
done successfully.
RUNIT TEST PROTOCOL -- Tue Oct 14 11:27:28 2025
***********************************************
Number of test functions: 4
Number of errors: 1
Number of failures: 2
1 Test Suite :
MOGAMUN RUnit Tests - 4 test functions, 1 error, 2 failures
ERROR in test.mogamun_load_data: Error in LoadedData$GenesWithNodesScores$nodescore >= 0 && LoadedData$GenesWithNodesScores$nodescore <= :
'length = 1000' in coercion to 'logical(1)'
FAILURE in test.mogamun_postprocess: Error in checkIdentical(RealOutput, ExpectedOutput) : FALSE
FAILURE in test.mogamun_run: Error in checkEquals(length(list.files(ResDirAll)), 2) :
Mean relative difference: 0.75
Details
***************************
Test Suite: MOGAMUN RUnit Tests
Test function regexp: ^test.+
Test file regexp: ^test.*\.R$
Involved directory:
/home/biocbuild/R/R-devel_2025-02-19/site-library/MOGAMUN/tests/
---------------------------
Test file: /home/biocbuild/R/R-devel_2025-02-19/site-library/MOGAMUN/tests//test.mogamun.R
test.mogamun_init: (13 checks) ... OK (0 seconds)
test.mogamun_load_data: ERROR !!
Error in LoadedData$GenesWithNodesScores$nodescore >= 0 && LoadedData$GenesWithNodesScores$nodescore <= :
'length = 1000' in coercion to 'logical(1)'
test.mogamun_postprocess: FAILURE !! (check number 2)
Error in checkIdentical(RealOutput, ExpectedOutput) : FALSE
test.mogamun_run: FAILURE !! (check number 2)
Error in checkEquals(length(list.files(ResDirAll)), 2) :
Mean relative difference: 0.75
>
>
> proc.time()
user system elapsed
5.647 0.184 5.840
MOGAMUN.Rcheck/MOGAMUN-Ex.timings
| name | user | system | elapsed | |
| mogamun_init | 0 | 0 | 0 | |
| mogamun_load_data | 0.049 | 0.000 | 0.059 | |
| mogamun_postprocess | 1.596 | 0.015 | 1.618 | |
| mogamun_run | 1.958 | 0.005 | 1.966 | |