| Back to Multiple platform build/check report for BioC 3.21: simplified long |
|
This page was generated on 2025-10-16 11:39 -0400 (Thu, 16 Oct 2025).
| Hostname | OS | Arch (*) | R version | Installed pkgs |
|---|---|---|---|---|
| nebbiolo1 | Linux (Ubuntu 24.04.3 LTS) | x86_64 | 4.5.1 (2025-06-13) -- "Great Square Root" | 4833 |
| merida1 | macOS 12.7.6 Monterey | x86_64 | 4.5.1 RC (2025-06-05 r88288) -- "Great Square Root" | 4614 |
| kjohnson1 | macOS 13.7.5 Ventura | arm64 | 4.5.1 Patched (2025-06-14 r88325) -- "Great Square Root" | 4555 |
| kunpeng2 | Linux (openEuler 24.03 LTS) | aarch64 | R Under development (unstable) (2025-02-19 r87757) -- "Unsuffered Consequences" | 4586 |
| Click on any hostname to see more info about the system (e.g. compilers) (*) as reported by 'uname -p', except on Windows and Mac OS X | ||||
| Package 1320/2341 | Hostname | OS / Arch | INSTALL | BUILD | CHECK | BUILD BIN | ||||||||
| MMDiff2 1.36.0 (landing page) Gabriele Schweikert
| nebbiolo1 | Linux (Ubuntu 24.04.3 LTS) / x86_64 | OK | OK | OK | |||||||||
| merida1 | macOS 12.7.6 Monterey / x86_64 | OK | OK | OK | OK | |||||||||
| kjohnson1 | macOS 13.7.5 Ventura / arm64 | OK | OK | OK | OK | |||||||||
| kunpeng2 | Linux (openEuler 24.03 LTS) / aarch64 | OK | OK | OK | ||||||||||
|
To the developers/maintainers of the MMDiff2 package: - Allow up to 24 hours (and sometimes 48 hours) for your latest push to git@git.bioconductor.org:packages/MMDiff2.git to reflect on this report. See Troubleshooting Build Report for more information. - Use the following Renviron settings to reproduce errors and warnings. - If 'R CMD check' started to fail recently on the Linux builder(s) over a missing dependency, add the missing dependency to 'Suggests:' in your DESCRIPTION file. See Renviron.bioc for more information. |
| Package: MMDiff2 |
| Version: 1.36.0 |
| Command: /Library/Frameworks/R.framework/Resources/bin/R CMD check --install=check:MMDiff2.install-out.txt --library=/Library/Frameworks/R.framework/Resources/library --no-vignettes --timings MMDiff2_1.36.0.tar.gz |
| StartedAt: 2025-10-14 06:43:19 -0400 (Tue, 14 Oct 2025) |
| EndedAt: 2025-10-14 06:53:19 -0400 (Tue, 14 Oct 2025) |
| EllapsedTime: 600.7 seconds |
| RetCode: 0 |
| Status: OK |
| CheckDir: MMDiff2.Rcheck |
| Warnings: 0 |
##############################################################################
##############################################################################
###
### Running command:
###
### /Library/Frameworks/R.framework/Resources/bin/R CMD check --install=check:MMDiff2.install-out.txt --library=/Library/Frameworks/R.framework/Resources/library --no-vignettes --timings MMDiff2_1.36.0.tar.gz
###
##############################################################################
##############################################################################
* using log directory ‘/Users/biocbuild/bbs-3.21-bioc/meat/MMDiff2.Rcheck’
* using R version 4.5.1 RC (2025-06-05 r88288)
* using platform: x86_64-apple-darwin20
* R was compiled by
Apple clang version 14.0.0 (clang-1400.0.29.202)
GNU Fortran (GCC) 14.2.0
* running under: macOS Monterey 12.7.6
* using session charset: UTF-8
* using option ‘--no-vignettes’
* checking for file ‘MMDiff2/DESCRIPTION’ ... OK
* checking extension type ... Package
* this is package ‘MMDiff2’ version ‘1.36.0’
* checking package namespace information ... OK
* checking package dependencies ... OK
* checking if this is a source package ... OK
* checking if there is a namespace ... OK
* checking for hidden files and directories ... OK
* checking for portable file names ... OK
* checking for sufficient/correct file permissions ... OK
* checking whether package ‘MMDiff2’ can be installed ... OK
* checking installed package size ... OK
* checking package directory ... OK
* checking ‘build’ directory ... OK
* checking DESCRIPTION meta-information ... OK
* checking top-level files ... OK
* checking for left-over files ... OK
* checking index information ... OK
* checking package subdirectories ... OK
* checking code files for non-ASCII characters ... OK
* checking R files for syntax errors ... OK
* checking whether the package can be loaded ... OK
* checking whether the package can be loaded with stated dependencies ... OK
* checking whether the package can be unloaded cleanly ... OK
* checking whether the namespace can be loaded with stated dependencies ... OK
* checking whether the namespace can be unloaded cleanly ... OK
* checking dependencies in R code ... NOTE
Namespace in Imports field not imported from: ‘methods’
All declared Imports should be used.
* checking S3 generic/method consistency ... OK
* checking replacement functions ... OK
* checking foreign function calls ... OK
* checking R code for possible problems ... NOTE
DBAmmd: no visible global function definition for ‘new’
getReads: no visible global function definition for ‘IRangesList’
Undefined global functions or variables:
IRangesList new
Consider adding
importFrom("methods", "new")
to your NAMESPACE file (and ensure that your DESCRIPTION Imports field
contains 'methods').
* checking Rd files ... NOTE
checkRd: (-1) DBAmmd-class.Rd:20: Lost braces
20 | \code{DBAmmd()}{returns an empty DBAmmd Object.} \cr
| ^
checkRd: (-1) DBAmmd-class.Rd:21-23: Lost braces
21 | \code{DBAmmd(MetaData)}{ initializes a DBAmmd Object for a new
| ^
* checking Rd metadata ... OK
* checking Rd cross-references ... OK
* checking for missing documentation entries ... OK
* checking for code/documentation mismatches ... OK
* checking Rd \usage sections ... OK
* checking Rd contents ... OK
* checking for unstated dependencies in examples ... OK
* checking contents of ‘data’ directory ... OK
* checking data for non-ASCII characters ... OK
* checking data for ASCII and uncompressed saves ... OK
* checking sizes of PDF files under ‘inst/doc’ ... OK
* checking files in ‘vignettes’ ... OK
* checking examples ... OK
Examples with CPU (user + system) or elapsed time > 5s
user system elapsed
compDists 30.772 4.642 35.974
plotPeak 17.537 0.399 18.431
DBAmmd-Accessors 6.158 1.883 8.214
compHists 6.871 0.532 7.926
* checking for unstated dependencies in vignettes ... OK
* checking package vignettes ... OK
* checking running R code from vignettes ... SKIPPED
* checking re-building of vignette outputs ... SKIPPED
* checking PDF version of manual ... OK
* DONE
Status: 3 NOTEs
See
‘/Users/biocbuild/bbs-3.21-bioc/meat/MMDiff2.Rcheck/00check.log’
for details.
MMDiff2.Rcheck/00install.out
############################################################################## ############################################################################## ### ### Running command: ### ### /Library/Frameworks/R.framework/Resources/bin/R CMD INSTALL MMDiff2 ### ############################################################################## ############################################################################## * installing to library ‘/Library/Frameworks/R.framework/Versions/4.5-x86_64/Resources/library’ * installing *source* package ‘MMDiff2’ ... ** this is package ‘MMDiff2’ version ‘1.36.0’ ** using staged installation ** R ** data ** byte-compile and prepare package for lazy loading ** help *** installing help indices ** building package indices ** installing vignettes ** testing if installed package can be loaded from temporary location ** testing if installed package can be loaded from final location ** testing if installed package keeps a record of temporary installation path * DONE (MMDiff2)
MMDiff2.Rcheck/MMDiff2-Ex.timings
| name | user | system | elapsed | |
| Cfp1-Peaks | 0.000 | 0.001 | 0.001 | |
| DBAmmd-Accessors | 6.158 | 1.883 | 8.214 | |
| DBAmmd-class | 0.066 | 0.003 | 0.070 | |
| MMD | 0.000 | 0.001 | 0.001 | |
| compDists | 30.772 | 4.642 | 35.974 | |
| compHists | 6.871 | 0.532 | 7.926 | |
| compPvals | 2.048 | 0.040 | 2.257 | |
| estimateFragmentCenters | 2.545 | 0.090 | 2.780 | |
| getPeakReads | 0.554 | 0.080 | 0.701 | |
| mm9-Genes | 0.000 | 0.001 | 0.002 | |
| plotDISTS4Peak | 1.864 | 0.114 | 2.119 | |
| plotDists | 1.846 | 0.055 | 1.992 | |
| plotPeak | 17.537 | 0.399 | 18.431 | |
| reportResults | 1.938 | 0.073 | 2.013 | |
| runShinyMMDiff2 | 0.000 | 0.000 | 0.001 | |
| server.MMDiff2 | 0.000 | 0.001 | 0.001 | |
| ui.MMDiff2 | 0.000 | 0.001 | 0.001 | |