Back to Multiple platform build/check report for BioC 3.21:   simplified   long
ABCDEFGHIJ[K]LMNOPQRSTUVWXYZ

This page was generated on 2025-02-18 11:40 -0500 (Tue, 18 Feb 2025).

HostnameOSArch (*)R versionInstalled pkgs
nebbiolo1Linux (Ubuntu 24.04.1 LTS)x86_64R Under development (unstable) (2025-01-20 r87609) -- "Unsuffered Consequences" 4720
palomino7Windows Server 2022 Datacenterx64R Under development (unstable) (2025-01-21 r87610 ucrt) -- "Unsuffered Consequences" 4482
lconwaymacOS 12.7.1 Montereyx86_64R Under development (unstable) (2025-01-22 r87618) -- "Unsuffered Consequences" 4493
kjohnson3macOS 13.7.1 Venturaarm64R Under development (unstable) (2025-01-20 r87609) -- "Unsuffered Consequences" 4446
Click on any hostname to see more info about the system (e.g. compilers)      (*) as reported by 'uname -p', except on Windows and Mac OS X

Package 1089/2295HostnameOS / ArchINSTALLBUILDCHECKBUILD BIN
KnowSeq 1.21.0  (landing page)
Daniel Castillo-Secilla
Snapshot Date: 2025-02-17 13:40 -0500 (Mon, 17 Feb 2025)
git_url: https://git.bioconductor.org/packages/KnowSeq
git_branch: devel
git_last_commit: 5a60694
git_last_commit_date: 2024-10-29 10:38:15 -0500 (Tue, 29 Oct 2024)
nebbiolo1Linux (Ubuntu 24.04.1 LTS) / x86_64  OK    OK    OK  UNNEEDED, same version is already published
palomino7Windows Server 2022 Datacenter / x64  OK    OK    OK    OK  UNNEEDED, same version is already published
lconwaymacOS 12.7.1 Monterey / x86_64  OK    OK    OK    OK  UNNEEDED, same version is already published
kjohnson3macOS 13.7.1 Ventura / arm64  OK    OK    OK    OK  UNNEEDED, same version is already published


CHECK results for KnowSeq on palomino7

To the developers/maintainers of the KnowSeq package:
- Allow up to 24 hours (and sometimes 48 hours) for your latest push to git@git.bioconductor.org:packages/KnowSeq.git to reflect on this report. See Troubleshooting Build Report for more information.
- Use the following Renviron settings to reproduce errors and warnings.
- If 'R CMD check' started to fail recently on the Linux builder(s) over a missing dependency, add the missing dependency to 'Suggests:' in your DESCRIPTION file. See Renviron.bioc for more information.

raw results


Summary

Package: KnowSeq
Version: 1.21.0
Command: E:\biocbuild\bbs-3.21-bioc\R\bin\R.exe CMD check --no-multiarch --install=check:KnowSeq.install-out.txt --library=E:\biocbuild\bbs-3.21-bioc\R\library --no-vignettes --timings KnowSeq_1.21.0.tar.gz
StartedAt: 2025-02-18 02:10:58 -0500 (Tue, 18 Feb 2025)
EndedAt: 2025-02-18 02:16:27 -0500 (Tue, 18 Feb 2025)
EllapsedTime: 328.3 seconds
RetCode: 0
Status:   OK  
CheckDir: KnowSeq.Rcheck
Warnings: 0

Command output

##############################################################################
##############################################################################
###
### Running command:
###
###   E:\biocbuild\bbs-3.21-bioc\R\bin\R.exe CMD check --no-multiarch --install=check:KnowSeq.install-out.txt --library=E:\biocbuild\bbs-3.21-bioc\R\library --no-vignettes --timings KnowSeq_1.21.0.tar.gz
###
##############################################################################
##############################################################################


* using log directory 'E:/biocbuild/bbs-3.21-bioc/meat/KnowSeq.Rcheck'
* using R Under development (unstable) (2025-01-21 r87610 ucrt)
* using platform: x86_64-w64-mingw32
* R was compiled by
    gcc.exe (GCC) 13.3.0
    GNU Fortran (GCC) 13.3.0
* running under: Windows Server 2022 x64 (build 20348)
* using session charset: UTF-8
* using option '--no-vignettes'
* checking for file 'KnowSeq/DESCRIPTION' ... OK
* checking extension type ... Package
* this is package 'KnowSeq' version '1.21.0'
* package encoding: UTF-8
* checking package namespace information ... OK
* checking package dependencies ... OK
* checking if this is a source package ... OK
* checking if there is a namespace ... OK
* checking for hidden files and directories ... OK
* checking for portable file names ... OK
* checking whether package 'KnowSeq' can be installed ... OK
* checking installed package size ... INFO
  installed size is  7.2Mb
  sub-directories of 1Mb or more:
    extdata   6.9Mb
* checking package directory ... OK
* checking 'build' directory ... OK
* checking DESCRIPTION meta-information ... OK
* checking top-level files ... OK
* checking for left-over files ... OK
* checking index information ... OK
* checking package subdirectories ... OK
* checking code files for non-ASCII characters ... OK
* checking R files for syntax errors ... OK
* checking whether the package can be loaded ... OK
* checking whether the package can be loaded with stated dependencies ... OK
* checking whether the package can be unloaded cleanly ... OK
* checking whether the namespace can be loaded with stated dependencies ... OK
* checking whether the namespace can be unloaded cleanly ... OK
* checking dependencies in R code ... OK
* checking S3 generic/method consistency ... OK
* checking replacement functions ... OK
* checking foreign function calls ... OK
* checking R code for possible problems ... NOTE
DEGsExtraction: warning in topTable(fit, number = number, coef = 2,
  sort.by = "logFC", p.value = pvalue, adjust = "fdr", lfc = lfc):
  partial argument match of 'adjust' to 'adjust.method'
RNAseqQA : outlierBarPlot: no visible binding for global variable 'x'
RNAseqQA : outlierBarPlot: no visible binding for global variable 'y'
RNAseqQA: no visible binding for global variable 'Var1'
RNAseqQA: no visible binding for global variable 'Var2'
RNAseqQA: no visible binding for global variable 'value'
RNAseqQA: no visible binding for global variable 'Expression'
RNAseqQA: no visible binding for global variable 'Samples'
dataPlot: no visible binding for global variable 'Var1'
dataPlot: no visible binding for global variable 'Var2'
dataPlot: no visible binding for global variable 'value'
dataPlot: no visible binding for global variable 'Classes'
dataPlot: no visible binding for global variable 'Value'
knn_trn: no visible global function definition for 'knn.cv'
knowseqReport: no visible binding for global variable 'target'
Undefined global functions or variables:
  Classes Expression Samples Value Var1 Var2 knn.cv target value x y
* checking Rd files ... OK
* checking Rd metadata ... OK
* checking Rd cross-references ... OK
* checking for missing documentation entries ... OK
* checking for code/documentation mismatches ... OK
* checking Rd \usage sections ... OK
* checking Rd contents ... OK
* checking for unstated dependencies in examples ... OK
* checking files in 'vignettes' ... OK
* checking examples ... OK
Examples with CPU (user + system) or elapsed time > 5s
                      user system elapsed
dataPlot             25.07   0.34   25.47
svm_trn              20.06   0.22   20.28
rf_trn               19.18   0.30   19.48
svm_test             17.08   0.22   17.30
rf_test               5.19   0.20    5.39
downloadPublicSeries  1.14   0.05    9.26
* checking for unstated dependencies in vignettes ... OK
* checking package vignettes ... OK
* checking running R code from vignettes ... SKIPPED
* checking re-building of vignette outputs ... SKIPPED
* checking PDF version of manual ... OK
* DONE

Status: 1 NOTE
See
  'E:/biocbuild/bbs-3.21-bioc/meat/KnowSeq.Rcheck/00check.log'
for details.


Installation output

KnowSeq.Rcheck/00install.out

##############################################################################
##############################################################################
###
### Running command:
###
###   E:\biocbuild\bbs-3.21-bioc\R\bin\R.exe CMD INSTALL KnowSeq
###
##############################################################################
##############################################################################


* installing to library 'E:/biocbuild/bbs-3.21-bioc/R/library'
* installing *source* package 'KnowSeq' ...
** this is package 'KnowSeq' version '1.21.0'
** using staged installation
** R
** inst
** byte-compile and prepare package for lazy loading
** help
*** installing help indices
** building package indices
** installing vignettes
** testing if installed package can be loaded from temporary location
** testing if installed package can be loaded from final location
** testing if installed package keeps a record of temporary installation path
* DONE (KnowSeq)

Tests output


Example timings

KnowSeq.Rcheck/KnowSeq-Ex.timings

nameusersystemelapsed
DEGsEvidences0.360.031.10
DEGsExtraction1.750.051.95
DEGsToDiseases0.340.000.53
DEGsToPathways0.420.040.45
RNAseqQA2.520.102.64
batchEffectRemoval1.570.041.61
calculateGeneExpressionValues0.820.030.84
countsToMatrix0.070.000.09
dataPlot25.07 0.3425.47
downloadPublicSeries1.140.059.26
featureSelection0.030.010.05
fileMove000
gdcClientDownload000
geneOntologyEnrichment000
getGenesAnnotation0.220.000.22
hisatAlignment000
knn_test0.080.000.08
knn_trn1.920.051.97
knowseqReport0.000.020.01
plotConfMatrix0.020.000.02
rawAlignment000
rf_test5.190.205.39
rf_trn19.18 0.3019.48
sraToFastq000
svm_test17.08 0.2217.30
svm_trn20.06 0.2220.28