Back to Multiple platform build/check report for BioC 3.21:   simplified   long
ABCDEFGH[I]JKLMNOPQRSTUVWXYZ

This page was generated on 2025-02-15 11:40 -0500 (Sat, 15 Feb 2025).

HostnameOSArch (*)R versionInstalled pkgs
nebbiolo1Linux (Ubuntu 24.04.1 LTS)x86_64R Under development (unstable) (2025-01-20 r87609) -- "Unsuffered Consequences" 4720
palomino7Windows Server 2022 Datacenterx64R Under development (unstable) (2025-01-21 r87610 ucrt) -- "Unsuffered Consequences" 4482
lconwaymacOS 12.7.1 Montereyx86_64R Under development (unstable) (2025-01-22 r87618) -- "Unsuffered Consequences" 4493
kjohnson3macOS 13.7.1 Venturaarm64R Under development (unstable) (2025-01-20 r87609) -- "Unsuffered Consequences" 4446
Click on any hostname to see more info about the system (e.g. compilers)      (*) as reported by 'uname -p', except on Windows and Mac OS X

Package 1044/2295HostnameOS / ArchINSTALLBUILDCHECKBUILD BIN
IntEREst 1.31.1  (landing page)
Ali Oghabian
Snapshot Date: 2025-02-14 13:40 -0500 (Fri, 14 Feb 2025)
git_url: https://git.bioconductor.org/packages/IntEREst
git_branch: devel
git_last_commit: ee878ab
git_last_commit_date: 2025-02-14 03:01:50 -0500 (Fri, 14 Feb 2025)
nebbiolo1Linux (Ubuntu 24.04.1 LTS) / x86_64  OK    OK    OK  NO, package depends on 'DEXSeq' which is not available
palomino7Windows Server 2022 Datacenter / x64  OK    OK    OK    OK  NO, package depends on 'DEXSeq' which is not available
lconwaymacOS 12.7.1 Monterey / x86_64  OK    OK    OK    OK  NO, package depends on 'DEXSeq' which is not available
kjohnson3macOS 13.7.1 Ventura / arm64  OK    OK    OK    OK  NO, package depends on 'DEXSeq' which is not available


CHECK results for IntEREst on nebbiolo1

To the developers/maintainers of the IntEREst package:
- Allow up to 24 hours (and sometimes 48 hours) for your latest push to git@git.bioconductor.org:packages/IntEREst.git to reflect on this report. See Troubleshooting Build Report for more information.
- Use the following Renviron settings to reproduce errors and warnings.
- If 'R CMD check' started to fail recently on the Linux builder(s) over a missing dependency, add the missing dependency to 'Suggests:' in your DESCRIPTION file. See Renviron.bioc for more information.

raw results


Summary

Package: IntEREst
Version: 1.31.1
Command: /home/biocbuild/bbs-3.21-bioc/R/bin/R CMD check --install=check:IntEREst.install-out.txt --library=/home/biocbuild/bbs-3.21-bioc/R/site-library --timings IntEREst_1.31.1.tar.gz
StartedAt: 2025-02-14 23:08:33 -0500 (Fri, 14 Feb 2025)
EndedAt: 2025-02-14 23:15:40 -0500 (Fri, 14 Feb 2025)
EllapsedTime: 426.4 seconds
RetCode: 0
Status:   OK  
CheckDir: IntEREst.Rcheck
Warnings: 0

Command output

##############################################################################
##############################################################################
###
### Running command:
###
###   /home/biocbuild/bbs-3.21-bioc/R/bin/R CMD check --install=check:IntEREst.install-out.txt --library=/home/biocbuild/bbs-3.21-bioc/R/site-library --timings IntEREst_1.31.1.tar.gz
###
##############################################################################
##############################################################################


* using log directory ‘/home/biocbuild/bbs-3.21-bioc/meat/IntEREst.Rcheck’
* using R Under development (unstable) (2025-01-20 r87609)
* using platform: x86_64-pc-linux-gnu
* R was compiled by
    gcc (Ubuntu 13.3.0-6ubuntu2~24.04) 13.3.0
    GNU Fortran (Ubuntu 13.3.0-6ubuntu2~24.04) 13.3.0
* running under: Ubuntu 24.04.2 LTS
* using session charset: UTF-8
* checking for file ‘IntEREst/DESCRIPTION’ ... OK
* this is package ‘IntEREst’ version ‘1.31.1’
* checking package namespace information ... OK
* checking package dependencies ... INFO
Depends: includes the non-default packages:
  'GenomicRanges', 'Rsamtools', 'SummarizedExperiment', 'edgeR',
  'S4Vectors', 'GenomicFiles'
Adding so many packages to the search path is excessive and importing
selectively is preferable.
* checking if this is a source package ... OK
* checking if there is a namespace ... OK
* checking for hidden files and directories ... OK
* checking for portable file names ... OK
* checking for sufficient/correct file permissions ... OK
* checking whether package ‘IntEREst’ can be installed ... OK
* checking installed package size ... OK
* checking package directory ... OK
* checking ‘build’ directory ... OK
* checking DESCRIPTION meta-information ... OK
* checking top-level files ... OK
* checking for left-over files ... OK
* checking index information ... OK
* checking package subdirectories ... OK
* checking code files for non-ASCII characters ... OK
* checking R files for syntax errors ... OK
* checking whether the package can be loaded ... OK
* checking whether the package can be loaded with stated dependencies ... OK
* checking whether the package can be unloaded cleanly ... OK
* checking whether the namespace can be loaded with stated dependencies ... OK
* checking whether the namespace can be unloaded cleanly ... OK
* checking loading without being on the library search path ... OK
* checking dependencies in R code ... OK
* checking S3 generic/method consistency ... OK
* checking replacement functions ... OK
* checking foreign function calls ... OK
* checking R code for possible problems ... OK
* checking Rd files ... OK
* checking Rd metadata ... OK
* checking Rd cross-references ... NOTE
Non-topic package-anchored link(s) in Rd file 'glmInterest.Rd':
  ‘[edgeR]{glmfit}’

See section 'Cross-references' in the 'Writing R Extensions' manual.
* checking for missing documentation entries ... OK
* checking for code/documentation mismatches ... OK
* checking Rd \usage sections ... OK
* checking Rd contents ... OK
* checking for unstated dependencies in examples ... OK
* checking contents of ‘data’ directory ... OK
* checking data for non-ASCII characters ... OK
* checking LazyData ... OK
* checking data for ASCII and uncompressed saves ... OK
* checking files in ‘vignettes’ ... OK
* checking examples ... OK
Examples with CPU (user + system) or elapsed time > 5s
                 user system elapsed
DEXSeqIntEREst 21.023  0.335  21.364
* checking for unstated dependencies in vignettes ... OK
* checking package vignettes ... OK
* checking re-building of vignette outputs ... OK
* checking PDF version of manual ... OK
* DONE

Status: 1 NOTE
See
  ‘/home/biocbuild/bbs-3.21-bioc/meat/IntEREst.Rcheck/00check.log’
for details.


Installation output

IntEREst.Rcheck/00install.out

##############################################################################
##############################################################################
###
### Running command:
###
###   /home/biocbuild/bbs-3.21-bioc/R/bin/R CMD INSTALL IntEREst
###
##############################################################################
##############################################################################


* installing to library ‘/home/biocbuild/bbs-3.21-bioc/R/site-library’
* installing *source* package ‘IntEREst’ ...
** this is package ‘IntEREst’ version ‘1.31.1’
** using staged installation
** R
** data
*** moving datasets to lazyload DB
** inst
** byte-compile and prepare package for lazy loading
** help
*** installing help indices
** building package indices
** installing vignettes
** testing if installed package can be loaded from temporary location
** testing if installed package can be loaded from final location
** testing if installed package keeps a record of temporary installation path
* DONE (IntEREst)

Tests output


Example timings

IntEREst.Rcheck/IntEREst-Ex.timings

nameusersystemelapsed
DEXSeqIntEREst21.023 0.33521.364
addAnnotation0.0280.0010.029
annotateU121.8600.1281.988
applyOverlap0.1240.0010.126
attributes0.0170.0020.020
boxplot-method0.0420.0000.041
buildSsTypePwms0.0010.0000.001
counts-method0.0240.0000.024
deseqInterest3.6180.0163.634
exactTestInterest0.0730.0030.076
getRepeatTable000
glmInterest0.0850.0010.086
interest1.1690.0051.175
interest.sequential1.0500.0001.051
interestResult0.0150.0000.016
interestResultIntEx0.1490.0000.149
intexIndex0.0030.0000.002
lfc0.1790.0000.179
mergeInterestResult0.0790.0010.080
plot-method0.2560.0040.260
psi0.6010.0020.602
qlfInterest0.1130.0040.118
readInterestResults0.0270.0010.029
referencePrepare1.0140.0101.024
subInterestResult0.0280.0000.028
treatInterest0.0860.0030.090
u12Boxplot0.0490.0000.049
u12BoxplotNb0.0620.0000.062
u12DensityPlot0.2140.0130.228
u12Index0.0040.0000.004
u12NbIndex0.0380.0010.040
unionRefTr0.0130.0000.014
updateRowDataCol0.0440.0000.045