Back to Multiple platform build/check report for BioC 3.21: simplified long |
|
This page was generated on 2025-02-15 11:40 -0500 (Sat, 15 Feb 2025).
Hostname | OS | Arch (*) | R version | Installed pkgs |
---|---|---|---|---|
nebbiolo1 | Linux (Ubuntu 24.04.1 LTS) | x86_64 | R Under development (unstable) (2025-01-20 r87609) -- "Unsuffered Consequences" | 4720 |
palomino7 | Windows Server 2022 Datacenter | x64 | R Under development (unstable) (2025-01-21 r87610 ucrt) -- "Unsuffered Consequences" | 4482 |
lconway | macOS 12.7.1 Monterey | x86_64 | R Under development (unstable) (2025-01-22 r87618) -- "Unsuffered Consequences" | 4493 |
kjohnson3 | macOS 13.7.1 Ventura | arm64 | R Under development (unstable) (2025-01-20 r87609) -- "Unsuffered Consequences" | 4446 |
Click on any hostname to see more info about the system (e.g. compilers) (*) as reported by 'uname -p', except on Windows and Mac OS X |
Package 1034/2295 | Hostname | OS / Arch | INSTALL | BUILD | CHECK | BUILD BIN | ||||||||
INSPEcT 1.37.0 (landing page) Stefano de Pretis
| nebbiolo1 | Linux (Ubuntu 24.04.1 LTS) / x86_64 | OK | OK | OK | ![]() | ||||||||
palomino7 | Windows Server 2022 Datacenter / x64 | OK | OK | OK | OK | ![]() | ||||||||
lconway | macOS 12.7.1 Monterey / x86_64 | OK | OK | OK | OK | ![]() | ||||||||
kjohnson3 | macOS 13.7.1 Ventura / arm64 | OK | OK | OK | OK | ![]() | ||||||||
To the developers/maintainers of the INSPEcT package: - Allow up to 24 hours (and sometimes 48 hours) for your latest push to git@git.bioconductor.org:packages/INSPEcT.git to reflect on this report. See Troubleshooting Build Report for more information. - Use the following Renviron settings to reproduce errors and warnings. - If 'R CMD check' started to fail recently on the Linux builder(s) over a missing dependency, add the missing dependency to 'Suggests:' in your DESCRIPTION file. See Renviron.bioc for more information. |
Package: INSPEcT |
Version: 1.37.0 |
Command: /home/biocbuild/bbs-3.21-bioc/R/bin/R CMD check --install=check:INSPEcT.install-out.txt --library=/home/biocbuild/bbs-3.21-bioc/R/site-library --timings INSPEcT_1.37.0.tar.gz |
StartedAt: 2025-02-14 23:06:28 -0500 (Fri, 14 Feb 2025) |
EndedAt: 2025-02-14 23:25:04 -0500 (Fri, 14 Feb 2025) |
EllapsedTime: 1115.6 seconds |
RetCode: 0 |
Status: OK |
CheckDir: INSPEcT.Rcheck |
Warnings: 0 |
############################################################################## ############################################################################## ### ### Running command: ### ### /home/biocbuild/bbs-3.21-bioc/R/bin/R CMD check --install=check:INSPEcT.install-out.txt --library=/home/biocbuild/bbs-3.21-bioc/R/site-library --timings INSPEcT_1.37.0.tar.gz ### ############################################################################## ############################################################################## * using log directory ‘/home/biocbuild/bbs-3.21-bioc/meat/INSPEcT.Rcheck’ * using R Under development (unstable) (2025-01-20 r87609) * using platform: x86_64-pc-linux-gnu * R was compiled by gcc (Ubuntu 13.3.0-6ubuntu2~24.04) 13.3.0 GNU Fortran (Ubuntu 13.3.0-6ubuntu2~24.04) 13.3.0 * running under: Ubuntu 24.04.2 LTS * using session charset: UTF-8 * checking for file ‘INSPEcT/DESCRIPTION’ ... OK * checking extension type ... Package * this is package ‘INSPEcT’ version ‘1.37.0’ * checking package namespace information ... OK * checking package dependencies ... OK * checking if this is a source package ... OK * checking if there is a namespace ... OK * checking for hidden files and directories ... OK * checking for portable file names ... OK * checking for sufficient/correct file permissions ... OK * checking whether package ‘INSPEcT’ can be installed ... OK * checking installed package size ... INFO installed size is 6.9Mb sub-directories of 1Mb or more: R 1.5Mb data 2.9Mb * checking package directory ... OK * checking ‘build’ directory ... OK * checking DESCRIPTION meta-information ... OK * checking top-level files ... OK * checking for left-over files ... OK * checking index information ... OK * checking package subdirectories ... OK * checking code files for non-ASCII characters ... OK * checking R files for syntax errors ... OK * checking whether the package can be loaded ... OK * checking whether the package can be loaded with stated dependencies ... OK * checking whether the package can be unloaded cleanly ... OK * checking whether the namespace can be loaded with stated dependencies ... OK * checking whether the namespace can be unloaded cleanly ... OK * checking loading without being on the library search path ... OK * checking dependencies in R code ... OK * checking S3 generic/method consistency ... OK * checking replacement functions ... OK * checking foreign function calls ... OK * checking R code for possible problems ... NOTE output_pars: no visible global function definition for ‘plot.new’ plotSingleRNADynamic: no visible global function definition for ‘lines’ Undefined global functions or variables: lines plot.new Consider adding importFrom("graphics", "lines", "plot.new") to your NAMESPACE file. * checking Rd files ... OK * checking Rd metadata ... OK * checking Rd cross-references ... NOTE Found the following Rd file(s) with Rd \link{} targets missing package anchors: INSPEcT-class.Rd: featureNames Please provide package anchors for all Rd \link{} targets not in the package itself and the base packages. * checking for missing documentation entries ... OK * checking for code/documentation mismatches ... OK * checking Rd \usage sections ... OK * checking Rd contents ... OK * checking for unstated dependencies in examples ... OK * checking contents of ‘data’ directory ... OK * checking data for non-ASCII characters ... OK * checking data for ASCII and uncompressed saves ... OK * checking files in ‘vignettes’ ... OK * checking examples ... OK Examples with CPU (user + system) or elapsed time > 5s user system elapsed makeSimDataset 74.439 0.480 74.920 modelRates 38.254 0.141 38.396 quantifyExpressionsFromBAMs 32.293 0.241 32.643 INSPEcT_diffsteady-class 27.821 0.559 28.382 rocThresholds 26.635 0.094 26.729 rocCurve 25.208 0.118 25.327 makeSimModel 24.397 0.041 24.437 plotMA 23.100 0.070 23.170 compareSteady 22.911 0.218 23.131 quantifyExpressionsFromTrCounts 16.635 0.149 16.784 newINSPEcT 14.575 0.121 14.696 processingDelay 13.200 0.077 13.278 inspectFromPCR 6.621 0.032 6.653 makeOscillatorySimModel 5.809 0.028 5.840 compareSteadyNoNascent 5.357 0.044 5.401 * checking for unstated dependencies in vignettes ... OK * checking package vignettes ... OK * checking re-building of vignette outputs ... OK * checking PDF version of manual ... OK * DONE Status: 2 NOTEs See ‘/home/biocbuild/bbs-3.21-bioc/meat/INSPEcT.Rcheck/00check.log’ for details.
INSPEcT.Rcheck/00install.out
############################################################################## ############################################################################## ### ### Running command: ### ### /home/biocbuild/bbs-3.21-bioc/R/bin/R CMD INSTALL INSPEcT ### ############################################################################## ############################################################################## * installing to library ‘/home/biocbuild/bbs-3.21-bioc/R/site-library’ * installing *source* package ‘INSPEcT’ ... ** this is package ‘INSPEcT’ version ‘1.37.0’ ** using staged installation ** R ** data ** inst ** byte-compile and prepare package for lazy loading ** help *** installing help indices ** building package indices ** installing vignettes ** testing if installed package can be loaded from temporary location ** testing if installed package can be loaded from final location ** testing if installed package keeps a record of temporary installation path * DONE (INSPEcT)
INSPEcT.Rcheck/INSPEcT-Ex.timings
name | user | system | elapsed | |
AIC-INSPEcT-method | 0.186 | 0.009 | 0.196 | |
Extract | 0.367 | 0.008 | 0.376 | |
INSPEcT_diffsteady-class | 27.821 | 0.559 | 28.382 | |
calculateRatePvals | 0.220 | 0.014 | 0.234 | |
chisqmodel | 0.189 | 0.002 | 0.191 | |
chisqtest | 0.185 | 0.004 | 0.189 | |
combine | 0.358 | 0.013 | 0.372 | |
compareSteady | 22.911 | 0.218 | 23.131 | |
compareSteadyNoNascent | 5.357 | 0.044 | 5.401 | |
convergence | 0.188 | 0.004 | 0.191 | |
geneClass | 0.225 | 0.002 | 0.227 | |
inHeatmap | 0.219 | 0.003 | 0.223 | |
inspectFromPCR | 6.621 | 0.032 | 6.653 | |
labeledSF | 0.183 | 0.009 | 0.193 | |
logLik | 0.190 | 0.002 | 0.194 | |
makeModelRates | 0.222 | 0.007 | 0.228 | |
makeOscillatorySimModel | 5.809 | 0.028 | 5.840 | |
makeSimDataset | 74.439 | 0.480 | 74.920 | |
makeSimModel | 24.397 | 0.041 | 24.437 | |
modelRates | 38.254 | 0.141 | 38.396 | |
modelRatesNF | 4.073 | 0.013 | 4.086 | |
modelSelection | 0.181 | 0.006 | 0.188 | |
modelingParams | 0.181 | 0.006 | 0.187 | |
nGenes | 0.187 | 0.000 | 0.187 | |
nTpts | 0.184 | 0.002 | 0.186 | |
newINSPEcT | 14.575 | 0.121 | 14.696 | |
plotGene | 0.222 | 0.002 | 0.223 | |
plotMA | 23.10 | 0.07 | 23.17 | |
processingDelay | 13.200 | 0.077 | 13.278 | |
quantifyExpressionsFromBAMs | 32.293 | 0.241 | 32.643 | |
quantifyExpressionsFromTrCounts | 16.635 | 0.149 | 16.784 | |
ratePvals | 0.189 | 0.000 | 0.189 | |
ratesFirstGuess | 0.190 | 0.001 | 0.191 | |
ratesFirstGuessVar | 0.186 | 0.003 | 0.189 | |
removeModel | 0.280 | 0.002 | 0.281 | |
rocCurve | 25.208 | 0.118 | 25.327 | |
rocThresholds | 26.635 | 0.094 | 26.729 | |
split | 0.279 | 0.004 | 0.282 | |
tpts | 0.181 | 0.002 | 0.184 | |
viewConfidenceIntervals | 0.186 | 0.003 | 0.189 | |
viewModelRates | 0.185 | 0.002 | 0.187 | |