| Back to Multiple platform build/check report for BioC 3.21: simplified long |
|
This page was generated on 2025-10-16 11:39 -0400 (Thu, 16 Oct 2025).
| Hostname | OS | Arch (*) | R version | Installed pkgs |
|---|---|---|---|---|
| nebbiolo1 | Linux (Ubuntu 24.04.3 LTS) | x86_64 | 4.5.1 (2025-06-13) -- "Great Square Root" | 4833 |
| merida1 | macOS 12.7.6 Monterey | x86_64 | 4.5.1 RC (2025-06-05 r88288) -- "Great Square Root" | 4614 |
| kjohnson1 | macOS 13.7.5 Ventura | arm64 | 4.5.1 Patched (2025-06-14 r88325) -- "Great Square Root" | 4555 |
| kunpeng2 | Linux (openEuler 24.03 LTS) | aarch64 | R Under development (unstable) (2025-02-19 r87757) -- "Unsuffered Consequences" | 4586 |
| Click on any hostname to see more info about the system (e.g. compilers) (*) as reported by 'uname -p', except on Windows and Mac OS X | ||||
| Package 982/2341 | Hostname | OS / Arch | INSTALL | BUILD | CHECK | BUILD BIN | ||||||||
| HilbertVis 1.66.1 (landing page) Simon Anders
| nebbiolo1 | Linux (Ubuntu 24.04.3 LTS) / x86_64 | OK | OK | OK | |||||||||
| merida1 | macOS 12.7.6 Monterey / x86_64 | OK | OK | WARNINGS | OK | |||||||||
| kjohnson1 | macOS 13.7.5 Ventura / arm64 | OK | OK | WARNINGS | OK | |||||||||
| kunpeng2 | Linux (openEuler 24.03 LTS) / aarch64 | OK | OK | OK | ||||||||||
|
To the developers/maintainers of the HilbertVis package: - Allow up to 24 hours (and sometimes 48 hours) for your latest push to git@git.bioconductor.org:packages/HilbertVis.git to reflect on this report. See Troubleshooting Build Report for more information. - Use the following Renviron settings to reproduce errors and warnings. - If 'R CMD check' started to fail recently on the Linux builder(s) over a missing dependency, add the missing dependency to 'Suggests:' in your DESCRIPTION file. See Renviron.bioc for more information. |
| Package: HilbertVis |
| Version: 1.66.1 |
| Command: rm -rf HilbertVis.buildbin-libdir && mkdir HilbertVis.buildbin-libdir && /Users/biocbuild/BBS/utils/build-universal.sh HilbertVis_1.66.1.tar.gz /Library/Frameworks/R.framework/Resources/bin/R HilbertVis.buildbin-libdir |
| StartedAt: 2025-10-14 13:43:28 -0400 (Tue, 14 Oct 2025) |
| EndedAt: 2025-10-14 13:43:39 -0400 (Tue, 14 Oct 2025) |
| EllapsedTime: 10.4 seconds |
| RetCode: 0 |
| Status: OK |
| PackageFile: HilbertVis_1.66.1.tgz |
| PackageFileSize: 1.117 MiB |
##############################################################################
##############################################################################
###
### Running command:
###
### rm -rf HilbertVis.buildbin-libdir && mkdir HilbertVis.buildbin-libdir && /Users/biocbuild/BBS/utils/build-universal.sh HilbertVis_1.66.1.tar.gz /Library/Frameworks/R.framework/Resources/bin/R HilbertVis.buildbin-libdir
###
##############################################################################
##############################################################################
>>>>>>>
>>>>>>> INSTALLATION WITH 'R CMD INSTALL --preclean --no-multiarch --library=HilbertVis.buildbin-libdir HilbertVis_1.66.1.tar.gz'
>>>>>>>
* installing *source* package ‘HilbertVis’ ...
** this is package ‘HilbertVis’ version ‘1.66.1’
** using staged installation
** libs
using C compiler: ‘Apple clang version 14.0.0 (clang-1400.0.29.202)’
using SDK: ‘MacOSX11.3.sdk’
clang -arch x86_64 -I"/Library/Frameworks/R.framework/Resources/include" -DNDEBUG -I/opt/R/x86_64/include -fPIC -falign-functions=64 -Wall -g -O2 -c hilbert.c -o hilbert.o
clang -arch x86_64 -I"/Library/Frameworks/R.framework/Resources/include" -DNDEBUG -I/opt/R/x86_64/include -fPIC -falign-functions=64 -Wall -g -O2 -c make_wiggle_vector.c -o make_wiggle_vector.o
clang -arch x86_64 -I"/Library/Frameworks/R.framework/Resources/include" -DNDEBUG -I/opt/R/x86_64/include -fPIC -falign-functions=64 -Wall -g -O2 -c shrink_vector.c -o shrink_vector.o
shrink_vector.c:76:20: warning: using integer absolute value function 'abs' when argument is of floating point type [-Wabsolute-value]
if( abs( REAL( vector )[ j ] ) > abs( val ) )
^
shrink_vector.c:76:20: note: use function 'fabs' instead
if( abs( REAL( vector )[ j ] ) > abs( val ) )
^~~
fabs
shrink_vector.c:76:49: warning: using integer absolute value function 'abs' when argument is of floating point type [-Wabsolute-value]
if( abs( REAL( vector )[ j ] ) > abs( val ) )
^
shrink_vector.c:76:49: note: use function 'fabs' instead
if( abs( REAL( vector )[ j ] ) > abs( val ) )
^~~
fabs
2 warnings generated.
clang -arch x86_64 -dynamiclib -Wl,-headerpad_max_install_names -undefined dynamic_lookup -L/Library/Frameworks/R.framework/Resources/lib -L/opt/R/x86_64/lib -o HilbertVis.so hilbert.o make_wiggle_vector.o shrink_vector.o -F/Library/Frameworks/R.framework/.. -framework R
installing to /Users/biocbuild/bbs-3.21-bioc/meat/HilbertVis.buildbin-libdir/00LOCK-HilbertVis/00new/HilbertVis/libs
** R
** inst
** byte-compile and prepare package for lazy loading
** help
*** installing help indices
** building package indices
** installing vignettes
** testing if installed package can be loaded from temporary location
** checking absolute paths in shared objects and dynamic libraries
** testing if installed package can be loaded from final location
** testing if installed package keeps a record of temporary installation path
* DONE (HilbertVis)
>>>>>>>
>>>>>>> FIXING PATHS TO DYNAMIC LIBRARIES FOR HilbertVis.buildbin-libdir/HilbertVis/libs/HilbertVis.so
>>>>>>>
>>>>>>> Paths before fix:
HilbertVis.buildbin-libdir/HilbertVis/libs/HilbertVis.so:
HilbertVis.so (compatibility version 0.0.0, current version 0.0.0)
/Library/Frameworks/R.framework/Versions/4.5-x86_64/Resources/lib/libR.dylib (compatibility version 4.5.0, current version 4.5.1)
/usr/lib/libSystem.B.dylib (compatibility version 1.0.0, current version 1292.100.5)
>>>>>>> Fix with install_name_tool:
install_name_tool -change "/usr/local/lib/libgcc_s.1.1.dylib" "/Library/Frameworks/R.framework/Versions/4.5-x86_64/Resources/lib/libgcc_s.1.1.dylib" "HilbertVis.buildbin-libdir/HilbertVis/libs/HilbertVis.so"
install_name_tool -change "/usr/local/lib/libgfortran.5.dylib" "/Library/Frameworks/R.framework/Versions/4.5-x86_64/Resources/lib/libgfortran.5.dylib" "HilbertVis.buildbin-libdir/HilbertVis/libs/HilbertVis.so"
install_name_tool -change "/usr/local/lib/libquadmath.0.dylib" "/Library/Frameworks/R.framework/Versions/4.5-x86_64/Resources/lib/libquadmath.0.dylib" "HilbertVis.buildbin-libdir/HilbertVis/libs/HilbertVis.so"
>>>>>>> Paths after fix:
HilbertVis.buildbin-libdir/HilbertVis/libs/HilbertVis.so:
HilbertVis.so (compatibility version 0.0.0, current version 0.0.0)
/Library/Frameworks/R.framework/Versions/4.5-x86_64/Resources/lib/libR.dylib (compatibility version 4.5.0, current version 4.5.1)
/usr/lib/libSystem.B.dylib (compatibility version 1.0.0, current version 1292.100.5)