| Back to Multiple platform build/check report for BioC 3.21: simplified long |
|
This page was generated on 2025-10-16 11:41 -0400 (Thu, 16 Oct 2025).
| Hostname | OS | Arch (*) | R version | Installed pkgs |
|---|---|---|---|---|
| nebbiolo1 | Linux (Ubuntu 24.04.3 LTS) | x86_64 | 4.5.1 (2025-06-13) -- "Great Square Root" | 4833 |
| merida1 | macOS 12.7.6 Monterey | x86_64 | 4.5.1 RC (2025-06-05 r88288) -- "Great Square Root" | 4614 |
| kjohnson1 | macOS 13.7.5 Ventura | arm64 | 4.5.1 Patched (2025-06-14 r88325) -- "Great Square Root" | 4555 |
| kunpeng2 | Linux (openEuler 24.03 LTS) | aarch64 | R Under development (unstable) (2025-02-19 r87757) -- "Unsuffered Consequences" | 4586 |
| Click on any hostname to see more info about the system (e.g. compilers) (*) as reported by 'uname -p', except on Windows and Mac OS X | ||||
| Package 837/2341 | Hostname | OS / Arch | INSTALL | BUILD | CHECK | BUILD BIN | ||||||||
| GenomicFeatures 1.60.0 (landing page) H. Pagès
| nebbiolo1 | Linux (Ubuntu 24.04.3 LTS) / x86_64 | OK | OK | OK | |||||||||
| merida1 | macOS 12.7.6 Monterey / x86_64 | OK | OK | OK | OK | |||||||||
| kjohnson1 | macOS 13.7.5 Ventura / arm64 | OK | OK | OK | OK | |||||||||
| kunpeng2 | Linux (openEuler 24.03 LTS) / aarch64 | OK | OK | OK | ||||||||||
|
To the developers/maintainers of the GenomicFeatures package: - Allow up to 24 hours (and sometimes 48 hours) for your latest push to git@git.bioconductor.org:packages/GenomicFeatures.git to reflect on this report. See Troubleshooting Build Report for more information. - Use the following Renviron settings to reproduce errors and warnings. - If 'R CMD check' started to fail recently on the Linux builder(s) over a missing dependency, add the missing dependency to 'Suggests:' in your DESCRIPTION file. See Renviron.bioc for more information. - See Martin Grigorov's blog post for how to debug Linux ARM64 related issues on a x86_64 host. |
| Package: GenomicFeatures |
| Version: 1.60.0 |
| Command: /home/biocbuild/R/R/bin/R CMD check --install=check:GenomicFeatures.install-out.txt --library=/home/biocbuild/R/R/site-library --no-vignettes --timings GenomicFeatures_1.60.0.tar.gz |
| StartedAt: 2025-10-14 09:28:01 -0000 (Tue, 14 Oct 2025) |
| EndedAt: 2025-10-14 09:40:12 -0000 (Tue, 14 Oct 2025) |
| EllapsedTime: 731.3 seconds |
| RetCode: 0 |
| Status: OK |
| CheckDir: GenomicFeatures.Rcheck |
| Warnings: 0 |
##############################################################################
##############################################################################
###
### Running command:
###
### /home/biocbuild/R/R/bin/R CMD check --install=check:GenomicFeatures.install-out.txt --library=/home/biocbuild/R/R/site-library --no-vignettes --timings GenomicFeatures_1.60.0.tar.gz
###
##############################################################################
##############################################################################
* using log directory ‘/home/biocbuild/bbs-3.21-bioc/meat/GenomicFeatures.Rcheck’
* using R Under development (unstable) (2025-02-19 r87757)
* using platform: aarch64-unknown-linux-gnu
* R was compiled by
aarch64-unknown-linux-gnu-gcc (GCC) 14.2.0
GNU Fortran (GCC) 14.2.0
* running under: openEuler 24.03 (LTS-SP1)
* using session charset: UTF-8
* using option ‘--no-vignettes’
* checking for file ‘GenomicFeatures/DESCRIPTION’ ... OK
* this is package ‘GenomicFeatures’ version ‘1.60.0’
* package encoding: UTF-8
* checking package namespace information ... OK
* checking package dependencies ... INFO
Depends: includes the non-default packages:
'BiocGenerics', 'S4Vectors', 'IRanges', 'GenomeInfoDb',
'GenomicRanges', 'AnnotationDbi'
Adding so many packages to the search path is excessive and importing
selectively is preferable.
* checking if this is a source package ... OK
* checking if there is a namespace ... OK
* checking for hidden files and directories ... OK
* checking for portable file names ... OK
* checking for sufficient/correct file permissions ... OK
* checking whether package ‘GenomicFeatures’ can be installed ... OK
* checking installed package size ... OK
* checking package directory ... OK
* checking ‘build’ directory ... OK
* checking DESCRIPTION meta-information ... OK
* checking top-level files ... OK
* checking for left-over files ... OK
* checking index information ... OK
* checking package subdirectories ... OK
* checking code files for non-ASCII characters ... OK
* checking R files for syntax errors ... OK
* checking whether the package can be loaded ... OK
* checking whether the package can be loaded with stated dependencies ... OK
* checking whether the package can be unloaded cleanly ... OK
* checking whether the namespace can be loaded with stated dependencies ... OK
* checking whether the namespace can be unloaded cleanly ... OK
* checking loading without being on the library search path ... OK
* checking dependencies in R code ... NOTE
Unexported objects imported by ':::' calls:
‘AnnotationDbi:::.getMetaValue’ ‘AnnotationDbi:::.valid.colnames’
‘AnnotationDbi:::.valid.metadata.table’
‘AnnotationDbi:::.valid.table.colnames’ ‘AnnotationDbi:::dbEasyQuery’
‘AnnotationDbi:::dbQuery’ ‘AnnotationDbi:::smartKeys’
‘BiocGenerics:::testPackage’
‘GenomeInfoDb:::getSeqlevelsReplacementMode’
‘GenomeInfoDb:::normarg_new2old’
‘GenomicRanges:::unsafe.transcriptLocs2refLocs’
‘GenomicRanges:::unsafe.transcriptWidths’
‘IRanges:::regroupBySupergroup’ ‘S4Vectors:::V_recycle’
‘S4Vectors:::decodeRle’ ‘S4Vectors:::extract_data_frame_rows’
See the note in ?`:::` about the use of this operator.
* checking S3 generic/method consistency ... OK
* checking replacement functions ... OK
* checking foreign function calls ... OK
* checking R code for possible problems ... OK
* checking Rd files ... OK
* checking Rd metadata ... OK
* checking Rd cross-references ... NOTE
Found the following Rd file(s) with Rd \link{} targets missing package
anchors:
FeatureDb-class.Rd: saveDb, loadDb
extractUpstreamSeqs.Rd: mcols
getPromoterSeq-methods.Rd: GRanges, GRangesList
nearest-methods.Rd: GenomicRanges
Please provide package anchors for all Rd \link{} targets not in the
package itself and the base packages.
* checking for missing documentation entries ... OK
* checking for code/documentation mismatches ... OK
* checking Rd \usage sections ... OK
* checking Rd contents ... OK
* checking for unstated dependencies in examples ... OK
* checking files in ‘vignettes’ ... OK
* checking examples ... OK
Examples with CPU (user + system) or elapsed time > 5s
user system elapsed
coverageByTranscript 110.957 2.019 113.231
coordinate-mapping-methods 65.348 2.147 81.288
exonicParts 49.758 0.436 50.275
extractTranscriptSeqs 17.626 0.335 18.067
transcriptLocs2refLocs 8.025 0.068 8.143
getPromoterSeq-methods 3.585 0.670 14.072
* checking for unstated dependencies in ‘tests’ ... OK
* checking tests ...
Running ‘run_unitTests.R’
OK
* checking for unstated dependencies in vignettes ... OK
* checking package vignettes ... OK
* checking running R code from vignettes ... SKIPPED
* checking re-building of vignette outputs ... SKIPPED
* checking PDF version of manual ... OK
* DONE
Status: 2 NOTEs
See
‘/home/biocbuild/bbs-3.21-bioc/meat/GenomicFeatures.Rcheck/00check.log’
for details.
GenomicFeatures.Rcheck/00install.out
############################################################################## ############################################################################## ### ### Running command: ### ### /home/biocbuild/R/R/bin/R CMD INSTALL GenomicFeatures ### ############################################################################## ############################################################################## * installing to library ‘/home/biocbuild/R/R-devel_2025-02-19/site-library’ * installing *source* package ‘GenomicFeatures’ ... ** this is package ‘GenomicFeatures’ version ‘1.60.0’ ** using staged installation ** R ** inst ** byte-compile and prepare package for lazy loading ** help *** installing help indices ** building package indices ** installing vignettes ** testing if installed package can be loaded from temporary location ** testing if installed package can be loaded from final location ** testing if installed package keeps a record of temporary installation path * DONE (GenomicFeatures)
GenomicFeatures.Rcheck/tests/run_unitTests.Rout
R Under development (unstable) (2025-02-19 r87757) -- "Unsuffered Consequences"
Copyright (C) 2025 The R Foundation for Statistical Computing
Platform: aarch64-unknown-linux-gnu
R is free software and comes with ABSOLUTELY NO WARRANTY.
You are welcome to redistribute it under certain conditions.
Type 'license()' or 'licence()' for distribution details.
R is a collaborative project with many contributors.
Type 'contributors()' for more information and
'citation()' on how to cite R or R packages in publications.
Type 'demo()' for some demos, 'help()' for on-line help, or
'help.start()' for an HTML browser interface to help.
Type 'q()' to quit R.
> require("GenomicFeatures") || stop("unable to load GenomicFeatures package")
Loading required package: GenomicFeatures
Loading required package: BiocGenerics
Loading required package: generics
Attaching package: 'generics'
The following objects are masked from 'package:base':
as.difftime, as.factor, as.ordered, intersect, is.element, setdiff,
setequal, union
Attaching package: 'BiocGenerics'
The following objects are masked from 'package:stats':
IQR, mad, sd, var, xtabs
The following objects are masked from 'package:base':
Filter, Find, Map, Position, Reduce, anyDuplicated, aperm, append,
as.data.frame, basename, cbind, colnames, dirname, do.call,
duplicated, eval, evalq, get, grep, grepl, is.unsorted, lapply,
mapply, match, mget, order, paste, pmax, pmax.int, pmin, pmin.int,
rank, rbind, rownames, sapply, saveRDS, table, tapply, unique,
unsplit, which.max, which.min
Loading required package: S4Vectors
Loading required package: stats4
Attaching package: 'S4Vectors'
The following object is masked from 'package:utils':
findMatches
The following objects are masked from 'package:base':
I, expand.grid, unname
Loading required package: IRanges
Loading required package: GenomeInfoDb
Loading required package: GenomicRanges
Loading required package: AnnotationDbi
Loading required package: Biobase
Welcome to Bioconductor
Vignettes contain introductory material; view with
'browseVignettes()'. To cite Bioconductor, see
'citation("Biobase")', and for packages 'citation("pkgname")'.
[1] TRUE
> GenomicFeatures:::.test()
Loading required package: BSgenome
Loading required package: Biostrings
Loading required package: XVector
Attaching package: 'Biostrings'
The following object is masked from 'package:base':
strsplit
Loading required package: BiocIO
Loading required package: rtracklayer
'select()' returned 1:1 mapping between keys and columns
'select()' returned 1:many mapping between keys and columns
'select()' returned 1:many mapping between keys and columns
'select()' returned 1:1 mapping between keys and columns
'select()' returned 1:1 mapping between keys and columns
'select()' returned 1:many mapping between keys and columns
'select()' returned 1:many mapping between keys and columns
'select()' returned 1:many mapping between keys and columns
'select()' returned 1:many mapping between keys and columns
'select()' returned 1:many mapping between keys and columns
'select()' returned 1:many mapping between keys and columns
'select()' returned 1:many mapping between keys and columns
'select()' returned 1:many mapping between keys and columns
'select()' returned 1:many mapping between keys and columns
'select()' returned 1:many mapping between keys and columns
'select()' returned 1:1 mapping between keys and columns
'select()' returned 1:many mapping between keys and columns
'select()' returned 1:many mapping between keys and columns
'select()' returned 1:many mapping between keys and columns
'select()' returned 1:1 mapping between keys and columns
Import genomic features from the file as a GRanges object ... OK
Prepare the 'metadata' data frame ... OK
Make the TxDb object ... OK
Import genomic features from the file as a GRanges object ... OK
Prepare the 'metadata' data frame ... OK
Make the TxDb object ... OK
RUNIT TEST PROTOCOL -- Tue Oct 14 09:40:05 2025
***********************************************
Number of test functions: 67
Number of errors: 0
Number of failures: 0
1 Test Suite :
GenomicFeatures RUnit Tests - 67 test functions, 0 errors, 0 failures
Number of test functions: 67
Number of errors: 0
Number of failures: 0
There were 14 warnings (use warnings() to see them)
>
> proc.time()
user system elapsed
86.392 1.617 109.625
GenomicFeatures.Rcheck/GenomicFeatures-Ex.timings
| name | user | system | elapsed | |
| FeatureDb-class | 1.012 | 0.076 | 1.091 | |
| TxDb-class | 1.776 | 0.180 | 1.963 | |
| as-format-methods | 1.804 | 0.047 | 1.859 | |
| coordinate-mapping-methods | 65.348 | 2.147 | 81.288 | |
| coverageByTranscript | 110.957 | 2.019 | 113.231 | |
| exonicParts | 49.758 | 0.436 | 50.275 | |
| extendExonsIntoIntrons | 3.767 | 0.035 | 3.959 | |
| extractTranscriptSeqs | 17.626 | 0.335 | 18.067 | |
| extractUpstreamSeqs | 1.955 | 0.075 | 2.204 | |
| features | 0.081 | 0.000 | 0.082 | |
| getPromoterSeq-methods | 3.585 | 0.670 | 14.072 | |
| id2name | 0.276 | 0.000 | 0.277 | |
| mapIdsToRanges | 1.110 | 0.012 | 1.125 | |
| mapRangesToIds | 0.961 | 0.004 | 0.968 | |
| microRNAs | 0 | 0 | 0 | |
| nearest-methods | 0.818 | 0.000 | 0.819 | |
| proteinToGenome | 2.166 | 0.004 | 2.174 | |
| select-methods | 0.284 | 0.004 | 0.289 | |
| transcriptLengths | 4.544 | 0.040 | 4.591 | |
| transcriptLocs2refLocs | 8.025 | 0.068 | 8.143 | |
| transcripts | 3.281 | 0.016 | 3.303 | |
| transcriptsBy | 1.326 | 0.012 | 1.340 | |
| transcriptsByOverlaps | 0.266 | 0.000 | 0.267 | |