| Back to Multiple platform build/check report for BioC 3.21: simplified long |
|
This page was generated on 2025-10-16 11:38 -0400 (Thu, 16 Oct 2025).
| Hostname | OS | Arch (*) | R version | Installed pkgs |
|---|---|---|---|---|
| nebbiolo1 | Linux (Ubuntu 24.04.3 LTS) | x86_64 | 4.5.1 (2025-06-13) -- "Great Square Root" | 4833 |
| merida1 | macOS 12.7.6 Monterey | x86_64 | 4.5.1 RC (2025-06-05 r88288) -- "Great Square Root" | 4614 |
| kjohnson1 | macOS 13.7.5 Ventura | arm64 | 4.5.1 Patched (2025-06-14 r88325) -- "Great Square Root" | 4555 |
| kunpeng2 | Linux (openEuler 24.03 LTS) | aarch64 | R Under development (unstable) (2025-02-19 r87757) -- "Unsuffered Consequences" | 4586 |
| Click on any hostname to see more info about the system (e.g. compilers) (*) as reported by 'uname -p', except on Windows and Mac OS X | ||||
| Package 836/2341 | Hostname | OS / Arch | INSTALL | BUILD | CHECK | BUILD BIN | ||||||||
| GenomicDistributions 1.16.1 (landing page) Kristyna Kupkova
| nebbiolo1 | Linux (Ubuntu 24.04.3 LTS) / x86_64 | OK | OK | OK | |||||||||
| merida1 | macOS 12.7.6 Monterey / x86_64 | OK | OK | OK | OK | |||||||||
| kjohnson1 | macOS 13.7.5 Ventura / arm64 | OK | OK | OK | OK | |||||||||
| kunpeng2 | Linux (openEuler 24.03 LTS) / aarch64 | OK | OK | OK | ||||||||||
|
To the developers/maintainers of the GenomicDistributions package: - Allow up to 24 hours (and sometimes 48 hours) for your latest push to git@git.bioconductor.org:packages/GenomicDistributions.git to reflect on this report. See Troubleshooting Build Report for more information. - Use the following Renviron settings to reproduce errors and warnings. - If 'R CMD check' started to fail recently on the Linux builder(s) over a missing dependency, add the missing dependency to 'Suggests:' in your DESCRIPTION file. See Renviron.bioc for more information. |
| Package: GenomicDistributions |
| Version: 1.16.1 |
| Command: /home/biocbuild/bbs-3.21-bioc/R/bin/R CMD check --install=check:GenomicDistributions.install-out.txt --library=/home/biocbuild/bbs-3.21-bioc/R/site-library --timings GenomicDistributions_1.16.1.tar.gz |
| StartedAt: 2025-10-15 23:32:35 -0400 (Wed, 15 Oct 2025) |
| EndedAt: 2025-10-15 23:36:13 -0400 (Wed, 15 Oct 2025) |
| EllapsedTime: 218.2 seconds |
| RetCode: 0 |
| Status: OK |
| CheckDir: GenomicDistributions.Rcheck |
| Warnings: 0 |
##############################################################################
##############################################################################
###
### Running command:
###
### /home/biocbuild/bbs-3.21-bioc/R/bin/R CMD check --install=check:GenomicDistributions.install-out.txt --library=/home/biocbuild/bbs-3.21-bioc/R/site-library --timings GenomicDistributions_1.16.1.tar.gz
###
##############################################################################
##############################################################################
* using log directory ‘/home/biocbuild/bbs-3.21-bioc/meat/GenomicDistributions.Rcheck’
* using R version 4.5.1 (2025-06-13)
* using platform: x86_64-pc-linux-gnu
* R was compiled by
gcc (Ubuntu 13.3.0-6ubuntu2~24.04) 13.3.0
GNU Fortran (Ubuntu 13.3.0-6ubuntu2~24.04) 13.3.0
* running under: Ubuntu 24.04.3 LTS
* using session charset: UTF-8
* checking for file ‘GenomicDistributions/DESCRIPTION’ ... OK
* this is package ‘GenomicDistributions’ version ‘1.16.1’
* package encoding: UTF-8
* checking package namespace information ... OK
* checking package dependencies ... OK
* checking if this is a source package ... OK
* checking if there is a namespace ... OK
* checking for hidden files and directories ... OK
* checking for portable file names ... OK
* checking for sufficient/correct file permissions ... OK
* checking whether package ‘GenomicDistributions’ can be installed ... OK
* checking installed package size ... OK
* checking package directory ... OK
* checking ‘build’ directory ... OK
* checking DESCRIPTION meta-information ... OK
* checking top-level files ... OK
* checking for left-over files ... OK
* checking index information ... OK
* checking package subdirectories ... OK
* checking code files for non-ASCII characters ... OK
* checking R files for syntax errors ... OK
* checking whether the package can be loaded ... OK
* checking whether the package can be loaded with stated dependencies ... OK
* checking whether the package can be unloaded cleanly ... OK
* checking whether the namespace can be loaded with stated dependencies ... OK
* checking whether the namespace can be unloaded cleanly ... OK
* checking loading without being on the library search path ... OK
* checking dependencies in R code ... OK
* checking S3 generic/method consistency ... OK
* checking replacement functions ... OK
* checking foreign function calls ... OK
* checking R code for possible problems ... OK
* checking Rd files ... OK
* checking Rd metadata ... OK
* checking Rd cross-references ... OK
* checking for missing documentation entries ... OK
* checking for code/documentation mismatches ... OK
* checking Rd \usage sections ... OK
* checking Rd contents ... OK
* checking for unstated dependencies in examples ... OK
* checking contents of ‘data’ directory ... OK
* checking data for non-ASCII characters ... OK
* checking LazyData ... OK
* checking data for ASCII and uncompressed saves ... OK
* checking files in ‘vignettes’ ... OK
* checking examples ... OK
Examples with CPU (user + system) or elapsed time > 5s
user system elapsed
getGeneModelsFromGTF 6.958 0.4 7.358
* checking for unstated dependencies in ‘tests’ ... OK
* checking tests ...
Running ‘testthat.R’
OK
* checking for unstated dependencies in vignettes ... OK
* checking package vignettes ... OK
* checking re-building of vignette outputs ... OK
* checking PDF version of manual ... OK
* DONE
Status: OK
GenomicDistributions.Rcheck/00install.out
############################################################################## ############################################################################## ### ### Running command: ### ### /home/biocbuild/bbs-3.21-bioc/R/bin/R CMD INSTALL GenomicDistributions ### ############################################################################## ############################################################################## * installing to library ‘/home/biocbuild/bbs-3.21-bioc/R/site-library’ * installing *source* package ‘GenomicDistributions’ ... ** this is package ‘GenomicDistributions’ version ‘1.16.1’ ** using staged installation ** R ** data *** moving datasets to lazyload DB ** inst ** byte-compile and prepare package for lazy loading ** help *** installing help indices ** building package indices ** installing vignettes ** testing if installed package can be loaded from temporary location ** testing if installed package can be loaded from final location ** testing if installed package keeps a record of temporary installation path * DONE (GenomicDistributions)
GenomicDistributions.Rcheck/tests/testthat.Rout
R version 4.5.1 (2025-06-13) -- "Great Square Root"
Copyright (C) 2025 The R Foundation for Statistical Computing
Platform: x86_64-pc-linux-gnu
R is free software and comes with ABSOLUTELY NO WARRANTY.
You are welcome to redistribute it under certain conditions.
Type 'license()' or 'licence()' for distribution details.
R is a collaborative project with many contributors.
Type 'contributors()' for more information and
'citation()' on how to cite R or R packages in publications.
Type 'demo()' for some demos, 'help()' for on-line help, or
'help.start()' for an HTML browser interface to help.
Type 'q()' to quit R.
> library(testthat)
> library("GenomicDistributions")
Loading required package: IRanges
Loading required package: BiocGenerics
Loading required package: generics
Attaching package: 'generics'
The following objects are masked from 'package:base':
as.difftime, as.factor, as.ordered, intersect, is.element, setdiff,
setequal, union
Attaching package: 'BiocGenerics'
The following objects are masked from 'package:stats':
IQR, mad, sd, var, xtabs
The following objects are masked from 'package:base':
Filter, Find, Map, Position, Reduce, anyDuplicated, aperm, append,
as.data.frame, basename, cbind, colnames, dirname, do.call,
duplicated, eval, evalq, get, grep, grepl, is.unsorted, lapply,
mapply, match, mget, order, paste, pmax, pmax.int, pmin, pmin.int,
rank, rbind, rownames, sapply, saveRDS, table, tapply, unique,
unsplit, which.max, which.min
Loading required package: S4Vectors
Loading required package: stats4
Attaching package: 'S4Vectors'
The following object is masked from 'package:utils':
findMatches
The following objects are masked from 'package:base':
I, expand.grid, unname
Loading required package: GenomicRanges
Loading required package: GenomeInfoDb
>
> test_check("GenomicDistributions")
[ FAIL 0 | WARN 0 | SKIP 1 | PASS 48 ]
══ Skipped tests (1) ═══════════════════════════════════════════════════════════
• empty test (1): 'test_all.R:139:1'
[ FAIL 0 | WARN 0 | SKIP 1 | PASS 48 ]
>
> proc.time()
user system elapsed
24.704 0.799 25.184
GenomicDistributions.Rcheck/GenomicDistributions-Ex.timings
| name | user | system | elapsed | |
| binBSGenome | 0 | 0 | 0 | |
| binChroms | 0.011 | 0.000 | 0.012 | |
| binRegion | 0.001 | 0.000 | 0.000 | |
| calcChromBins | 1.873 | 0.009 | 1.837 | |
| calcChromBinsRef | 0.033 | 0.000 | 0.018 | |
| calcChromBinsRefSlow | 0.032 | 0.000 | 0.016 | |
| calcCumulativePartitions | 2.108 | 0.045 | 2.148 | |
| calcCumulativePartitionsRef | 1.949 | 0.033 | 1.982 | |
| calcDinuclFreq | 0 | 0 | 0 | |
| calcDinuclFreqRef | 0 | 0 | 0 | |
| calcExpectedPartitions | 1.398 | 0.028 | 1.427 | |
| calcExpectedPartitionsRef | 1.408 | 0.002 | 1.419 | |
| calcFeatureDist | 0.090 | 0.009 | 0.099 | |
| calcFeatureDistRefTSS | 0.213 | 0.009 | 0.152 | |
| calcGCContent | 0.000 | 0.000 | 0.001 | |
| calcGCContentRef | 0 | 0 | 0 | |
| calcNearestNeighbors | 0.048 | 0.000 | 0.048 | |
| calcNeighborDist | 0.032 | 0.000 | 0.032 | |
| calcPartitions | 1.606 | 0.017 | 1.625 | |
| calcPartitionsRef | 1.270 | 0.019 | 1.289 | |
| calcSummarySignal | 0.034 | 0.002 | 0.023 | |
| calcWidth | 0.002 | 0.000 | 0.001 | |
| dot-validateInputs | 0.001 | 0.000 | 0.000 | |
| dtToGr | 0.016 | 0.000 | 0.015 | |
| genomePartitionList | 1.137 | 0.009 | 1.147 | |
| getChromSizes | 0.003 | 0.001 | 0.003 | |
| getChromSizesFromFasta | 0.018 | 0.000 | 0.018 | |
| getGeneModels | 0.061 | 0.001 | 0.062 | |
| getGeneModelsFromGTF | 6.958 | 0.400 | 7.358 | |
| getGenomeBins | 1.923 | 0.080 | 1.993 | |
| getTssFromGTF | 0.122 | 0.000 | 0.122 | |
| loadBSgenome | 0 | 0 | 0 | |
| loadEnsDb | 0.000 | 0.000 | 0.001 | |
| nlist | 0.000 | 0.000 | 0.001 | |
| plotChromBins | 0.130 | 0.001 | 0.131 | |
| plotCumulativePartitions | 1.931 | 0.054 | 1.971 | |
| plotDinuclFreq | 0.064 | 0.002 | 0.067 | |
| plotExpectedPartitions | 1.480 | 0.003 | 1.483 | |
| plotFeatureDist | 0.313 | 0.011 | 0.273 | |
| plotGCContent | 0.135 | 0.016 | 0.151 | |
| plotNeighborDist | 0.064 | 0.002 | 0.066 | |
| plotPartitions | 1.608 | 0.000 | 1.609 | |
| plotQTHist | 0.166 | 0.001 | 0.167 | |
| plotSummarySignal | 0.277 | 0.000 | 0.263 | |
| retrieveFile | 0.002 | 0.000 | 0.001 | |