Back to Multiple platform build/check report for BioC 3.21:   simplified   long
ABCDEF[G]HIJKLMNOPQRSTUVWXYZ

This page was generated on 2025-02-13 11:42 -0500 (Thu, 13 Feb 2025).

HostnameOSArch (*)R versionInstalled pkgs
nebbiolo1Linux (Ubuntu 24.04.1 LTS)x86_64R Under development (unstable) (2025-01-20 r87609) -- "Unsuffered Consequences" 4719
palomino7Windows Server 2022 Datacenterx64R Under development (unstable) (2025-01-21 r87610 ucrt) -- "Unsuffered Consequences" 4481
lconwaymacOS 12.7.1 Montereyx86_64R Under development (unstable) (2025-01-22 r87618) -- "Unsuffered Consequences" 4492
kjohnson3macOS 13.7.1 Venturaarm64R Under development (unstable) (2025-01-20 r87609) -- "Unsuffered Consequences" 4445
Click on any hostname to see more info about the system (e.g. compilers)      (*) as reported by 'uname -p', except on Windows and Mac OS X

Package 807/2295HostnameOS / ArchINSTALLBUILDCHECKBUILD BIN
GeneStructureTools 1.27.0  (landing page)
Beth Signal
Snapshot Date: 2025-02-12 13:40 -0500 (Wed, 12 Feb 2025)
git_url: https://git.bioconductor.org/packages/GeneStructureTools
git_branch: devel
git_last_commit: 001986b
git_last_commit_date: 2024-10-29 10:26:11 -0500 (Tue, 29 Oct 2024)
nebbiolo1Linux (Ubuntu 24.04.1 LTS) / x86_64  OK    OK    OK  UNNEEDED, same version is already published
palomino7Windows Server 2022 Datacenter / x64  OK    OK    OK    OK  UNNEEDED, same version is already published
lconwaymacOS 12.7.1 Monterey / x86_64  OK    OK    OK    OK  UNNEEDED, same version is already published
kjohnson3macOS 13.7.1 Ventura / arm64  OK    OK    OK    OK  UNNEEDED, same version is already published


CHECK results for GeneStructureTools on lconway

To the developers/maintainers of the GeneStructureTools package:
- Allow up to 24 hours (and sometimes 48 hours) for your latest push to git@git.bioconductor.org:packages/GeneStructureTools.git to reflect on this report. See Troubleshooting Build Report for more information.
- Use the following Renviron settings to reproduce errors and warnings.
- If 'R CMD check' started to fail recently on the Linux builder(s) over a missing dependency, add the missing dependency to 'Suggests:' in your DESCRIPTION file. See Renviron.bioc for more information.

raw results


Summary

Package: GeneStructureTools
Version: 1.27.0
Command: /Library/Frameworks/R.framework/Resources/bin/R CMD check --install=check:GeneStructureTools.install-out.txt --library=/Library/Frameworks/R.framework/Resources/library --no-vignettes --timings GeneStructureTools_1.27.0.tar.gz
StartedAt: 2025-02-12 20:42:01 -0500 (Wed, 12 Feb 2025)
EndedAt: 2025-02-12 20:49:20 -0500 (Wed, 12 Feb 2025)
EllapsedTime: 439.3 seconds
RetCode: 0
Status:   OK  
CheckDir: GeneStructureTools.Rcheck
Warnings: 0

Command output

##############################################################################
##############################################################################
###
### Running command:
###
###   /Library/Frameworks/R.framework/Resources/bin/R CMD check --install=check:GeneStructureTools.install-out.txt --library=/Library/Frameworks/R.framework/Resources/library --no-vignettes --timings GeneStructureTools_1.27.0.tar.gz
###
##############################################################################
##############################################################################


* using log directory ‘/Users/biocbuild/bbs-3.21-bioc/meat/GeneStructureTools.Rcheck’
* using R Under development (unstable) (2025-01-22 r87618)
* using platform: x86_64-apple-darwin20
* R was compiled by
    Apple clang version 14.0.0 (clang-1400.0.29.202)
    GNU Fortran (GCC) 14.2.0
* running under: macOS Monterey 12.7.6
* using session charset: UTF-8
* using option ‘--no-vignettes’
* checking for file ‘GeneStructureTools/DESCRIPTION’ ... OK
* checking extension type ... Package
* this is package ‘GeneStructureTools’ version ‘1.27.0’
* package encoding: UTF-8
* checking package namespace information ... OK
* checking package dependencies ... OK
* checking if this is a source package ... OK
* checking if there is a namespace ... OK
* checking for hidden files and directories ... OK
* checking for portable file names ... OK
* checking for sufficient/correct file permissions ... OK
* checking whether package ‘GeneStructureTools’ can be installed ... OK
* checking installed package size ... OK
* checking package directory ... OK
* checking ‘build’ directory ... OK
* checking DESCRIPTION meta-information ... OK
* checking top-level files ... OK
* checking for left-over files ... OK
* checking index information ... OK
* checking package subdirectories ... OK
* checking code files for non-ASCII characters ... OK
* checking R files for syntax errors ... OK
* checking whether the package can be loaded ... OK
* checking whether the package can be loaded with stated dependencies ... OK
* checking whether the package can be unloaded cleanly ... OK
* checking whether the namespace can be loaded with stated dependencies ... OK
* checking whether the namespace can be unloaded cleanly ... OK
* checking dependencies in R code ... OK
* checking S3 generic/method consistency ... OK
* checking replacement functions ... OK
* checking foreign function calls ... OK
* checking R code for possible problems ... OK
* checking Rd files ... OK
* checking Rd metadata ... OK
* checking Rd cross-references ... OK
* checking for missing documentation entries ... OK
* checking for code/documentation mismatches ... OK
* checking Rd \usage sections ... OK
* checking Rd contents ... OK
* checking for unstated dependencies in examples ... OK
* checking files in ‘vignettes’ ... OK
* checking examples ... OK
Examples with CPU (user + system) or elapsed time > 5s
                                    user system elapsed
leafcutterTranscriptChangeSummary 25.262  1.099  26.546
whippetTranscriptChangeSummary    13.778  0.225  14.186
replaceJunction                    5.493  0.146   5.789
* checking for unstated dependencies in vignettes ... OK
* checking package vignettes ... OK
* checking running R code from vignettes ... SKIPPED
* checking re-building of vignette outputs ... SKIPPED
* checking PDF version of manual ... OK
* DONE

Status: OK


Installation output

GeneStructureTools.Rcheck/00install.out

##############################################################################
##############################################################################
###
### Running command:
###
###   /Library/Frameworks/R.framework/Resources/bin/R CMD INSTALL GeneStructureTools
###
##############################################################################
##############################################################################


* installing to library ‘/Library/Frameworks/R.framework/Versions/4.5-x86_64/Resources/library’
* installing *source* package ‘GeneStructureTools’ ...
** this is package ‘GeneStructureTools’ version ‘1.27.0’
** using staged installation
** R
** inst
** byte-compile and prepare package for lazy loading
** help
*** installing help indices
** building package indices
** installing vignettes
** testing if installed package can be loaded from temporary location
** testing if installed package can be loaded from final location
** testing if installed package keeps a record of temporary installation path
* DONE (GeneStructureTools)

Tests output


Example timings

GeneStructureTools.Rcheck/GeneStructureTools-Ex.timings

nameusersystemelapsed
DEXSeqIdsToGeneIds0.0030.0010.004
UTR2UTR532.4450.1402.603
addBroadTypes0.1910.0050.200
addIntronInTranscript2.9900.1183.246
alternativeIntronUsage4.5010.0424.580
annotateGeneModel0.9490.0150.970
attrChangeAltSpliced1.2900.0861.483
coordinates-methods0.0780.0730.250
diffSplicingResults-methods0.0710.0660.235
exonsToTranscripts0.2980.0080.309
filterGtfOverlap0.2560.0050.264
filterWhippetEvents0.0790.0710.246
findDEXexonType2.6600.0262.706
findExonContainingTranscripts0.4830.0720.685
findIntronContainingTranscripts0.6560.0790.833
findJunctionPairs1.4790.0811.669
formatWhippetEvents0.0150.0080.032
getOrfs0.7740.0150.796
getUOrfs0.5710.0110.586
junctions-methods0.0860.0690.251
leafcutterTranscriptChangeSummary25.262 1.09926.546
makeGeneModel0.1820.0050.188
maxLocation0.0020.0010.002
orfDiff1.7650.1011.999
orfSimilarity0.0010.0010.002
overlapTypes2.5220.0232.569
readCounts-methods0.0770.0740.259
readWhippetDIFFfiles0.0060.0090.029
readWhippetDataSet0.0750.0710.260
readWhippetJNCfiles0.0370.0350.120
readWhippetPSIfiles0.0200.0330.100
removeDuplicateTranscripts0.3120.0080.325
removeSameExon0.2680.0060.278
removeVersion0.0010.0000.001
reorderExonNumbers0.1930.0060.200
replaceJunction5.4930.1465.789
skipExonInTranscript1.6420.0891.849
summariseExonTypes2.8030.0212.842
transcriptChangeSummary1.6590.0941.865
whippetTranscriptChangeSummary13.778 0.22514.186