Back to Multiple platform build/check report for BioC 3.21: simplified long |
|
This page was generated on 2025-10-16 11:40 -0400 (Thu, 16 Oct 2025).
Hostname | OS | Arch (*) | R version | Installed pkgs |
---|---|---|---|---|
nebbiolo1 | Linux (Ubuntu 24.04.3 LTS) | x86_64 | 4.5.1 (2025-06-13) -- "Great Square Root" | 4833 |
merida1 | macOS 12.7.6 Monterey | x86_64 | 4.5.1 RC (2025-06-05 r88288) -- "Great Square Root" | 4614 |
kjohnson1 | macOS 13.7.5 Ventura | arm64 | 4.5.1 Patched (2025-06-14 r88325) -- "Great Square Root" | 4555 |
kunpeng2 | Linux (openEuler 24.03 LTS) | aarch64 | R Under development (unstable) (2025-02-19 r87757) -- "Unsuffered Consequences" | 4586 |
Click on any hostname to see more info about the system (e.g. compilers) (*) as reported by 'uname -p', except on Windows and Mac OS X |
Package 822/2341 | Hostname | OS / Arch | INSTALL | BUILD | CHECK | BUILD BIN | ||||||||
GeneStructureTools 1.28.0 (landing page) Beth Signal
| nebbiolo1 | Linux (Ubuntu 24.04.3 LTS) / x86_64 | OK | OK | OK | ![]() | ||||||||
merida1 | macOS 12.7.6 Monterey / x86_64 | OK | OK | OK | OK | ![]() | ||||||||
kjohnson1 | macOS 13.7.5 Ventura / arm64 | OK | OK | OK | OK | ![]() | ||||||||
kunpeng2 | Linux (openEuler 24.03 LTS) / aarch64 | OK | OK | OK | ||||||||||
To the developers/maintainers of the GeneStructureTools package: - Allow up to 24 hours (and sometimes 48 hours) for your latest push to git@git.bioconductor.org:packages/GeneStructureTools.git to reflect on this report. See Troubleshooting Build Report for more information. - Use the following Renviron settings to reproduce errors and warnings. - If 'R CMD check' started to fail recently on the Linux builder(s) over a missing dependency, add the missing dependency to 'Suggests:' in your DESCRIPTION file. See Renviron.bioc for more information. |
Package: GeneStructureTools |
Version: 1.28.0 |
Command: /Library/Frameworks/R.framework/Resources/bin/R CMD check --install=check:GeneStructureTools.install-out.txt --library=/Library/Frameworks/R.framework/Resources/library --no-vignettes --timings GeneStructureTools_1.28.0.tar.gz |
StartedAt: 2025-10-14 22:33:18 -0400 (Tue, 14 Oct 2025) |
EndedAt: 2025-10-14 22:41:02 -0400 (Tue, 14 Oct 2025) |
EllapsedTime: 463.3 seconds |
RetCode: 0 |
Status: OK |
CheckDir: GeneStructureTools.Rcheck |
Warnings: 0 |
############################################################################## ############################################################################## ### ### Running command: ### ### /Library/Frameworks/R.framework/Resources/bin/R CMD check --install=check:GeneStructureTools.install-out.txt --library=/Library/Frameworks/R.framework/Resources/library --no-vignettes --timings GeneStructureTools_1.28.0.tar.gz ### ############################################################################## ############################################################################## * using log directory ‘/Users/biocbuild/bbs-3.21-bioc/meat/GeneStructureTools.Rcheck’ * using R version 4.5.1 Patched (2025-06-14 r88325) * using platform: aarch64-apple-darwin20 * R was compiled by Apple clang version 16.0.0 (clang-1600.0.26.6) GNU Fortran (GCC) 14.2.0 * running under: macOS Ventura 13.7.5 * using session charset: UTF-8 * using option ‘--no-vignettes’ * checking for file ‘GeneStructureTools/DESCRIPTION’ ... OK * checking extension type ... Package * this is package ‘GeneStructureTools’ version ‘1.28.0’ * package encoding: UTF-8 * checking package namespace information ... OK * checking package dependencies ... OK * checking if this is a source package ... OK * checking if there is a namespace ... OK * checking for hidden files and directories ... OK * checking for portable file names ... OK * checking for sufficient/correct file permissions ... OK * checking whether package ‘GeneStructureTools’ can be installed ... OK * checking installed package size ... OK * checking package directory ... OK * checking ‘build’ directory ... OK * checking DESCRIPTION meta-information ... OK * checking top-level files ... OK * checking for left-over files ... OK * checking index information ... OK * checking package subdirectories ... OK * checking code files for non-ASCII characters ... OK * checking R files for syntax errors ... OK * checking whether the package can be loaded ... OK * checking whether the package can be loaded with stated dependencies ... OK * checking whether the package can be unloaded cleanly ... OK * checking whether the namespace can be loaded with stated dependencies ... OK * checking whether the namespace can be unloaded cleanly ... OK * checking dependencies in R code ... OK * checking S3 generic/method consistency ... OK * checking replacement functions ... OK * checking foreign function calls ... OK * checking R code for possible problems ... OK * checking Rd files ... OK * checking Rd metadata ... OK * checking Rd cross-references ... OK * checking for missing documentation entries ... OK * checking for code/documentation mismatches ... OK * checking Rd \usage sections ... OK * checking Rd contents ... OK * checking for unstated dependencies in examples ... OK * checking files in ‘vignettes’ ... OK * checking examples ... OK Examples with CPU (user + system) or elapsed time > 5s user system elapsed leafcutterTranscriptChangeSummary 22.429 0.743 23.311 whippetTranscriptChangeSummary 10.891 0.191 11.236 * checking for unstated dependencies in vignettes ... OK * checking package vignettes ... OK * checking running R code from vignettes ... SKIPPED * checking re-building of vignette outputs ... SKIPPED * checking PDF version of manual ... OK * DONE Status: OK
GeneStructureTools.Rcheck/00install.out
############################################################################## ############################################################################## ### ### Running command: ### ### /Library/Frameworks/R.framework/Resources/bin/R CMD INSTALL GeneStructureTools ### ############################################################################## ############################################################################## * installing to library ‘/Library/Frameworks/R.framework/Versions/4.5-arm64/Resources/library’ * installing *source* package ‘GeneStructureTools’ ... ** this is package ‘GeneStructureTools’ version ‘1.28.0’ ** using staged installation ** R ** inst ** byte-compile and prepare package for lazy loading ** help *** installing help indices ** building package indices ** installing vignettes ** testing if installed package can be loaded from temporary location ** testing if installed package can be loaded from final location ** testing if installed package keeps a record of temporary installation path * DONE (GeneStructureTools)
GeneStructureTools.Rcheck/GeneStructureTools-Ex.timings
name | user | system | elapsed | |
DEXSeqIdsToGeneIds | 0.003 | 0.001 | 0.004 | |
UTR2UTR53 | 2.556 | 0.131 | 2.689 | |
addBroadTypes | 0.235 | 0.015 | 0.254 | |
addIntronInTranscript | 3.400 | 0.184 | 3.693 | |
alternativeIntronUsage | 4.332 | 0.044 | 4.437 | |
annotateGeneModel | 0.866 | 0.017 | 0.885 | |
attrChangeAltSpliced | 1.268 | 0.107 | 1.401 | |
coordinates-methods | 0.080 | 0.110 | 0.224 | |
diffSplicingResults-methods | 0.092 | 0.122 | 0.319 | |
exonsToTranscripts | 0.318 | 0.009 | 0.335 | |
filterGtfOverlap | 0.313 | 0.008 | 0.326 | |
filterWhippetEvents | 0.093 | 0.115 | 0.239 | |
findDEXexonType | 2.602 | 0.026 | 2.687 | |
findExonContainingTranscripts | 0.514 | 0.106 | 0.708 | |
findIntronContainingTranscripts | 0.723 | 0.098 | 0.846 | |
findJunctionPairs | 1.478 | 0.108 | 1.616 | |
formatWhippetEvents | 0.020 | 0.012 | 0.034 | |
getOrfs | 0.770 | 0.017 | 0.788 | |
getUOrfs | 0.585 | 0.014 | 0.600 | |
junctions-methods | 0.077 | 0.084 | 0.187 | |
leafcutterTranscriptChangeSummary | 22.429 | 0.743 | 23.311 | |
makeGeneModel | 0.113 | 0.006 | 0.130 | |
maxLocation | 0.001 | 0.000 | 0.001 | |
orfDiff | 1.686 | 0.110 | 1.879 | |
orfSimilarity | 0.000 | 0.000 | 0.001 | |
overlapTypes | 3.732 | 0.022 | 3.786 | |
readCounts-methods | 0.079 | 0.093 | 0.196 | |
readWhippetDIFFfiles | 0.007 | 0.010 | 0.021 | |
readWhippetDataSet | 0.080 | 0.092 | 0.201 | |
readWhippetJNCfiles | 0.040 | 0.042 | 0.098 | |
readWhippetPSIfiles | 0.023 | 0.040 | 0.075 | |
removeDuplicateTranscripts | 0.317 | 0.011 | 0.331 | |
removeSameExon | 0.264 | 0.010 | 0.276 | |
removeVersion | 0 | 0 | 0 | |
reorderExonNumbers | 0.220 | 0.007 | 0.228 | |
replaceJunction | 3.895 | 0.144 | 4.261 | |
skipExonInTranscript | 1.506 | 0.113 | 1.668 | |
summariseExonTypes | 2.056 | 0.022 | 2.109 | |
transcriptChangeSummary | 0.973 | 0.068 | 1.112 | |
whippetTranscriptChangeSummary | 10.891 | 0.191 | 11.236 | |