Back to Multiple platform build/check report for BioC 3.21: simplified long |
|
This page was generated on 2025-02-15 11:40 -0500 (Sat, 15 Feb 2025).
Hostname | OS | Arch (*) | R version | Installed pkgs |
---|---|---|---|---|
nebbiolo1 | Linux (Ubuntu 24.04.1 LTS) | x86_64 | R Under development (unstable) (2025-01-20 r87609) -- "Unsuffered Consequences" | 4720 |
palomino7 | Windows Server 2022 Datacenter | x64 | R Under development (unstable) (2025-01-21 r87610 ucrt) -- "Unsuffered Consequences" | 4482 |
lconway | macOS 12.7.1 Monterey | x86_64 | R Under development (unstable) (2025-01-22 r87618) -- "Unsuffered Consequences" | 4493 |
kjohnson3 | macOS 13.7.1 Ventura | arm64 | R Under development (unstable) (2025-01-20 r87609) -- "Unsuffered Consequences" | 4446 |
Click on any hostname to see more info about the system (e.g. compilers) (*) as reported by 'uname -p', except on Windows and Mac OS X |
Package 898/2295 | Hostname | OS / Arch | INSTALL | BUILD | CHECK | BUILD BIN | ||||||||
GRaNIE 1.11.0 (landing page) Christian Arnold
| nebbiolo1 | Linux (Ubuntu 24.04.1 LTS) / x86_64 | OK | OK | OK | ![]() | ||||||||
palomino7 | Windows Server 2022 Datacenter / x64 | OK | OK | WARNINGS | OK | ![]() | ||||||||
lconway | macOS 12.7.1 Monterey / x86_64 | OK | OK | OK | OK | ![]() | ||||||||
kjohnson3 | macOS 13.7.1 Ventura / arm64 | OK | OK | OK | OK | ![]() | ||||||||
To the developers/maintainers of the GRaNIE package: - Allow up to 24 hours (and sometimes 48 hours) for your latest push to git@git.bioconductor.org:packages/GRaNIE.git to reflect on this report. See Troubleshooting Build Report for more information. - Use the following Renviron settings to reproduce errors and warnings. - If 'R CMD check' started to fail recently on the Linux builder(s) over a missing dependency, add the missing dependency to 'Suggests:' in your DESCRIPTION file. See Renviron.bioc for more information. |
Package: GRaNIE |
Version: 1.11.0 |
Command: /home/biocbuild/bbs-3.21-bioc/R/bin/R CMD check --install=check:GRaNIE.install-out.txt --library=/home/biocbuild/bbs-3.21-bioc/R/site-library --timings GRaNIE_1.11.0.tar.gz |
StartedAt: 2025-02-14 22:40:01 -0500 (Fri, 14 Feb 2025) |
EndedAt: 2025-02-14 22:50:12 -0500 (Fri, 14 Feb 2025) |
EllapsedTime: 611.0 seconds |
RetCode: 0 |
Status: OK |
CheckDir: GRaNIE.Rcheck |
Warnings: 0 |
############################################################################## ############################################################################## ### ### Running command: ### ### /home/biocbuild/bbs-3.21-bioc/R/bin/R CMD check --install=check:GRaNIE.install-out.txt --library=/home/biocbuild/bbs-3.21-bioc/R/site-library --timings GRaNIE_1.11.0.tar.gz ### ############################################################################## ############################################################################## * using log directory ‘/home/biocbuild/bbs-3.21-bioc/meat/GRaNIE.Rcheck’ * using R Under development (unstable) (2025-01-20 r87609) * using platform: x86_64-pc-linux-gnu * R was compiled by gcc (Ubuntu 13.3.0-6ubuntu2~24.04) 13.3.0 GNU Fortran (Ubuntu 13.3.0-6ubuntu2~24.04) 13.3.0 * running under: Ubuntu 24.04.2 LTS * using session charset: UTF-8 * checking for file ‘GRaNIE/DESCRIPTION’ ... OK * this is package ‘GRaNIE’ version ‘1.11.0’ * package encoding: UTF-8 * checking package namespace information ... OK * checking package dependencies ... INFO Imports includes 37 non-default packages. Importing from so many packages makes the package vulnerable to any of them becoming unavailable. Move as many as possible to Suggests and use conditionally. * checking if this is a source package ... OK * checking if there is a namespace ... OK * checking for hidden files and directories ... OK * checking for portable file names ... OK * checking for sufficient/correct file permissions ... OK * checking whether package ‘GRaNIE’ can be installed ... OK * checking installed package size ... OK * checking package directory ... OK * checking ‘build’ directory ... OK * checking DESCRIPTION meta-information ... OK * checking top-level files ... OK * checking for left-over files ... OK * checking index information ... OK * checking package subdirectories ... OK * checking code files for non-ASCII characters ... OK * checking R files for syntax errors ... OK * checking whether the package can be loaded ... OK * checking whether the package can be loaded with stated dependencies ... OK * checking whether the package can be unloaded cleanly ... OK * checking whether the namespace can be loaded with stated dependencies ... OK * checking whether the namespace can be unloaded cleanly ... OK * checking loading without being on the library search path ... OK * checking whether startup messages can be suppressed ... OK * checking dependencies in R code ... OK * checking S3 generic/method consistency ... OK * checking replacement functions ... OK * checking foreign function calls ... OK * checking R code for possible problems ... NOTE .performIHW: no visible binding for global variable 'adj_pvalue' Undefined global functions or variables: adj_pvalue * checking Rd files ... OK * checking Rd metadata ... OK * checking Rd cross-references ... OK * checking for missing documentation entries ... OK * checking for code/documentation mismatches ... OK * checking Rd \usage sections ... OK * checking Rd contents ... OK * checking for unstated dependencies in examples ... OK * checking files in ‘vignettes’ ... OK * checking examples ... OK Examples with CPU (user + system) or elapsed time > 5s user system elapsed addSNPData 8.761 0.337 18.363 generateStatsSummary 8.212 0.057 9.631 getCounts 4.822 0.244 6.056 plotCommunitiesEnrichment 4.845 0.109 5.683 build_eGRN_graph 4.042 0.097 5.597 calculateCommunitiesEnrichment 3.950 0.133 5.461 calculateTFEnrichment 3.625 0.104 5.327 filterGRNAndConnectGenes 3.324 0.050 5.227 * checking for unstated dependencies in vignettes ... OK * checking package vignettes ... OK * checking re-building of vignette outputs ... OK * checking PDF version of manual ... OK * DONE Status: 1 NOTE See ‘/home/biocbuild/bbs-3.21-bioc/meat/GRaNIE.Rcheck/00check.log’ for details.
GRaNIE.Rcheck/00install.out
############################################################################## ############################################################################## ### ### Running command: ### ### /home/biocbuild/bbs-3.21-bioc/R/bin/R CMD INSTALL GRaNIE ### ############################################################################## ############################################################################## * installing to library ‘/home/biocbuild/bbs-3.21-bioc/R/site-library’ * installing *source* package ‘GRaNIE’ ... ** this is package ‘GRaNIE’ version ‘1.11.0’ ** using staged installation ** R ** byte-compile and prepare package for lazy loading ** help *** installing help indices *** copying figures ** building package indices ** installing vignettes ** testing if installed package can be loaded from temporary location ** testing if installed package can be loaded from final location ** testing if installed package keeps a record of temporary installation path * DONE (GRaNIE)
GRaNIE.Rcheck/GRaNIE-Ex.timings
name | user | system | elapsed | |
AR_classification_wrapper | 0 | 0 | 0 | |
addConnections_TF_peak | 3.022 | 0.105 | 4.379 | |
addConnections_peak_gene | 2.488 | 0.041 | 2.980 | |
addData | 0.000 | 0.001 | 0.001 | |
addSNPData | 8.761 | 0.337 | 18.363 | |
addTFBS | 0 | 0 | 0 | |
add_TF_gene_correlation | 2.043 | 0.048 | 2.701 | |
add_featureVariation | 0 | 0 | 0 | |
build_eGRN_graph | 4.042 | 0.097 | 5.597 | |
calculateCommunitiesEnrichment | 3.950 | 0.133 | 5.461 | |
calculateCommunitiesStats | 2.672 | 0.032 | 3.394 | |
calculateGeneralEnrichment | 2.750 | 0.031 | 3.925 | |
calculateTFEnrichment | 3.625 | 0.104 | 5.327 | |
changeOutputDirectory | 2.481 | 0.039 | 3.204 | |
deleteIntermediateData | 2.859 | 0.056 | 3.657 | |
filterConnectionsForPlotting | 2.661 | 0.039 | 4.804 | |
filterData | 2.924 | 0.049 | 3.580 | |
filterGRNAndConnectGenes | 3.324 | 0.050 | 5.227 | |
generateStatsSummary | 8.212 | 0.057 | 9.631 | |
getCounts | 4.822 | 0.244 | 6.056 | |
getGRNConnections | 1.710 | 0.027 | 2.194 | |
getGRNSummary | 2.341 | 0.052 | 2.889 | |
getParameters | 1.676 | 0.015 | 2.174 | |
getTopNodes | 1.738 | 0.014 | 2.208 | |
initializeGRN | 0.015 | 0.002 | 0.017 | |
loadExampleObject | 1.765 | 0.038 | 2.321 | |
nGenes | 2.674 | 0.019 | 3.195 | |
nPeaks | 1.702 | 0.024 | 2.244 | |
nTFs | 1.660 | 0.036 | 2.203 | |
overlapPeaksAndTFBS | 1.749 | 0.036 | 2.288 | |
performAllNetworkAnalyses | 0 | 0 | 0 | |
plotCommunitiesEnrichment | 4.845 | 0.109 | 5.683 | |
plotCommunitiesStats | 2.909 | 0.024 | 3.442 | |
plotCorrelations | 2.038 | 0.074 | 2.622 | |
plotDiagnosticPlots_TFPeaks | 3.202 | 0.057 | 3.708 | |
plotDiagnosticPlots_peakGene | 3.838 | 0.066 | 4.333 | |
plotGeneralEnrichment | 2.035 | 0.041 | 2.530 | |
plotGeneralGraphStats | 3.621 | 0.062 | 4.134 | |
plotPCA_all | 4.066 | 0.074 | 4.956 | |
plotTFEnrichment | 2.464 | 0.022 | 2.929 | |
plot_stats_connectionSummary | 2.262 | 0.022 | 2.793 | |
visualizeGRN | 2.489 | 0.021 | 2.950 | |