| Back to Multiple platform build/check report for BioC 3.21: simplified long |
|
This page was generated on 2025-10-16 11:41 -0400 (Thu, 16 Oct 2025).
| Hostname | OS | Arch (*) | R version | Installed pkgs |
|---|---|---|---|---|
| nebbiolo1 | Linux (Ubuntu 24.04.3 LTS) | x86_64 | 4.5.1 (2025-06-13) -- "Great Square Root" | 4833 |
| merida1 | macOS 12.7.6 Monterey | x86_64 | 4.5.1 RC (2025-06-05 r88288) -- "Great Square Root" | 4614 |
| kjohnson1 | macOS 13.7.5 Ventura | arm64 | 4.5.1 Patched (2025-06-14 r88325) -- "Great Square Root" | 4555 |
| kunpeng2 | Linux (openEuler 24.03 LTS) | aarch64 | R Under development (unstable) (2025-02-19 r87757) -- "Unsuffered Consequences" | 4586 |
| Click on any hostname to see more info about the system (e.g. compilers) (*) as reported by 'uname -p', except on Windows and Mac OS X | ||||
| Package 785/2341 | Hostname | OS / Arch | INSTALL | BUILD | CHECK | BUILD BIN | ||||||||
| GBScleanR 2.2.0 (landing page) Tomoyuki Furuta
| nebbiolo1 | Linux (Ubuntu 24.04.3 LTS) / x86_64 | OK | OK | OK | |||||||||
| merida1 | macOS 12.7.6 Monterey / x86_64 | OK | OK | OK | OK | |||||||||
| kjohnson1 | macOS 13.7.5 Ventura / arm64 | OK | OK | OK | OK | |||||||||
| kunpeng2 | Linux (openEuler 24.03 LTS) / aarch64 | OK | ERROR | skipped | ||||||||||
|
To the developers/maintainers of the GBScleanR package: - Allow up to 24 hours (and sometimes 48 hours) for your latest push to git@git.bioconductor.org:packages/GBScleanR.git to reflect on this report. See Troubleshooting Build Report for more information. - Use the following Renviron settings to reproduce errors and warnings. - If 'R CMD check' started to fail recently on the Linux builder(s) over a missing dependency, add the missing dependency to 'Suggests:' in your DESCRIPTION file. See Renviron.bioc for more information. - See Martin Grigorov's blog post for how to debug Linux ARM64 related issues on a x86_64 host. |
| Package: GBScleanR |
| Version: 2.2.0 |
| Command: /home/biocbuild/R/R/bin/R CMD INSTALL GBScleanR |
| StartedAt: 2025-10-13 20:46:49 -0000 (Mon, 13 Oct 2025) |
| EndedAt: 2025-10-13 20:48:07 -0000 (Mon, 13 Oct 2025) |
| EllapsedTime: 78.0 seconds |
| RetCode: 0 |
| Status: OK |
##############################################################################
##############################################################################
###
### Running command:
###
### /home/biocbuild/R/R/bin/R CMD INSTALL GBScleanR
###
##############################################################################
##############################################################################
* installing to library ‘/home/biocbuild/R/R-devel_2025-02-19/site-library’
* installing *source* package ‘GBScleanR’ ...
** this is package ‘GBScleanR’ version ‘2.2.0’
** using staged installation
** libs
using C++ compiler: ‘aarch64-unknown-linux-gnu-g++ (GCC) 14.2.0’
using C++11
/opt/ohpc/pub/compiler/gcc/14.2.0/bin/aarch64-unknown-linux-gnu-g++ -std=gnu++11 -I"/home/biocbuild/R/R/include" -DNDEBUG -I'/home/biocbuild/R/R-devel_2025-02-19/site-library/Rcpp/include' -I'/home/biocbuild/R/R-devel_2025-02-19/site-library/RcppParallel/include' -I/usr/local/include -fPIC -g -O2 -Wall -Werror=format-security -c RcppExports.cpp -o RcppExports.o
/opt/ohpc/pub/compiler/gcc/14.2.0/bin/aarch64-unknown-linux-gnu-g++ -std=gnu++11 -I"/home/biocbuild/R/R/include" -DNDEBUG -I'/home/biocbuild/R/R-devel_2025-02-19/site-library/Rcpp/include' -I'/home/biocbuild/R/R-devel_2025-02-19/site-library/RcppParallel/include' -I/usr/local/include -fPIC -g -O2 -Wall -Werror=format-security -c gbsrCalcProb.cpp -o gbsrCalcProb.o
gbsrCalcProb.cpp: In function ‘std::vector<double> calcGenoprob(const double&, const double&, const double&, const double&, const double&, const bool&, const int&)’:
gbsrCalcProb.cpp:25:22: warning: comparison of integer expressions of different signedness: ‘int’ and ‘std::vector<double>::size_type’ {aka ‘long unsigned int’} [-Wsign-compare]
25 | for(int g = 0; g < prob.size(); ++g){
| ~~^~~~~~~~~~~~~
gbsrCalcProb.cpp:37:26: warning: comparison of integer expressions of different signedness: ‘int’ and ‘std::vector<double>::size_type’ {aka ‘long unsigned int’} [-Wsign-compare]
37 | for(int g = 0; g < prob.size(); ++g){
| ~~^~~~~~~~~~~~~
gbsrCalcProb.cpp: In function ‘void calcMissmap(std::vector<double>&, const double&, const double&, const bool&, const int&)’:
gbsrCalcProb.cpp:72:21: warning: comparison of integer expressions of different signedness: ‘size_t’ {aka ‘long unsigned int’} and ‘const int’ [-Wsign-compare]
72 | } else if(g == ploidy){
| ~~^~~~~~~~~
gbsrCalcProb.cpp:74:22: warning: comparison of integer expressions of different signedness: ‘size_t’ {aka ‘long unsigned int’} and ‘const int’ [-Wsign-compare]
74 | if(h == ploidy){
| ~~^~~~~~~~~
gbsrCalcProb.cpp:87:29: warning: comparison of integer expressions of different signedness: ‘size_t’ {aka ‘long unsigned int’} and ‘const int’ [-Wsign-compare]
87 | } else if(h == ploidy){
| ~~^~~~~~~~~
gbsrCalcProb.cpp:127:29: warning: comparison of integer expressions of different signedness: ‘size_t’ {aka ‘long unsigned int’} and ‘const int’ [-Wsign-compare]
127 | } else if(g == ploidy){
| ~~^~~~~~~~~
gbsrCalcProb.cpp: In function ‘void offsetProb(std::vector<double>&, const bool&, const int&)’:
gbsrCalcProb.cpp:170:28: warning: comparison of integer expressions of different signedness: ‘size_t’ {aka ‘long unsigned int’} and ‘const int’ [-Wsign-compare]
170 | if(g == 0 && g == ploidy){
| ~~^~~~~~~~~
gbsrCalcProb.cpp:185:32: warning: comparison of integer expressions of different signedness: ‘size_t’ {aka ‘long unsigned int’} and ‘const int’ [-Wsign-compare]
185 | if(g == 0 && g == ploidy){
| ~~^~~~~~~~~
In file included from /home/biocbuild/R/R-devel_2025-02-19/site-library/RcppParallel/include/tbb/tbb.h:32,
from /home/biocbuild/R/R-devel_2025-02-19/site-library/RcppParallel/include/RcppParallel/TBB.h:10,
from /home/biocbuild/R/R-devel_2025-02-19/site-library/RcppParallel/include/RcppParallel.h:24,
from gbsrCalcProb.cpp:3:
/home/biocbuild/R/R-devel_2025-02-19/site-library/RcppParallel/include/tbb/atomic.h: In instantiation of ‘tbb::atomic<T>& tbb::internal::as_atomic(T&) [with T = long unsigned int]’:
/home/biocbuild/R/R-devel_2025-02-19/site-library/RcppParallel/include/tbb/tbb_thread.h:251:29: required from here
251 | return as_atomic(location.my_id).compare_and_swap(value.my_id, comparand.my_id);
| ~~~~~~~~~^~~~~~~~~~~~~~~~
/home/biocbuild/R/R-devel_2025-02-19/site-library/RcppParallel/include/tbb/atomic.h:544:12: warning: casting ‘long unsigned int’ to ‘tbb::atomic<long unsigned int>&’ does not use ‘constexpr tbb::atomic<long unsigned int>::atomic(long unsigned int)’ [-Wcast-user-defined]
544 | return (atomic<T>&)t;
| ^~~~~~~~~~~~~
/home/biocbuild/R/R-devel_2025-02-19/site-library/RcppParallel/include/tbb/atomic.h: In instantiation of ‘tbb::atomic<T>& tbb::internal::as_atomic(T&) [with T = tbb::interface5::internal::hash_map_base::bucket*]’:
/home/biocbuild/R/R-devel_2025-02-19/site-library/RcppParallel/include/tbb/concurrent_hash_map.h:291:31: required from here
291 | && as_atomic(my_table[new_seg]).compare_and_swap(is_allocating, NULL) == NULL )
| ~~~~~~~~~^~~~~~~~~~~~~~~~~~~
/home/biocbuild/R/R-devel_2025-02-19/site-library/RcppParallel/include/tbb/atomic.h:544:12: warning: casting ‘tbb::interface5::internal::hash_map_base::bucket*’ to ‘tbb::atomic<tbb::interface5::internal::hash_map_base::bucket*>&’ does not use ‘constexpr tbb::atomic<T*>::atomic(T*) [with T = tbb::interface5::internal::hash_map_base::bucket]’ [-Wcast-user-defined]
544 | return (atomic<T>&)t;
| ^~~~~~~~~~~~~
/opt/ohpc/pub/compiler/gcc/14.2.0/bin/aarch64-unknown-linux-gnu-g++ -std=gnu++11 -I"/home/biocbuild/R/R/include" -DNDEBUG -I'/home/biocbuild/R/R-devel_2025-02-19/site-library/Rcpp/include' -I'/home/biocbuild/R/R-devel_2025-02-19/site-library/RcppParallel/include' -I/usr/local/include -fPIC -g -O2 -Wall -Werror=format-security -c gbsrFB.cpp -o gbsrFB.o
In file included from /home/biocbuild/R/R-devel_2025-02-19/site-library/RcppParallel/include/tbb/tbb.h:32,
from /home/biocbuild/R/R-devel_2025-02-19/site-library/RcppParallel/include/RcppParallel/TBB.h:10,
from /home/biocbuild/R/R-devel_2025-02-19/site-library/RcppParallel/include/RcppParallel.h:24,
from gbsrFB.cpp:3:
/home/biocbuild/R/R-devel_2025-02-19/site-library/RcppParallel/include/tbb/atomic.h: In instantiation of ‘tbb::atomic<T>& tbb::internal::as_atomic(T&) [with T = long unsigned int]’:
/home/biocbuild/R/R-devel_2025-02-19/site-library/RcppParallel/include/tbb/tbb_thread.h:251:29: required from here
251 | return as_atomic(location.my_id).compare_and_swap(value.my_id, comparand.my_id);
| ~~~~~~~~~^~~~~~~~~~~~~~~~
/home/biocbuild/R/R-devel_2025-02-19/site-library/RcppParallel/include/tbb/atomic.h:544:12: warning: casting ‘long unsigned int’ to ‘tbb::atomic<long unsigned int>&’ does not use ‘constexpr tbb::atomic<long unsigned int>::atomic(long unsigned int)’ [-Wcast-user-defined]
544 | return (atomic<T>&)t;
| ^~~~~~~~~~~~~
/home/biocbuild/R/R-devel_2025-02-19/site-library/RcppParallel/include/tbb/atomic.h: In instantiation of ‘tbb::atomic<T>& tbb::internal::as_atomic(T&) [with T = tbb::interface5::internal::hash_map_base::bucket*]’:
/home/biocbuild/R/R-devel_2025-02-19/site-library/RcppParallel/include/tbb/concurrent_hash_map.h:291:31: required from here
291 | && as_atomic(my_table[new_seg]).compare_and_swap(is_allocating, NULL) == NULL )
| ~~~~~~~~~^~~~~~~~~~~~~~~~~~~
/home/biocbuild/R/R-devel_2025-02-19/site-library/RcppParallel/include/tbb/atomic.h:544:12: warning: casting ‘tbb::interface5::internal::hash_map_base::bucket*’ to ‘tbb::atomic<tbb::interface5::internal::hash_map_base::bucket*>&’ does not use ‘constexpr tbb::atomic<T*>::atomic(T*) [with T = tbb::interface5::internal::hash_map_base::bucket]’ [-Wcast-user-defined]
544 | return (atomic<T>&)t;
| ^~~~~~~~~~~~~
gbsrFB.cpp: In member function ‘virtual void ParFB::operator()(size_t, size_t)’:
gbsrFB.cpp:109:17: warning: ‘hap_offset_ij’ may be used uninitialized [-Wmaybe-uninitialized]
109 | int hap_offset_ij;
| ^~~~~~~~~~~~~
/opt/ohpc/pub/compiler/gcc/14.2.0/bin/aarch64-unknown-linux-gnu-g++ -std=gnu++11 -I"/home/biocbuild/R/R/include" -DNDEBUG -I'/home/biocbuild/R/R-devel_2025-02-19/site-library/Rcpp/include' -I'/home/biocbuild/R/R-devel_2025-02-19/site-library/RcppParallel/include' -I/usr/local/include -fPIC -g -O2 -Wall -Werror=format-security -c gbsrIPO.cpp -o gbsrIPO.o
gbsrIPO.cpp: In member function ‘virtual void ParGenoProb::operator()(size_t, size_t)’:
gbsrIPO.cpp:57:34: warning: comparison of integer expressions of different signedness: ‘int’ and ‘std::vector<double>::size_type’ {aka ‘long unsigned int’} [-Wsign-compare]
57 | for(int g = 0; g < prob.size(); ++g){
| ~~^~~~~~~~~~~~~
In file included from /home/biocbuild/R/R-devel_2025-02-19/site-library/RcppParallel/include/tbb/tbb.h:32,
from /home/biocbuild/R/R-devel_2025-02-19/site-library/RcppParallel/include/RcppParallel/TBB.h:10,
from /home/biocbuild/R/R-devel_2025-02-19/site-library/RcppParallel/include/RcppParallel.h:24,
from gbsrIPO.cpp:3:
/home/biocbuild/R/R-devel_2025-02-19/site-library/RcppParallel/include/tbb/atomic.h: In instantiation of ‘tbb::atomic<T>& tbb::internal::as_atomic(T&) [with T = long unsigned int]’:
/home/biocbuild/R/R-devel_2025-02-19/site-library/RcppParallel/include/tbb/tbb_thread.h:251:29: required from here
251 | return as_atomic(location.my_id).compare_and_swap(value.my_id, comparand.my_id);
| ~~~~~~~~~^~~~~~~~~~~~~~~~
/home/biocbuild/R/R-devel_2025-02-19/site-library/RcppParallel/include/tbb/atomic.h:544:12: warning: casting ‘long unsigned int’ to ‘tbb::atomic<long unsigned int>&’ does not use ‘constexpr tbb::atomic<long unsigned int>::atomic(long unsigned int)’ [-Wcast-user-defined]
544 | return (atomic<T>&)t;
| ^~~~~~~~~~~~~
/home/biocbuild/R/R-devel_2025-02-19/site-library/RcppParallel/include/tbb/atomic.h: In instantiation of ‘tbb::atomic<T>& tbb::internal::as_atomic(T&) [with T = tbb::interface5::internal::hash_map_base::bucket*]’:
/home/biocbuild/R/R-devel_2025-02-19/site-library/RcppParallel/include/tbb/concurrent_hash_map.h:291:31: required from here
291 | && as_atomic(my_table[new_seg]).compare_and_swap(is_allocating, NULL) == NULL )
| ~~~~~~~~~^~~~~~~~~~~~~~~~~~~
/home/biocbuild/R/R-devel_2025-02-19/site-library/RcppParallel/include/tbb/atomic.h:544:12: warning: casting ‘tbb::interface5::internal::hash_map_base::bucket*’ to ‘tbb::atomic<tbb::interface5::internal::hash_map_base::bucket*>&’ does not use ‘constexpr tbb::atomic<T*>::atomic(T*) [with T = tbb::interface5::internal::hash_map_base::bucket]’ [-Wcast-user-defined]
544 | return (atomic<T>&)t;
| ^~~~~~~~~~~~~
/opt/ohpc/pub/compiler/gcc/14.2.0/bin/aarch64-unknown-linux-gnu-g++ -std=gnu++11 -I"/home/biocbuild/R/R/include" -DNDEBUG -I'/home/biocbuild/R/R-devel_2025-02-19/site-library/Rcpp/include' -I'/home/biocbuild/R/R-devel_2025-02-19/site-library/RcppParallel/include' -I/usr/local/include -fPIC -g -O2 -Wall -Werror=format-security -c gbsrStats.cpp -o gbsrStats.o
In file included from /home/biocbuild/R/R-devel_2025-02-19/site-library/RcppParallel/include/tbb/tbb.h:32,
from /home/biocbuild/R/R-devel_2025-02-19/site-library/RcppParallel/include/RcppParallel/TBB.h:10,
from /home/biocbuild/R/R-devel_2025-02-19/site-library/RcppParallel/include/RcppParallel.h:24,
from gbsrStats.cpp:3:
/home/biocbuild/R/R-devel_2025-02-19/site-library/RcppParallel/include/tbb/atomic.h: In instantiation of ‘tbb::atomic<T>& tbb::internal::as_atomic(T&) [with T = long unsigned int]’:
/home/biocbuild/R/R-devel_2025-02-19/site-library/RcppParallel/include/tbb/tbb_thread.h:251:29: required from here
251 | return as_atomic(location.my_id).compare_and_swap(value.my_id, comparand.my_id);
| ~~~~~~~~~^~~~~~~~~~~~~~~~
/home/biocbuild/R/R-devel_2025-02-19/site-library/RcppParallel/include/tbb/atomic.h:544:12: warning: casting ‘long unsigned int’ to ‘tbb::atomic<long unsigned int>&’ does not use ‘constexpr tbb::atomic<long unsigned int>::atomic(long unsigned int)’ [-Wcast-user-defined]
544 | return (atomic<T>&)t;
| ^~~~~~~~~~~~~
/home/biocbuild/R/R-devel_2025-02-19/site-library/RcppParallel/include/tbb/atomic.h: In instantiation of ‘tbb::atomic<T>& tbb::internal::as_atomic(T&) [with T = tbb::interface5::internal::hash_map_base::bucket*]’:
/home/biocbuild/R/R-devel_2025-02-19/site-library/RcppParallel/include/tbb/concurrent_hash_map.h:291:31: required from here
291 | && as_atomic(my_table[new_seg]).compare_and_swap(is_allocating, NULL) == NULL )
| ~~~~~~~~~^~~~~~~~~~~~~~~~~~~
/home/biocbuild/R/R-devel_2025-02-19/site-library/RcppParallel/include/tbb/atomic.h:544:12: warning: casting ‘tbb::interface5::internal::hash_map_base::bucket*’ to ‘tbb::atomic<tbb::interface5::internal::hash_map_base::bucket*>&’ does not use ‘constexpr tbb::atomic<T*>::atomic(T*) [with T = tbb::interface5::internal::hash_map_base::bucket]’ [-Wcast-user-defined]
544 | return (atomic<T>&)t;
| ^~~~~~~~~~~~~
/opt/ohpc/pub/compiler/gcc/14.2.0/bin/aarch64-unknown-linux-gnu-g++ -std=gnu++11 -I"/home/biocbuild/R/R/include" -DNDEBUG -I'/home/biocbuild/R/R-devel_2025-02-19/site-library/Rcpp/include' -I'/home/biocbuild/R/R-devel_2025-02-19/site-library/RcppParallel/include' -I/usr/local/include -fPIC -g -O2 -Wall -Werror=format-security -c gbsrViterbi.cpp -o gbsrViterbi.o
In file included from /home/biocbuild/R/R-devel_2025-02-19/site-library/RcppParallel/include/tbb/tbb.h:32,
from /home/biocbuild/R/R-devel_2025-02-19/site-library/RcppParallel/include/RcppParallel/TBB.h:10,
from /home/biocbuild/R/R-devel_2025-02-19/site-library/RcppParallel/include/RcppParallel.h:24,
from gbsrViterbi.cpp:3:
/home/biocbuild/R/R-devel_2025-02-19/site-library/RcppParallel/include/tbb/atomic.h: In instantiation of ‘tbb::atomic<T>& tbb::internal::as_atomic(T&) [with T = long unsigned int]’:
/home/biocbuild/R/R-devel_2025-02-19/site-library/RcppParallel/include/tbb/tbb_thread.h:251:29: required from here
251 | return as_atomic(location.my_id).compare_and_swap(value.my_id, comparand.my_id);
| ~~~~~~~~~^~~~~~~~~~~~~~~~
/home/biocbuild/R/R-devel_2025-02-19/site-library/RcppParallel/include/tbb/atomic.h:544:12: warning: casting ‘long unsigned int’ to ‘tbb::atomic<long unsigned int>&’ does not use ‘constexpr tbb::atomic<long unsigned int>::atomic(long unsigned int)’ [-Wcast-user-defined]
544 | return (atomic<T>&)t;
| ^~~~~~~~~~~~~
/home/biocbuild/R/R-devel_2025-02-19/site-library/RcppParallel/include/tbb/atomic.h: In instantiation of ‘tbb::atomic<T>& tbb::internal::as_atomic(T&) [with T = tbb::interface5::internal::hash_map_base::bucket*]’:
/home/biocbuild/R/R-devel_2025-02-19/site-library/RcppParallel/include/tbb/concurrent_hash_map.h:291:31: required from here
291 | && as_atomic(my_table[new_seg]).compare_and_swap(is_allocating, NULL) == NULL )
| ~~~~~~~~~^~~~~~~~~~~~~~~~~~~
/home/biocbuild/R/R-devel_2025-02-19/site-library/RcppParallel/include/tbb/atomic.h:544:12: warning: casting ‘tbb::interface5::internal::hash_map_base::bucket*’ to ‘tbb::atomic<tbb::interface5::internal::hash_map_base::bucket*>&’ does not use ‘constexpr tbb::atomic<T*>::atomic(T*) [with T = tbb::interface5::internal::hash_map_base::bucket]’ [-Wcast-user-defined]
544 | return (atomic<T>&)t;
| ^~~~~~~~~~~~~
/opt/ohpc/pub/compiler/gcc/14.2.0/bin/aarch64-unknown-linux-gnu-g++ -std=gnu++11 -I"/home/biocbuild/R/R/include" -DNDEBUG -I'/home/biocbuild/R/R-devel_2025-02-19/site-library/Rcpp/include' -I'/home/biocbuild/R/R-devel_2025-02-19/site-library/RcppParallel/include' -I/usr/local/include -fPIC -g -O2 -Wall -Werror=format-security -c gbsrutil.cpp -o gbsrutil.o
In file included from /home/biocbuild/R/R-devel_2025-02-19/site-library/RcppParallel/include/tbb/tbb.h:32,
from /home/biocbuild/R/R-devel_2025-02-19/site-library/RcppParallel/include/RcppParallel/TBB.h:10,
from /home/biocbuild/R/R-devel_2025-02-19/site-library/RcppParallel/include/RcppParallel.h:24,
from gbsrutil.cpp:3:
/home/biocbuild/R/R-devel_2025-02-19/site-library/RcppParallel/include/tbb/atomic.h: In instantiation of ‘tbb::atomic<T>& tbb::internal::as_atomic(T&) [with T = long unsigned int]’:
/home/biocbuild/R/R-devel_2025-02-19/site-library/RcppParallel/include/tbb/tbb_thread.h:251:29: required from here
251 | return as_atomic(location.my_id).compare_and_swap(value.my_id, comparand.my_id);
| ~~~~~~~~~^~~~~~~~~~~~~~~~
/home/biocbuild/R/R-devel_2025-02-19/site-library/RcppParallel/include/tbb/atomic.h:544:12: warning: casting ‘long unsigned int’ to ‘tbb::atomic<long unsigned int>&’ does not use ‘constexpr tbb::atomic<long unsigned int>::atomic(long unsigned int)’ [-Wcast-user-defined]
544 | return (atomic<T>&)t;
| ^~~~~~~~~~~~~
/home/biocbuild/R/R-devel_2025-02-19/site-library/RcppParallel/include/tbb/atomic.h: In instantiation of ‘tbb::atomic<T>& tbb::internal::as_atomic(T&) [with T = tbb::interface5::internal::hash_map_base::bucket*]’:
/home/biocbuild/R/R-devel_2025-02-19/site-library/RcppParallel/include/tbb/concurrent_hash_map.h:291:31: required from here
291 | && as_atomic(my_table[new_seg]).compare_and_swap(is_allocating, NULL) == NULL )
| ~~~~~~~~~^~~~~~~~~~~~~~~~~~~
/home/biocbuild/R/R-devel_2025-02-19/site-library/RcppParallel/include/tbb/atomic.h:544:12: warning: casting ‘tbb::interface5::internal::hash_map_base::bucket*’ to ‘tbb::atomic<tbb::interface5::internal::hash_map_base::bucket*>&’ does not use ‘constexpr tbb::atomic<T*>::atomic(T*) [with T = tbb::interface5::internal::hash_map_base::bucket]’ [-Wcast-user-defined]
544 | return (atomic<T>&)t;
| ^~~~~~~~~~~~~
/opt/ohpc/pub/compiler/gcc/14.2.0/bin/aarch64-unknown-linux-gnu-g++ -std=gnu++11 -shared -L/home/biocbuild/R/R/lib -L/usr/local/lib -o GBScleanR.so RcppExports.o gbsrCalcProb.o gbsrFB.o gbsrIPO.o gbsrStats.o gbsrViterbi.o gbsrutil.o -L/home/biocbuild/R/R/lib -lR
installing to /home/biocbuild/R/R-devel_2025-02-19/site-library/00LOCK-GBScleanR/00new/GBScleanR/libs
** R
** inst
** byte-compile and prepare package for lazy loading
** help
*** installing help indices
** building package indices
** installing vignettes
** testing if installed package can be loaded from temporary location
** checking absolute paths in shared objects and dynamic libraries
** testing if installed package can be loaded from final location
** testing if installed package keeps a record of temporary installation path
* DONE (GBScleanR)