| Back to Multiple platform build/check report for BioC 3.21: simplified long |
|
This page was generated on 2025-04-10 13:27 -0400 (Thu, 10 Apr 2025).
| Hostname | OS | Arch (*) | R version | Installed pkgs |
|---|---|---|---|---|
| nebbiolo1 | Linux (Ubuntu 24.04.1 LTS) | x86_64 | R Under development (unstable) (2025-03-13 r87965) -- "Unsuffered Consequences" | 4820 |
| palomino7 | Windows Server 2022 Datacenter | x64 | R Under development (unstable) (2025-03-01 r87860 ucrt) -- "Unsuffered Consequences" | 4585 |
| lconway | macOS 12.7.1 Monterey | x86_64 | R Under development (unstable) (2025-03-02 r87868) -- "Unsuffered Consequences" | 4614 |
| kjohnson3 | macOS 13.7.1 Ventura | arm64 | R Under development (unstable) (2025-03-02 r87868) -- "Unsuffered Consequences" | 4567 |
| kunpeng2 | Linux (openEuler 24.03 LTS) | aarch64 | R Under development (unstable) (2025-02-19 r87757) -- "Unsuffered Consequences" | 4559 |
| Click on any hostname to see more info about the system (e.g. compilers) (*) as reported by 'uname -p', except on Windows and Mac OS X | ||||
| Package 755/2335 | Hostname | OS / Arch | INSTALL | BUILD | CHECK | BUILD BIN | ||||||||
| FlowSOM 2.15.0 (landing page) Sofie Van Gassen
| nebbiolo1 | Linux (Ubuntu 24.04.1 LTS) / x86_64 | OK | OK | OK | |||||||||
| palomino7 | Windows Server 2022 Datacenter / x64 | OK | OK | OK | OK | |||||||||
| lconway | macOS 12.7.1 Monterey / x86_64 | OK | OK | OK | OK | |||||||||
| kjohnson3 | macOS 13.7.1 Ventura / arm64 | OK | OK | OK | OK | |||||||||
| kunpeng2 | Linux (openEuler 24.03 LTS) / aarch64 | OK | OK | OK | ||||||||||
|
To the developers/maintainers of the FlowSOM package: - Allow up to 24 hours (and sometimes 48 hours) for your latest push to git@git.bioconductor.org:packages/FlowSOM.git to reflect on this report. See Troubleshooting Build Report for more information. - Use the following Renviron settings to reproduce errors and warnings. - If 'R CMD check' started to fail recently on the Linux builder(s) over a missing dependency, add the missing dependency to 'Suggests:' in your DESCRIPTION file. See Renviron.bioc for more information. |
| Package: FlowSOM |
| Version: 2.15.0 |
| Command: /Library/Frameworks/R.framework/Resources/bin/R CMD check --install=check:FlowSOM.install-out.txt --library=/Library/Frameworks/R.framework/Resources/library --no-vignettes --timings FlowSOM_2.15.0.tar.gz |
| StartedAt: 2025-04-09 19:28:46 -0400 (Wed, 09 Apr 2025) |
| EndedAt: 2025-04-09 19:32:13 -0400 (Wed, 09 Apr 2025) |
| EllapsedTime: 207.7 seconds |
| RetCode: 0 |
| Status: OK |
| CheckDir: FlowSOM.Rcheck |
| Warnings: 0 |
##############################################################################
##############################################################################
###
### Running command:
###
### /Library/Frameworks/R.framework/Resources/bin/R CMD check --install=check:FlowSOM.install-out.txt --library=/Library/Frameworks/R.framework/Resources/library --no-vignettes --timings FlowSOM_2.15.0.tar.gz
###
##############################################################################
##############################################################################
* using log directory ‘/Users/biocbuild/bbs-3.21-bioc/meat/FlowSOM.Rcheck’
* using R Under development (unstable) (2025-03-02 r87868)
* using platform: aarch64-apple-darwin20
* R was compiled by
Apple clang version 14.0.0 (clang-1400.0.29.202)
GNU Fortran (GCC) 14.2.0
* running under: macOS Ventura 13.7.1
* using session charset: UTF-8
* using option ‘--no-vignettes’
* checking for file ‘FlowSOM/DESCRIPTION’ ... OK
* this is package ‘FlowSOM’ version ‘2.15.0’
* package encoding: UTF-8
* checking package namespace information ... OK
* checking package dependencies ... OK
* checking if this is a source package ... OK
* checking if there is a namespace ... OK
* checking for hidden files and directories ... OK
* checking for portable file names ... OK
* checking for sufficient/correct file permissions ... OK
* checking whether package ‘FlowSOM’ can be installed ... OK
* used C compiler: ‘Apple clang version 15.0.0 (clang-1500.1.0.2.5)’
* used SDK: ‘MacOSX11.3.sdk’
* checking installed package size ... OK
* checking package directory ... OK
* checking ‘build’ directory ... OK
* checking DESCRIPTION meta-information ... OK
* checking top-level files ... OK
* checking for left-over files ... OK
* checking index information ... OK
* checking package subdirectories ... OK
* checking code files for non-ASCII characters ... OK
* checking R files for syntax errors ... OK
* checking whether the package can be loaded ... OK
* checking whether the package can be loaded with stated dependencies ... OK
* checking whether the package can be unloaded cleanly ... OK
* checking whether the namespace can be loaded with stated dependencies ... OK
* checking whether the namespace can be unloaded cleanly ... OK
* checking whether startup messages can be suppressed ... OK
* checking dependencies in R code ... OK
* checking S3 generic/method consistency ... OK
* checking replacement functions ... OK
* checking foreign function calls ... OK
* checking R code for possible problems ... OK
* checking Rd files ... NOTE
checkRd: (-1) PlotDimRed.Rd:55: Lost braces
55 | of the dimred default = function(dimred){dimred$Y}.}
| ^
* checking Rd metadata ... OK
* checking Rd cross-references ... NOTE
Non-topic package-anchored link(s) in Rd file 'pipe.Rd':
‘[magrittr:pipe]{%>%}’
See section 'Cross-references' in the 'Writing R Extensions' manual.
* checking for missing documentation entries ... OK
* checking for code/documentation mismatches ... OK
* checking Rd \usage sections ... OK
* checking Rd contents ... OK
* checking for unstated dependencies in examples ... OK
* checking line endings in C/C++/Fortran sources/headers ... OK
* checking compiled code ... NOTE
Note: information on .o files is not available
* checking sizes of PDF files under ‘inst/doc’ ... OK
* checking files in ‘vignettes’ ... OK
* checking examples ... OK
Examples with CPU (user + system) or elapsed time > 5s
user system elapsed
FlowSOMmary 18.677 1.082 20.007
PlotDimRed 16.831 1.676 18.906
PlotMarker 6.051 0.517 6.576
PlotOutliers 5.644 0.391 6.092
UpdateMetaclusters 5.391 0.580 5.994
PlotStars 5.074 0.581 5.674
* checking for unstated dependencies in vignettes ... OK
* checking package vignettes ... OK
* checking running R code from vignettes ... SKIPPED
* checking re-building of vignette outputs ... SKIPPED
* checking PDF version of manual ... OK
* DONE
Status: 3 NOTEs
See
‘/Users/biocbuild/bbs-3.21-bioc/meat/FlowSOM.Rcheck/00check.log’
for details.
FlowSOM.Rcheck/00install.out
############################################################################## ############################################################################## ### ### Running command: ### ### /Library/Frameworks/R.framework/Resources/bin/R CMD INSTALL FlowSOM ### ############################################################################## ############################################################################## * installing to library ‘/Library/Frameworks/R.framework/Versions/4.5-arm64/Resources/library’ * installing *source* package ‘FlowSOM’ ... ** this is package ‘FlowSOM’ version ‘2.15.0’ ** using staged installation ** libs using C compiler: ‘Apple clang version 15.0.0 (clang-1500.1.0.2.5)’ using SDK: ‘MacOSX11.3.sdk’ clang -arch arm64 -I"/Library/Frameworks/R.framework/Resources/include" -DNDEBUG -I/opt/R/arm64/include -fPIC -falign-functions=64 -Wall -g -O2 -c som.c -o som.o clang -arch arm64 -dynamiclib -Wl,-headerpad_max_install_names -undefined dynamic_lookup -L/Library/Frameworks/R.framework/Resources/lib -L/opt/R/arm64/lib -o FlowSOM.so som.o -F/Library/Frameworks/R.framework/.. -framework R -Wl,-framework -Wl,CoreFoundation installing to /Library/Frameworks/R.framework/Versions/4.5-arm64/Resources/library/00LOCK-FlowSOM/00new/FlowSOM/libs ** R ** inst ** byte-compile and prepare package for lazy loading ** help *** installing help indices ** building package indices ** installing vignettes ** testing if installed package can be loaded from temporary location ** checking absolute paths in shared objects and dynamic libraries ** testing if installed package can be loaded from final location ** testing if installed package keeps a record of temporary installation path * DONE (FlowSOM)
FlowSOM.Rcheck/FlowSOM-Ex.timings
| name | user | system | elapsed | |
| AddAnnotation | 2.998 | 0.190 | 3.247 | |
| AggregateFlowFrames | 0.035 | 0.003 | 0.038 | |
| BuildMST | 0.553 | 0.027 | 0.581 | |
| BuildSOM | 0.403 | 0.036 | 0.440 | |
| CountGroups | 2.237 | 0.197 | 2.444 | |
| FMeasure | 0.000 | 0.001 | 0.000 | |
| FlowSOM | 4.404 | 0.421 | 4.946 | |
| FlowSOMSubset | 1.605 | 0.199 | 1.879 | |
| FlowSOMmary | 18.677 | 1.082 | 20.007 | |
| GetChannels | 0.013 | 0.004 | 0.019 | |
| GetClusterMFIs | 1.518 | 0.226 | 1.793 | |
| GetClusterPercentagesPositive | 1.534 | 0.288 | 1.856 | |
| GetClusters | 1.577 | 0.299 | 1.910 | |
| GetCounts | 1.567 | 0.288 | 1.860 | |
| GetFeatures | 1.788 | 0.165 | 1.978 | |
| GetFlowJoLabels | 2.738 | 0.357 | 3.170 | |
| GetMFIs | 1.674 | 0.282 | 1.959 | |
| GetMarkers | 0.013 | 0.001 | 0.014 | |
| GetMetaclusterCVs | 1.690 | 0.316 | 2.024 | |
| GetMetaclusterMFIs | 2.020 | 0.351 | 2.384 | |
| GetMetaclusterPercentagesPositive | 1.781 | 0.332 | 2.126 | |
| GetMetaclusters | 1.611 | 0.281 | 1.896 | |
| GetPercentages | 1.732 | 0.356 | 2.099 | |
| GroupStats | 4.238 | 0.448 | 4.881 | |
| Initialize_KWSP | 0.001 | 0.000 | 0.001 | |
| Initialize_PCA | 0.001 | 0.000 | 0.001 | |
| MetaClustering | 1.121 | 0.324 | 1.472 | |
| MetaclusterCVs | 1.742 | 0.330 | 2.140 | |
| MetaclusterMFIs | 1.956 | 0.462 | 2.459 | |
| NClusters | 2.026 | 0.355 | 2.416 | |
| NMetaclusters | 1.959 | 0.498 | 2.462 | |
| NewData | 1.611 | 0.274 | 1.904 | |
| Plot2DScatters | 2.776 | 0.357 | 3.179 | |
| PlotCenters | 0.410 | 0.047 | 0.458 | |
| PlotClusters2D | 0.409 | 0.064 | 0.474 | |
| PlotDimRed | 16.831 | 1.676 | 18.906 | |
| PlotFileScatters | 0.240 | 0.012 | 0.252 | |
| PlotFlowSOM | 2.114 | 0.408 | 2.613 | |
| PlotGroups | 3.986 | 0.632 | 4.809 | |
| PlotLabels | 2.196 | 0.400 | 2.730 | |
| PlotManualBars | 2.599 | 0.434 | 3.055 | |
| PlotMarker | 6.051 | 0.517 | 6.576 | |
| PlotNode | 2.500 | 0.330 | 2.862 | |
| PlotNumbers | 2.740 | 0.443 | 3.221 | |
| PlotOutliers | 5.644 | 0.391 | 6.092 | |
| PlotOverview2D | 1.853 | 0.314 | 2.178 | |
| PlotPies | 2.352 | 0.365 | 2.723 | |
| PlotSD | 0.758 | 0.091 | 0.855 | |
| PlotStars | 5.074 | 0.581 | 5.674 | |
| PlotVariable | 2.468 | 0.320 | 2.797 | |
| Purity | 0 | 0 | 0 | |
| QueryMultiple | 3.028 | 0.239 | 3.295 | |
| QueryStarPlot | 2.308 | 0.211 | 2.608 | |
| ReadInput | 1.116 | 0.362 | 1.493 | |
| SaveClustersToFCS | 2.135 | 0.443 | 2.667 | |
| TestOutliers | 1.784 | 0.290 | 2.092 | |
| UpdateMetaclusters | 5.391 | 0.580 | 5.994 | |
| UpdateNodeSize | 1.864 | 0.141 | 2.013 | |
| get_channels | 0.014 | 0.002 | 0.017 | |
| get_markers | 0.013 | 0.002 | 0.016 | |
| metaClustering_consensus | 0.943 | 0.189 | 1.136 | |
| plotStarLegend | 0.352 | 0.029 | 0.382 | |
| print.FlowSOM | 1.744 | 0.327 | 2.115 | |
| query_multiple | 3.141 | 0.316 | 3.529 | |