| Back to Multiple platform build/check report for BioC 3.21: simplified long |
|
This page was generated on 2025-10-16 11:41 -0400 (Thu, 16 Oct 2025).
| Hostname | OS | Arch (*) | R version | Installed pkgs |
|---|---|---|---|---|
| nebbiolo1 | Linux (Ubuntu 24.04.3 LTS) | x86_64 | 4.5.1 (2025-06-13) -- "Great Square Root" | 4833 |
| merida1 | macOS 12.7.6 Monterey | x86_64 | 4.5.1 RC (2025-06-05 r88288) -- "Great Square Root" | 4614 |
| kjohnson1 | macOS 13.7.5 Ventura | arm64 | 4.5.1 Patched (2025-06-14 r88325) -- "Great Square Root" | 4555 |
| kunpeng2 | Linux (openEuler 24.03 LTS) | aarch64 | R Under development (unstable) (2025-02-19 r87757) -- "Unsuffered Consequences" | 4586 |
| Click on any hostname to see more info about the system (e.g. compilers) (*) as reported by 'uname -p', except on Windows and Mac OS X | ||||
| Package 730/2341 | Hostname | OS / Arch | INSTALL | BUILD | CHECK | BUILD BIN | ||||||||
| FindIT2 1.14.0 (landing page) Guandong Shang
| nebbiolo1 | Linux (Ubuntu 24.04.3 LTS) / x86_64 | OK | OK | OK | |||||||||
| merida1 | macOS 12.7.6 Monterey / x86_64 | OK | OK | OK | OK | |||||||||
| kjohnson1 | macOS 13.7.5 Ventura / arm64 | OK | OK | OK | OK | |||||||||
| kunpeng2 | Linux (openEuler 24.03 LTS) / aarch64 | OK | OK | OK | ||||||||||
|
To the developers/maintainers of the FindIT2 package: - Allow up to 24 hours (and sometimes 48 hours) for your latest push to git@git.bioconductor.org:packages/FindIT2.git to reflect on this report. See Troubleshooting Build Report for more information. - Use the following Renviron settings to reproduce errors and warnings. - If 'R CMD check' started to fail recently on the Linux builder(s) over a missing dependency, add the missing dependency to 'Suggests:' in your DESCRIPTION file. See Renviron.bioc for more information. - See Martin Grigorov's blog post for how to debug Linux ARM64 related issues on a x86_64 host. |
| Package: FindIT2 |
| Version: 1.14.0 |
| Command: /home/biocbuild/R/R/bin/R CMD check --install=check:FindIT2.install-out.txt --library=/home/biocbuild/R/R/site-library --no-vignettes --timings FindIT2_1.14.0.tar.gz |
| StartedAt: 2025-10-14 09:10:40 -0000 (Tue, 14 Oct 2025) |
| EndedAt: 2025-10-14 09:18:49 -0000 (Tue, 14 Oct 2025) |
| EllapsedTime: 489.4 seconds |
| RetCode: 0 |
| Status: OK |
| CheckDir: FindIT2.Rcheck |
| Warnings: 0 |
##############################################################################
##############################################################################
###
### Running command:
###
### /home/biocbuild/R/R/bin/R CMD check --install=check:FindIT2.install-out.txt --library=/home/biocbuild/R/R/site-library --no-vignettes --timings FindIT2_1.14.0.tar.gz
###
##############################################################################
##############################################################################
* using log directory ‘/home/biocbuild/bbs-3.21-bioc/meat/FindIT2.Rcheck’
* using R Under development (unstable) (2025-02-19 r87757)
* using platform: aarch64-unknown-linux-gnu
* R was compiled by
aarch64-unknown-linux-gnu-gcc (GCC) 14.2.0
GNU Fortran (GCC) 14.2.0
* running under: openEuler 24.03 (LTS-SP1)
* using session charset: UTF-8
* using option ‘--no-vignettes’
* checking for file ‘FindIT2/DESCRIPTION’ ... OK
* this is package ‘FindIT2’ version ‘1.14.0’
* package encoding: UTF-8
* checking package namespace information ... OK
* checking package dependencies ... INFO
Imports includes 22 non-default packages.
Importing from so many packages makes the package vulnerable to any of
them becoming unavailable. Move as many as possible to Suggests and
use conditionally.
* checking if this is a source package ... OK
* checking if there is a namespace ... OK
* checking for hidden files and directories ... OK
* checking for portable file names ... OK
* checking for sufficient/correct file permissions ... OK
* checking whether package ‘FindIT2’ can be installed ... OK
* checking installed package size ... OK
* checking package directory ... OK
* checking ‘build’ directory ... OK
* checking DESCRIPTION meta-information ... OK
* checking top-level files ... OK
* checking for left-over files ... OK
* checking index information ... OK
* checking package subdirectories ... OK
* checking code files for non-ASCII characters ... OK
* checking R files for syntax errors ... OK
* checking whether the package can be loaded ... OK
* checking whether the package can be loaded with stated dependencies ... OK
* checking whether the package can be unloaded cleanly ... OK
* checking whether the namespace can be loaded with stated dependencies ... OK
* checking whether the namespace can be unloaded cleanly ... OK
* checking loading without being on the library search path ... OK
* checking dependencies in R code ... OK
* checking S3 generic/method consistency ... OK
* checking replacement functions ... OK
* checking foreign function calls ... OK
* checking R code for possible problems ... OK
* checking Rd files ... OK
* checking Rd metadata ... OK
* checking Rd cross-references ... OK
* checking for missing documentation entries ... OK
* checking for code/documentation mismatches ... OK
* checking Rd \usage sections ... OK
* checking Rd contents ... OK
* checking for unstated dependencies in examples ... OK
* checking contents of ‘data’ directory ... OK
* checking data for non-ASCII characters ... OK
* checking data for ASCII and uncompressed saves ... OK
* checking files in ‘vignettes’ ... OK
* checking examples ... OK
Examples with CPU (user + system) or elapsed time > 5s
user system elapsed
findIT_regionRP 8.425 0.067 8.514
calcRP_coverage 7.769 0.211 8.002
calcRP_region 7.785 0.100 7.907
calcRP_TFHit 4.817 0.143 5.097
* checking for unstated dependencies in ‘tests’ ... OK
* checking tests ...
Running ‘testthat.R’
OK
* checking for unstated dependencies in vignettes ... OK
* checking package vignettes ... OK
* checking running R code from vignettes ... SKIPPED
* checking re-building of vignette outputs ... SKIPPED
* checking PDF version of manual ... OK
* DONE
Status: OK
FindIT2.Rcheck/00install.out
############################################################################## ############################################################################## ### ### Running command: ### ### /home/biocbuild/R/R/bin/R CMD INSTALL FindIT2 ### ############################################################################## ############################################################################## * installing to library ‘/home/biocbuild/R/R-devel_2025-02-19/site-library’ * installing *source* package ‘FindIT2’ ... ** this is package ‘FindIT2’ version ‘1.14.0’ ** using staged installation ** R ** data ** inst ** byte-compile and prepare package for lazy loading ** help *** installing help indices ** building package indices ** installing vignettes ** testing if installed package can be loaded from temporary location ** testing if installed package can be loaded from final location ** testing if installed package keeps a record of temporary installation path * DONE (FindIT2)
FindIT2.Rcheck/tests/testthat.Rout
R Under development (unstable) (2025-02-19 r87757) -- "Unsuffered Consequences"
Copyright (C) 2025 The R Foundation for Statistical Computing
Platform: aarch64-unknown-linux-gnu
R is free software and comes with ABSOLUTELY NO WARRANTY.
You are welcome to redistribute it under certain conditions.
Type 'license()' or 'licence()' for distribution details.
R is a collaborative project with many contributors.
Type 'contributors()' for more information and
'citation()' on how to cite R or R packages in publications.
Type 'demo()' for some demos, 'help()' for on-line help, or
'help.start()' for an HTML browser interface to help.
Type 'q()' to quit R.
> library(testthat)
> library(FindIT2)
Loading required package: GenomicRanges
Loading required package: stats4
Loading required package: BiocGenerics
Loading required package: generics
Attaching package: 'generics'
The following objects are masked from 'package:base':
as.difftime, as.factor, as.ordered, intersect, is.element, setdiff,
setequal, union
Attaching package: 'BiocGenerics'
The following objects are masked from 'package:stats':
IQR, mad, sd, var, xtabs
The following objects are masked from 'package:base':
Filter, Find, Map, Position, Reduce, anyDuplicated, aperm, append,
as.data.frame, basename, cbind, colnames, dirname, do.call,
duplicated, eval, evalq, get, grep, grepl, is.unsorted, lapply,
mapply, match, mget, order, paste, pmax, pmax.int, pmin, pmin.int,
rank, rbind, rownames, sapply, saveRDS, table, tapply, unique,
unsplit, which.max, which.min
Loading required package: S4Vectors
Attaching package: 'S4Vectors'
The following object is masked from 'package:utils':
findMatches
The following objects are masked from 'package:base':
I, expand.grid, unname
Loading required package: IRanges
Loading required package: GenomeInfoDb
> if (!requireNamespace("TxDb.Athaliana.BioMart.plantsmart28")) {
+ stop("unable to load TxDb.Athaliana.BioMart.plantsmart28")
+ }
Loading required namespace: TxDb.Athaliana.BioMart.plantsmart28
>
> test_check("FindIT2")
>> preparing gene features information... 2025-10-14 09:17:27
>> some scan range may cross Chr bound, trimming... 2025-10-14 09:17:29
>> preparing weight info... 2025-10-14 09:17:29
>> loading E50h_sampleChr5.bw info... 2025-10-14 09:17:29
------------
>> extracting and calcluating Chr5 signal... 2025-10-14 09:17:29
>> dealing with Chr5 left gene signal... 2025-10-14 09:17:37
>> norming Chr5RP accoring to the whole Chr RP... 2025-10-14 09:17:37
>> merging all Chr RP together... 2025-10-14 09:17:37
>> done 2025-10-14 09:17:37
>> checking seqlevels match... 2025-10-14 09:17:37
>> your peak_GR seqlevel:Chr5...
>> your Txdb seqlevel:Chr1 Chr2 Chr3 Chr4 Chr5 ChrM ChrC...
Good, your Chrs in peak_GR is all in Txdb
------------
annotatePeak using geneScan mode begins
>> preparing gene features information and scan region... 2025-10-14 09:17:38
>> some scan range may cross Chr bound, trimming... 2025-10-14 09:17:39
>> finding overlap peak in gene scan region... 2025-10-14 09:17:39
>> dealing with left peak not your gene scan region... 2025-10-14 09:17:39
>> merging two set peaks... 2025-10-14 09:17:39
>> calculating distance and dealing with gene strand... 2025-10-14 09:17:39
>> merging all info together ... 2025-10-14 09:17:39
>> done 2025-10-14 09:17:39
>> calculating peakCenter to TSS using peak-gene pair... 2025-10-14 09:17:39
>> pre-filling 1356 noAssoc peak gene's RP with 0... 2025-10-14 09:17:40
>> calculating RP using centerToTSS and peak score2025-10-14 09:17:40
>> merging all info together 2025-10-14 09:17:43
>> done 2025-10-14 09:17:44
>> calculating peakCenter to TSS using peak-gene pair... 2025-10-14 09:17:44
>> pre-filling 1356 noAssoc peak gene's RP with 0... 2025-10-14 09:17:46
>> calculating RP using centerToTSS and peak score2025-10-14 09:17:46
>> merging all info together 2025-10-14 09:17:49
>> done 2025-10-14 09:17:50
>> checking seqlevels match... 2025-10-14 09:17:50
>> your peak_GR seqlevel:Chr5...
>> your Txdb seqlevel:Chr1 Chr2 Chr3 Chr4 Chr5 ChrM ChrC...
Good, your Chrs in peak_GR is all in Txdb
------------
annotatePeak using geneScan mode begins
>> preparing gene features information and scan region... 2025-10-14 09:17:50
>> some scan range may cross Chr bound, trimming... 2025-10-14 09:17:51
>> finding overlap peak in gene scan region... 2025-10-14 09:17:51
>> dealing with left peak not your gene scan region... 2025-10-14 09:17:51
>> merging two set peaks... 2025-10-14 09:17:52
>> calculating distance and dealing with gene strand... 2025-10-14 09:17:52
>> merging all info together ... 2025-10-14 09:17:52
>> done 2025-10-14 09:17:52
>> calculating peakCenter to TSS using peak-gene pair... 2025-10-14 09:17:52
>> calculating RP using centerToTSS and TF hit 2025-10-14 09:17:53
>> merging all info together 2025-10-14 09:17:53
>> done 2025-10-14 09:17:53
>> calculating peakCenter to TSS using peak-gene pair... 2025-10-14 09:17:53
>> calculating RP using centerToTSS and TF hit 2025-10-14 09:17:54
>> merging all info together 2025-10-14 09:17:54
>> done 2025-10-14 09:17:54
>> checking seqlevels match... 2025-10-14 09:17:55
>> your peak_GR seqlevel:Chr5...
>> your Txdb seqlevel:Chr1 Chr2 Chr3 Chr4 Chr5 ChrM ChrC...
Good, your Chrs in peak_GR is all in Txdb
------------
annotatePeak using geneScan mode begins
>> preparing gene features information and scan region... 2025-10-14 09:17:55
>> some scan range may cross Chr bound, trimming... 2025-10-14 09:17:56
>> finding overlap peak in gene scan region... 2025-10-14 09:17:56
>> dealing with left peak not your gene scan region... 2025-10-14 09:17:56
>> merging two set peaks... 2025-10-14 09:17:57
>> calculating distance and dealing with gene strand... 2025-10-14 09:17:57
>> merging all info together ... 2025-10-14 09:17:57
>> done 2025-10-14 09:17:57
>> calculating peakCenter to TSS using peak-gene pair... 2025-10-14 09:17:57
>> pre-filling 1356 noAssoc peak gene's RP with 0... 2025-10-14 09:17:59
>> calculating RP using centerToTSS and peak score2025-10-14 09:17:59
>> merging all info together 2025-10-14 09:18:02
>> done 2025-10-14 09:18:02
>> extracting RP info from regionRP... 2025-10-14 09:18:03
>> dealing with TF_GR_databse... 2025-10-14 09:18:03
>> calculating percent and p-value... 2025-10-14 09:18:03
>> dealing withE5_0h_R1... 2025-10-14 09:18:03
>> dealing withE5_0h_R2... 2025-10-14 09:18:03
>> dealing withE5_4h_R1... 2025-10-14 09:18:03
>> dealing withE5_4h_R2... 2025-10-14 09:18:03
>> dealing withE5_8h_R1... 2025-10-14 09:18:03
>> dealing withE5_8h_R2... 2025-10-14 09:18:04
>> dealing withE5_16h_R1... 2025-10-14 09:18:04
>> dealing withE5_16h_R2... 2025-10-14 09:18:04
>> dealing withE5_24h_R1... 2025-10-14 09:18:04
>> dealing withE5_24h_R2... 2025-10-14 09:18:04
>> dealing withE5_48h_R1... 2025-10-14 09:18:04
>> dealing withE5_48h_R2... 2025-10-14 09:18:04
>> dealing withE5_48h_R3... 2025-10-14 09:18:04
>> dealing withE5_72h_R1... 2025-10-14 09:18:04
>> dealing withE5_72h_R2... 2025-10-14 09:18:04
>> dealing withE5_72h_R3... 2025-10-14 09:18:04
>> merging all info together... 2025-10-14 09:18:04
>> done 2025-10-14 09:18:04
>> preparing gene features information... 2025-10-14 09:18:05
>> some scan range may cross Chr bound, trimming... 2025-10-14 09:18:06
>> calculating p-value for each TF, which may be time consuming... 2025-10-14 09:18:06
>> merging all info together... 2025-10-14 09:18:06
>> done 2025-10-14 09:18:06
>> dealing with TF_GR_database... 2025-10-14 09:18:06
>> calculating coef and converting into z-score using INT... 2025-10-14 09:18:06
>> dealing with E5_0h_R1... 2025-10-14 09:18:06
>> dealing with E5_0h_R2... 2025-10-14 09:18:06
>> dealing with E5_4h_R1... 2025-10-14 09:18:06
>> dealing with E5_4h_R2... 2025-10-14 09:18:06
>> dealing with E5_8h_R1... 2025-10-14 09:18:07
>> dealing with E5_8h_R2... 2025-10-14 09:18:07
>> dealing with E5_16h_R1... 2025-10-14 09:18:07
>> dealing with E5_16h_R2... 2025-10-14 09:18:07
>> dealing with E5_24h_R1... 2025-10-14 09:18:07
>> dealing with E5_24h_R2... 2025-10-14 09:18:07
>> dealing with E5_48h_R1... 2025-10-14 09:18:07
>> dealing with E5_48h_R2... 2025-10-14 09:18:07
>> dealing with E5_48h_R3... 2025-10-14 09:18:07
>> dealing with E5_72h_R1... 2025-10-14 09:18:07
>> dealing with E5_72h_R2... 2025-10-14 09:18:08
>> dealing with E5_72h_R3... 2025-10-14 09:18:08
>> merging all info together... 2025-10-14 09:18:08
>> done 2025-10-14 09:18:08
>> checking seqlevels match... 2025-10-14 09:18:08
>> your peak_GR seqlevel:Chr5...
>> your Txdb seqlevel:Chr1 Chr2 Chr3 Chr4 Chr5 ChrM ChrC...
Good, your Chrs in peak_GR is all in Txdb
------------
annotatePeak using geneScan mode begins
>> preparing gene features information and scan region... 2025-10-14 09:18:08
>> some scan range may cross Chr bound, trimming... 2025-10-14 09:18:09
>> finding overlap peak in gene scan region... 2025-10-14 09:18:09
>> dealing with left peak not your gene scan region... 2025-10-14 09:18:09
>> merging two set peaks... 2025-10-14 09:18:09
>> calculating distance and dealing with gene strand... 2025-10-14 09:18:09
>> merging all info together ... 2025-10-14 09:18:10
>> done 2025-10-14 09:18:10
>> calculating peakCenter to TSS using peak-gene pair... 2025-10-14 09:18:10
>> calculating RP using centerToTSS and TF hit 2025-10-14 09:18:10
>> merging all info together 2025-10-14 09:18:10
>> done 2025-10-14 09:18:11
>> checking seqlevels match... 2025-10-14 09:18:11
>> your peak_GR seqlevel:5...
>> your Txdb seqlevel:Chr1 Chr2 Chr3 Chr4 Chr5 ChrM ChrC...
>> checking seqlevels match... 2025-10-14 09:18:11
>> your peak_GR seqlevel:Chr5 Chr6...
>> your Txdb seqlevel:Chr1 Chr2 Chr3 Chr4 Chr5 ChrM ChrC...
>> checking seqlevels match... 2025-10-14 09:18:15
>> your peak_GR seqlevel:Chr5...
>> your Txdb seqlevel:Chr1 Chr2 Chr3 Chr4 Chr5 ChrM ChrC...
Good, your Chrs in peak_GR is all in Txdb
>> checking seqlevels match... 2025-10-14 09:18:15
>> your peak_GR seqlevel:Chr5...
>> your Txdb seqlevel:Chr1 Chr2 Chr3 Chr4 Chr5 ChrM ChrC...
Good, your Chrs in peak_GR is all in Txdb
------------
annotating Peak using nearest gene mode begins
>> preparing gene features information... 2025-10-14 09:18:15
>> finding nearest gene and calculating distance... 2025-10-14 09:18:16
>> dealing with gene strand ... 2025-10-14 09:18:17
>> merging all info together ... 2025-10-14 09:18:17
>> done 2025-10-14 09:18:17
>> checking seqlevels match... 2025-10-14 09:18:17
>> your peak_GR seqlevel:Chr5...
>> your Txdb seqlevel:Chr1 Chr2 Chr3 Chr4 Chr5 ChrM ChrC...
Good, your Chrs in peak_GR is all in Txdb
>> checking seqlevels match... 2025-10-14 09:18:17
>> your peak_GR seqlevel:Chr5...
>> your Txdb seqlevel:Chr1 Chr2 Chr3 Chr4 Chr5 ChrM ChrC...
Good, your Chrs in peak_GR is all in Txdb
------------
annotating Peak using nearest gene mode begins
>> preparing gene features information... 2025-10-14 09:18:17
>> finding nearest gene and calculating distance... 2025-10-14 09:18:18
>> dealing with gene strand ... 2025-10-14 09:18:18
>> merging all info together ... 2025-10-14 09:18:18
>> done 2025-10-14 09:18:18
>> checking seqlevels match... 2025-10-14 09:18:19
>> your peak_GR seqlevel:Chr5...
>> your Txdb seqlevel:Chr1 Chr2 Chr3 Chr4 Chr5 ChrM ChrC...
Good, your Chrs in peak_GR is all in Txdb
>> checking seqlevels match... 2025-10-14 09:18:19
>> your peak_GR seqlevel:Chr5...
>> your Txdb seqlevel:Chr1 Chr2 Chr3 Chr4 Chr5 ChrM ChrC...
Good, your Chrs in peak_GR is all in Txdb
------------
annotating Peak using nearest gene mode begins
>> preparing gene features information... 2025-10-14 09:18:19
>> finding nearest gene and calculating distance... 2025-10-14 09:18:20
>> dealing with gene strand ... 2025-10-14 09:18:20
>> merging all info together ... 2025-10-14 09:18:20
>> done 2025-10-14 09:18:20
>> checking seqlevels match... 2025-10-14 09:18:22
>> your peak_GR seqlevel:Chr5...
>> your Txdb seqlevel:Chr1 Chr2 Chr3 Chr4 Chr5 ChrM ChrC...
Good, your Chrs in peak_GR is all in Txdb
>> checking seqlevels match... 2025-10-14 09:18:22
>> your peak_GR seqlevel:Chr5...
>> your Txdb seqlevel:Chr1 Chr2 Chr3 Chr4 Chr5 ChrM ChrC...
Good, your Chrs in peak_GR is all in Txdb
------------
annotating Peak using nearest gene mode begins
>> preparing gene features information... 2025-10-14 09:18:22
>> finding nearest gene and calculating distance... 2025-10-14 09:18:23
>> dealing with gene strand ... 2025-10-14 09:18:23
>> merging all info together ... 2025-10-14 09:18:23
>> done 2025-10-14 09:18:23
It seems that there 1 genes have not been annotated by nearestGene mode
>> checking seqlevels match... 2025-10-14 09:18:24
>> your peak_GR seqlevel:Chr5...
>> your Txdb seqlevel:Chr1 Chr2 Chr3 Chr4 Chr5 ChrM ChrC...
Good, your Chrs in peak_GR is all in Txdb
>> checking seqlevels match... 2025-10-14 09:18:24
>> your peak_GR seqlevel:Chr5...
>> your Txdb seqlevel:Chr1 Chr2 Chr3 Chr4 Chr5 ChrM ChrC...
Good, your Chrs in peak_GR is all in Txdb
------------
annotating Peak using nearest gene mode begins
>> preparing gene features information... 2025-10-14 09:18:24
>> finding nearest gene and calculating distance... 2025-10-14 09:18:25
>> dealing with gene strand ... 2025-10-14 09:18:25
>> merging all info together ... 2025-10-14 09:18:25
>> done 2025-10-14 09:18:25
It seems that there 1 genes have not been annotated by nearestGene mode
>> checking seqlevels match... 2025-10-14 09:18:27
>> your peak_GR seqlevel:Chr5...
>> your Txdb seqlevel:Chr1 Chr2 Chr3 Chr4 Chr5 ChrM ChrC...
Good, your Chrs in peak_GR is all in Txdb
>> checking seqlevels match... 2025-10-14 09:18:28
>> your peak_GR seqlevel:Chr5...
>> your Txdb seqlevel:Chr1 Chr2 Chr3 Chr4 Chr5 ChrM ChrC...
Good, your Chrs in peak_GR is all in Txdb
>> some scan range may cross Chr bound, trimming... 2025-10-14 09:18:29
>> checking seqlevels match... 2025-10-14 09:18:30
>> your peak_GR seqlevel:Chr5...
>> your Txdb seqlevel:Chr1 Chr2 Chr3 Chr4 Chr5 ChrM ChrC...
Good, your Chrs in peak_GR is all in Txdb
>> some scan range may cross Chr bound, trimming... 2025-10-14 09:18:31
Good, your two matrix colnames matchs
>> calculating cor and pvalue, which may be time consuming... 2025-10-14 09:18:33
>> merging all info together... 2025-10-14 09:18:33
>> done 2025-10-14 09:18:33
>> checking seqlevels match... 2025-10-14 09:18:33
>> your peak_GR seqlevel:Chr5...
>> your Txdb seqlevel:Chr1 Chr2 Chr3 Chr4 Chr5 ChrM ChrC...
Good, your Chrs in peak_GR is all in Txdb
>> using scanPromoter parameter to scan promoter for each gene... 2025-10-14 09:18:33
>> checking seqlevels match... 2025-10-14 09:18:33
>> your peak_GR seqlevel:Chr5...
>> your Txdb seqlevel:Chr1 Chr2 Chr3 Chr4 Chr5 ChrM ChrC...
Good, your Chrs in peak_GR is all in Txdb
>> some scan range may cross Chr bound, trimming... 2025-10-14 09:18:34
>> there are 85 gene have scaned promoter
>> using scanEnhancer parameter to scan Enhancer for each gene... 2025-10-14 09:18:35
>> checking seqlevels match... 2025-10-14 09:18:35
>> your peak_GR seqlevel:Chr5...
>> your Txdb seqlevel:Chr1 Chr2 Chr3 Chr4 Chr5 ChrM ChrC...
Good, your Chrs in peak_GR is all in Txdb
>> some scan range may cross Chr bound, trimming... 2025-10-14 09:18:36
>> calculating cor and pvalue, which may be time consuming... 2025-10-14 09:18:36
>> merging all info together... 2025-10-14 09:18:36
>> done 2025-10-14 09:18:37
Good, your two matrix colnames matchs
>> calculating cor and pvalue, which may be time consuming... 2025-10-14 09:18:37
>> merging all info together... 2025-10-14 09:18:37
>> done 2025-10-14 09:18:37
>> checking seqlevels match... 2025-10-14 09:18:37
>> your peak_GR seqlevel:Chr5...
>> your Txdb seqlevel:Chr1 Chr2 Chr3 Chr4 Chr5 ChrM ChrC...
Good, your Chrs in peak_GR is all in Txdb
------------
annotatePeak using geneScan mode begins
>> preparing gene features information and scan region... 2025-10-14 09:18:37
>> some scan range may cross Chr bound, trimming... 2025-10-14 09:18:38
>> finding overlap peak in gene scan region... 2025-10-14 09:18:38
>> dealing with left peak not your gene scan region... 2025-10-14 09:18:38
>> merging two set peaks... 2025-10-14 09:18:38
>> calculating distance and dealing with gene strand... 2025-10-14 09:18:38
>> merging all info together ... 2025-10-14 09:18:38
>> done 2025-10-14 09:18:38
Good, your two matrix colnames matchs
>> calculating cor and pvalue, which may be time consuming... 2025-10-14 09:18:40
>> merging all info together... 2025-10-14 09:18:40
>> done 2025-10-14 09:18:40
>> checking seqlevels match... 2025-10-14 09:18:40
>> your peak_GR seqlevel:Chr5...
>> your Txdb seqlevel:Chr1 Chr2 Chr3 Chr4 Chr5 ChrM ChrC...
Good, your Chrs in peak_GR is all in Txdb
>> using scanPromoter parameter to scan promoter for each gene... 2025-10-14 09:18:40
>> checking seqlevels match... 2025-10-14 09:18:40
>> your peak_GR seqlevel:Chr5...
>> your Txdb seqlevel:Chr1 Chr2 Chr3 Chr4 Chr5 ChrM ChrC...
Good, your Chrs in peak_GR is all in Txdb
>> some scan range may cross Chr bound, trimming... 2025-10-14 09:18:41
>> there are 85 gene have scaned promoter
>> using scanEnhancer parameter to scan Enhancer for each gene... 2025-10-14 09:18:42
>> checking seqlevels match... 2025-10-14 09:18:42
>> your peak_GR seqlevel:Chr5...
>> your Txdb seqlevel:Chr1 Chr2 Chr3 Chr4 Chr5 ChrM ChrC...
Good, your Chrs in peak_GR is all in Txdb
>> some scan range may cross Chr bound, trimming... 2025-10-14 09:18:43
>> calculating cor and pvalue, which may be time consuming... 2025-10-14 09:18:43
>> merging all info together... 2025-10-14 09:18:43
>> done 2025-10-14 09:18:43
Joining with `by = join_by(feature_id)`
Joining with `by = join_by(feature_id)`
`geom_smooth()` using formula = 'y ~ x'
Joining with `by = join_by(feature_id)`
Joining with `by = join_by(feature_id)`
`geom_smooth()` using formula = 'y ~ x'
[ FAIL 0 | WARN 0 | SKIP 0 | PASS 65 ]
>
> proc.time()
user system elapsed
92.643 2.441 95.342
FindIT2.Rcheck/FindIT2-Ex.timings
| name | user | system | elapsed | |
| TF_target_database | 0 | 0 | 0 | |
| calcRP_TFHit | 4.817 | 0.143 | 5.097 | |
| calcRP_coverage | 7.769 | 0.211 | 8.002 | |
| calcRP_region | 7.785 | 0.100 | 7.907 | |
| enhancerPromoterCor | 3.544 | 0.048 | 3.602 | |
| findIT_MARA | 0.612 | 0.000 | 0.614 | |
| findIT_TFHit | 1.238 | 0.012 | 1.253 | |
| findIT_TTPair | 0.097 | 0.000 | 0.098 | |
| findIT_enrichFisher | 0.202 | 0.004 | 0.207 | |
| findIT_enrichWilcox | 0.229 | 0.004 | 0.233 | |
| findIT_regionRP | 8.425 | 0.067 | 8.514 | |
| getAssocPairNumber | 1.644 | 0.064 | 1.720 | |
| integrate_ChIP_RNA | 2.856 | 0.020 | 2.883 | |
| integrate_replicates | 0.001 | 0.001 | 0.002 | |
| jaccard_findIT_TTpair | 0.135 | 0.000 | 0.135 | |
| jaccard_findIT_enrichFisher | 0.273 | 0.000 | 0.274 | |
| loadPeakFile | 0.079 | 0.000 | 0.080 | |
| mm_geneBound | 1.695 | 0.008 | 1.708 | |
| mm_geneScan | 1.650 | 0.004 | 1.658 | |
| mm_nearestGene | 1.521 | 0.016 | 1.541 | |
| peakGeneCor | 3.365 | 0.012 | 3.386 | |
| plot_annoDistance | 2.428 | 0.020 | 2.455 | |
| plot_peakGeneAlias_summary | 3.074 | 0.132 | 3.213 | |
| plot_peakGeneCor | 4.449 | 0.096 | 4.556 | |
| test_geneSet | 0 | 0 | 0 | |