Back to Multiple platform build/check report for BioC 3.21: simplified long |
|
This page was generated on 2025-02-15 11:41 -0500 (Sat, 15 Feb 2025).
Hostname | OS | Arch (*) | R version | Installed pkgs |
---|---|---|---|---|
nebbiolo1 | Linux (Ubuntu 24.04.1 LTS) | x86_64 | R Under development (unstable) (2025-01-20 r87609) -- "Unsuffered Consequences" | 4720 |
palomino7 | Windows Server 2022 Datacenter | x64 | R Under development (unstable) (2025-01-21 r87610 ucrt) -- "Unsuffered Consequences" | 4482 |
lconway | macOS 12.7.1 Monterey | x86_64 | R Under development (unstable) (2025-01-22 r87618) -- "Unsuffered Consequences" | 4493 |
kjohnson3 | macOS 13.7.1 Ventura | arm64 | R Under development (unstable) (2025-01-20 r87609) -- "Unsuffered Consequences" | 4446 |
Click on any hostname to see more info about the system (e.g. compilers) (*) as reported by 'uname -p', except on Windows and Mac OS X |
Package 647/2295 | Hostname | OS / Arch | INSTALL | BUILD | CHECK | BUILD BIN | ||||||||
EnrichmentBrowser 2.37.0 (landing page) Ludwig Geistlinger
| nebbiolo1 | Linux (Ubuntu 24.04.1 LTS) / x86_64 | OK | OK | OK | ![]() | ||||||||
palomino7 | Windows Server 2022 Datacenter / x64 | OK | OK | OK | OK | ![]() | ||||||||
lconway | macOS 12.7.1 Monterey / x86_64 | OK | OK | OK | OK | ![]() | ||||||||
kjohnson3 | macOS 13.7.1 Ventura / arm64 | OK | OK | OK | OK | ![]() | ||||||||
To the developers/maintainers of the EnrichmentBrowser package: - Allow up to 24 hours (and sometimes 48 hours) for your latest push to git@git.bioconductor.org:packages/EnrichmentBrowser.git to reflect on this report. See Troubleshooting Build Report for more information. - Use the following Renviron settings to reproduce errors and warnings. - If 'R CMD check' started to fail recently on the Linux builder(s) over a missing dependency, add the missing dependency to 'Suggests:' in your DESCRIPTION file. See Renviron.bioc for more information. |
Package: EnrichmentBrowser |
Version: 2.37.0 |
Command: E:\biocbuild\bbs-3.21-bioc\R\bin\R.exe CMD check --no-multiarch --install=check:EnrichmentBrowser.install-out.txt --library=E:\biocbuild\bbs-3.21-bioc\R\library --no-vignettes --timings EnrichmentBrowser_2.37.0.tar.gz |
StartedAt: 2025-02-15 00:54:17 -0500 (Sat, 15 Feb 2025) |
EndedAt: 2025-02-15 01:01:32 -0500 (Sat, 15 Feb 2025) |
EllapsedTime: 435.2 seconds |
RetCode: 0 |
Status: OK |
CheckDir: EnrichmentBrowser.Rcheck |
Warnings: 0 |
############################################################################## ############################################################################## ### ### Running command: ### ### E:\biocbuild\bbs-3.21-bioc\R\bin\R.exe CMD check --no-multiarch --install=check:EnrichmentBrowser.install-out.txt --library=E:\biocbuild\bbs-3.21-bioc\R\library --no-vignettes --timings EnrichmentBrowser_2.37.0.tar.gz ### ############################################################################## ############################################################################## * using log directory 'E:/biocbuild/bbs-3.21-bioc/meat/EnrichmentBrowser.Rcheck' * using R Under development (unstable) (2025-01-21 r87610 ucrt) * using platform: x86_64-w64-mingw32 * R was compiled by gcc.exe (GCC) 13.3.0 GNU Fortran (GCC) 13.3.0 * running under: Windows Server 2022 x64 (build 20348) * using session charset: UTF-8 * using option '--no-vignettes' * checking for file 'EnrichmentBrowser/DESCRIPTION' ... OK * this is package 'EnrichmentBrowser' version '2.37.0' * package encoding: UTF-8 * checking package namespace information ... OK * checking package dependencies ... OK * checking if this is a source package ... OK * checking if there is a namespace ... OK * checking for hidden files and directories ... OK * checking for portable file names ... OK * checking whether package 'EnrichmentBrowser' can be installed ... OK * checking installed package size ... OK * checking package directory ... OK * checking 'build' directory ... OK * checking DESCRIPTION meta-information ... OK * checking top-level files ... OK * checking for left-over files ... OK * checking index information ... OK * checking package subdirectories ... OK * checking code files for non-ASCII characters ... OK * checking R files for syntax errors ... OK * checking whether the package can be loaded ... OK * checking whether the package can be loaded with stated dependencies ... OK * checking whether the package can be unloaded cleanly ... OK * checking whether the namespace can be loaded with stated dependencies ... OK * checking whether the namespace can be unloaded cleanly ... OK * checking whether startup messages can be suppressed ... OK * checking dependencies in R code ... NOTE Unexported object imported by a ':::' call: 'pathview:::parseKGML2Graph2' See the note in ?`:::` about the use of this operator. * checking S3 generic/method consistency ... OK * checking replacement functions ... OK * checking foreign function calls ... OK * checking R code for possible problems ... NOTE .getGOFromBiomart: no visible binding for global variable 'go_linkage_type' Undefined global functions or variables: go_linkage_type * checking Rd files ... OK * checking Rd metadata ... OK * checking Rd cross-references ... NOTE Found the following Rd file(s) with Rd \link{} targets missing package anchors: compileGRN.Rd: KEGGPathway-class, pathwayDatabases, pathways, parseKGML deAna.Rd: SummarizedExperiment-class, colData, filterByExpr, rowData, voom, eBayes, glmQLFit downloadPathways.Rd: keggList, keggGet, KEGGPathway-class, parseKGML eaBrowse.Rd: DataFrame-class ebrowser.Rd: SummarizedExperiment-class, assays, colData, rowData, kegg.species.code, normalizeBetweenArrays, lmFit, normalizeWithinArrays getGenesets.Rd: GeneSetCollection-class, DataFrame-class, keggList, keggLink ggeaGraph.Rd: SummarizedExperiment-class idMap.Rd: SummarizedExperiment-class, GeneSetCollection-class, rowData, mapIds, keytypes import.Rd: SummarizedExperiment-class, EList-class, DGEList-class, TopTags-class, voom, eBayes, glmQLFit isAvailable.Rd: install nbea.Rd: SummarizedExperiment-class normalize.Rd: SummarizedExperiment-class, normalizeBetweenArrays, filterByExpr, normalizeWithinArrays, cpm, estimateDisp, voom probe2gene.Rd: SummarizedExperiment-class, metadata, rowData, mapIds readSE.Rd: SummarizedExperiment-class sbea.Rd: SummarizedExperiment-class Please provide package anchors for all Rd \link{} targets not in the package itself and the base packages. * checking for missing documentation entries ... OK * checking for code/documentation mismatches ... OK * checking Rd \usage sections ... OK * checking Rd contents ... OK * checking for unstated dependencies in examples ... OK * checking files in 'vignettes' ... OK * checking examples ... OK Examples with CPU (user + system) or elapsed time > 5s user system elapsed ebrowser 84.66 18.16 102.86 getGenesets 13.68 0.90 18.48 eaBrowse 10.30 1.83 13.22 deAna 5.03 0.44 5.47 import 5.00 0.17 5.16 * checking for unstated dependencies in vignettes ... OK * checking package vignettes ... OK * checking running R code from vignettes ... SKIPPED * checking re-building of vignette outputs ... SKIPPED * checking PDF version of manual ... OK * DONE Status: 3 NOTEs See 'E:/biocbuild/bbs-3.21-bioc/meat/EnrichmentBrowser.Rcheck/00check.log' for details.
EnrichmentBrowser.Rcheck/00install.out
############################################################################## ############################################################################## ### ### Running command: ### ### E:\biocbuild\bbs-3.21-bioc\R\bin\R.exe CMD INSTALL EnrichmentBrowser ### ############################################################################## ############################################################################## * installing to library 'E:/biocbuild/bbs-3.21-bioc/R/library' * installing *source* package 'EnrichmentBrowser' ... ** this is package 'EnrichmentBrowser' version '2.37.0' ** using staged installation ** R ** inst ** byte-compile and prepare package for lazy loading ** help *** installing help indices ** building package indices ** installing vignettes ** testing if installed package can be loaded from temporary location ** testing if installed package can be loaded from final location ** testing if installed package keeps a record of temporary installation path * DONE (EnrichmentBrowser)
EnrichmentBrowser.Rcheck/EnrichmentBrowser-Ex.timings
name | user | system | elapsed | |
combResults | 1.32 | 0.03 | 1.35 | |
compileGRN | 3.64 | 0.15 | 3.83 | |
configEBrowser | 0 | 0 | 0 | |
deAna | 5.03 | 0.44 | 5.47 | |
downloadPathways | 0 | 0 | 0 | |
eaBrowse | 10.30 | 1.83 | 13.22 | |
ebrowser | 84.66 | 18.16 | 102.86 | |
getGenesets | 13.68 | 0.90 | 18.48 | |
ggeaGraph | 4.55 | 0.05 | 4.58 | |
idMap | 1.02 | 0.47 | 1.86 | |
import | 5.00 | 0.17 | 5.16 | |
isAvailable | 0 | 0 | 0 | |
makeExampleData | 0.01 | 0.00 | 0.02 | |
nbea | 0.24 | 0.00 | 0.23 | |
normalize | 0.51 | 0.13 | 0.65 | |
plots | 1.75 | 0.79 | 1.76 | |
probe2gene | 0.10 | 0.00 | 0.08 | |
readSE | 0.03 | 0.00 | 0.03 | |
sbea | 0.20 | 0.00 | 0.22 | |