| Back to Multiple platform build/check report for BioC 3.21: simplified long |
|
This page was generated on 2025-10-16 11:37 -0400 (Thu, 16 Oct 2025).
| Hostname | OS | Arch (*) | R version | Installed pkgs |
|---|---|---|---|---|
| nebbiolo1 | Linux (Ubuntu 24.04.3 LTS) | x86_64 | 4.5.1 (2025-06-13) -- "Great Square Root" | 4833 |
| merida1 | macOS 12.7.6 Monterey | x86_64 | 4.5.1 RC (2025-06-05 r88288) -- "Great Square Root" | 4614 |
| kjohnson1 | macOS 13.7.5 Ventura | arm64 | 4.5.1 Patched (2025-06-14 r88325) -- "Great Square Root" | 4555 |
| kunpeng2 | Linux (openEuler 24.03 LTS) | aarch64 | R Under development (unstable) (2025-02-19 r87757) -- "Unsuffered Consequences" | 4586 |
| Click on any hostname to see more info about the system (e.g. compilers) (*) as reported by 'uname -p', except on Windows and Mac OS X | ||||
| Package 620/2341 | Hostname | OS / Arch | INSTALL | BUILD | CHECK | BUILD BIN | ||||||||
| DriverNet 1.48.0 (landing page) Jiarui Ding
| nebbiolo1 | Linux (Ubuntu 24.04.3 LTS) / x86_64 | OK | OK | OK | |||||||||
| merida1 | macOS 12.7.6 Monterey / x86_64 | OK | OK | OK | OK | |||||||||
| kjohnson1 | macOS 13.7.5 Ventura / arm64 | OK | OK | OK | OK | |||||||||
| kunpeng2 | Linux (openEuler 24.03 LTS) / aarch64 | OK | OK | OK | ||||||||||
|
To the developers/maintainers of the DriverNet package: - Allow up to 24 hours (and sometimes 48 hours) for your latest push to git@git.bioconductor.org:packages/DriverNet.git to reflect on this report. See Troubleshooting Build Report for more information. - Use the following Renviron settings to reproduce errors and warnings. - If 'R CMD check' started to fail recently on the Linux builder(s) over a missing dependency, add the missing dependency to 'Suggests:' in your DESCRIPTION file. See Renviron.bioc for more information. |
| Package: DriverNet |
| Version: 1.48.0 |
| Command: /home/biocbuild/bbs-3.21-bioc/R/bin/R CMD check --install=check:DriverNet.install-out.txt --library=/home/biocbuild/bbs-3.21-bioc/R/site-library --timings DriverNet_1.48.0.tar.gz |
| StartedAt: 2025-10-15 22:49:28 -0400 (Wed, 15 Oct 2025) |
| EndedAt: 2025-10-15 22:51:13 -0400 (Wed, 15 Oct 2025) |
| EllapsedTime: 105.2 seconds |
| RetCode: 0 |
| Status: OK |
| CheckDir: DriverNet.Rcheck |
| Warnings: 0 |
##############################################################################
##############################################################################
###
### Running command:
###
### /home/biocbuild/bbs-3.21-bioc/R/bin/R CMD check --install=check:DriverNet.install-out.txt --library=/home/biocbuild/bbs-3.21-bioc/R/site-library --timings DriverNet_1.48.0.tar.gz
###
##############################################################################
##############################################################################
* using log directory ‘/home/biocbuild/bbs-3.21-bioc/meat/DriverNet.Rcheck’
* using R version 4.5.1 (2025-06-13)
* using platform: x86_64-pc-linux-gnu
* R was compiled by
gcc (Ubuntu 13.3.0-6ubuntu2~24.04) 13.3.0
GNU Fortran (Ubuntu 13.3.0-6ubuntu2~24.04) 13.3.0
* running under: Ubuntu 24.04.3 LTS
* using session charset: UTF-8
* checking for file ‘DriverNet/DESCRIPTION’ ... OK
* checking extension type ... Package
* this is package ‘DriverNet’ version ‘1.48.0’
* checking package namespace information ... OK
* checking package dependencies ... OK
* checking if this is a source package ... OK
* checking if there is a namespace ... OK
* checking for hidden files and directories ... OK
* checking for portable file names ... OK
* checking for sufficient/correct file permissions ... OK
* checking whether package ‘DriverNet’ can be installed ... OK
* checking installed package size ... OK
* checking package directory ... OK
* checking ‘build’ directory ... OK
* checking DESCRIPTION meta-information ... OK
* checking top-level files ... OK
* checking for left-over files ... OK
* checking index information ... OK
* checking package subdirectories ... OK
* checking code files for non-ASCII characters ... OK
* checking R files for syntax errors ... OK
* checking whether the package can be loaded ... OK
* checking whether the package can be loaded with stated dependencies ... OK
* checking whether the package can be unloaded cleanly ... OK
* checking whether the namespace can be loaded with stated dependencies ... OK
* checking whether the namespace can be unloaded cleanly ... OK
* checking loading without being on the library search path ... OK
* checking dependencies in R code ... NOTE
Package in Depends field not imported from: ‘methods’
These packages need to be imported from (in the NAMESPACE file)
for when this namespace is loaded but not attached.
* checking S3 generic/method consistency ... OK
* checking replacement functions ... OK
* checking foreign function calls ... OK
* checking R code for possible problems ... NOTE
.computeDriversHelper: no visible global function definition for ‘new’
getPatientOutlierMatrix: no visible binding for global variable ‘sd’
getPatientOutlierMatrix: no visible global function definition for
‘dnorm’
resultSummary: no visible global function definition for ‘write.table’
Undefined global functions or variables:
dnorm new sd write.table
Consider adding
importFrom("methods", "new")
importFrom("stats", "dnorm", "sd")
importFrom("utils", "write.table")
to your NAMESPACE file (and ensure that your DESCRIPTION Imports field
contains 'methods').
* checking Rd files ... NOTE
checkRd: (-1) sampleDriversList.Rd:8: Lost braces
8 | An object of DriverNetResult class that obtained from running the code{computeDrivers} function.
| ^
* checking Rd metadata ... OK
* checking Rd cross-references ... OK
* checking for missing documentation entries ... OK
* checking for code/documentation mismatches ... OK
* checking Rd \usage sections ... OK
* checking Rd contents ... NOTE
Argument items with no description in Rd file 'actualEvents.Rd':
‘x’
Argument items with no description in Rd file 'drivers.Rd':
‘x’
Argument items with no description in Rd file 'totalEvents.Rd':
‘x’
* checking for unstated dependencies in examples ... OK
* checking contents of ‘data’ directory ... OK
* checking data for non-ASCII characters ... OK
* checking data for ASCII and uncompressed saves ... OK
* checking files in ‘vignettes’ ... OK
* checking examples ... OK
Examples with CPU (user + system) or elapsed time > 5s
user system elapsed
DriverNet-package 25.149 0.063 25.215
computeDrivers 17.166 0.030 17.198
computeRandomizedResult 11.094 0.009 11.104
* checking for unstated dependencies in vignettes ... OK
* checking package vignettes ... OK
* checking re-building of vignette outputs ... OK
* checking PDF version of manual ... OK
* DONE
Status: 4 NOTEs
See
‘/home/biocbuild/bbs-3.21-bioc/meat/DriverNet.Rcheck/00check.log’
for details.
DriverNet.Rcheck/00install.out
############################################################################## ############################################################################## ### ### Running command: ### ### /home/biocbuild/bbs-3.21-bioc/R/bin/R CMD INSTALL DriverNet ### ############################################################################## ############################################################################## * installing to library ‘/home/biocbuild/bbs-3.21-bioc/R/site-library’ * installing *source* package ‘DriverNet’ ... ** this is package ‘DriverNet’ version ‘1.48.0’ ** using staged installation ** R ** data ** byte-compile and prepare package for lazy loading ** help *** installing help indices ** building package indices ** installing vignettes ** testing if installed package can be loaded from temporary location ** testing if installed package can be loaded from final location ** testing if installed package keeps a record of temporary installation path * DONE (DriverNet)
DriverNet.Rcheck/DriverNet-Ex.timings
| name | user | system | elapsed | |
| DriverNet-package | 25.149 | 0.063 | 25.215 | |
| DriverNetResult-class | 0.009 | 0.000 | 0.008 | |
| actualEvents | 0.022 | 0.072 | 0.094 | |
| computeDrivers | 17.166 | 0.030 | 17.198 | |
| computeRandomizedResult | 11.094 | 0.009 | 11.104 | |
| drivers | 0.022 | 0.066 | 0.089 | |
| getPatientOutlierMatrix | 0.12 | 0.00 | 0.12 | |
| preprocessMatrices | 0.120 | 0.002 | 0.123 | |
| resultSummary | 0.137 | 0.002 | 0.139 | |
| sampleDriversList | 0.007 | 0.001 | 0.008 | |
| sampleGeneNames | 0.02 | 0.00 | 0.02 | |
| sampleInfluenceGraph | 0.095 | 0.001 | 0.096 | |
| samplePatientExpressionMatrix | 0.067 | 0.005 | 0.071 | |
| samplePatientMutationMatrix | 0.007 | 0.001 | 0.009 | |
| samplePatientOutlierMatrix | 0.008 | 0.001 | 0.010 | |
| sampleRandomDriversResult | 0.000 | 0.001 | 0.001 | |
| totalEvents | 0.007 | 0.000 | 0.008 | |