Back to Multiple platform build/check report for BioC 3.21:   simplified   long
ABC[D]EFGHIJKLMNOPQRSTUVWXYZ

This page was generated on 2025-02-13 11:40 -0500 (Thu, 13 Feb 2025).

HostnameOSArch (*)R versionInstalled pkgs
nebbiolo1Linux (Ubuntu 24.04.1 LTS)x86_64R Under development (unstable) (2025-01-20 r87609) -- "Unsuffered Consequences" 4719
palomino7Windows Server 2022 Datacenterx64R Under development (unstable) (2025-01-21 r87610 ucrt) -- "Unsuffered Consequences" 4481
lconwaymacOS 12.7.1 Montereyx86_64R Under development (unstable) (2025-01-22 r87618) -- "Unsuffered Consequences" 4492
kjohnson3macOS 13.7.1 Venturaarm64R Under development (unstable) (2025-01-20 r87609) -- "Unsuffered Consequences" 4445
Click on any hostname to see more info about the system (e.g. compilers)      (*) as reported by 'uname -p', except on Windows and Mac OS X

Package 526/2295HostnameOS / ArchINSTALLBUILDCHECKBUILD BIN
DegCre 1.3.0  (landing page)
Brian S. Roberts
Snapshot Date: 2025-02-12 13:40 -0500 (Wed, 12 Feb 2025)
git_url: https://git.bioconductor.org/packages/DegCre
git_branch: devel
git_last_commit: 0bf1459
git_last_commit_date: 2024-12-13 16:10:45 -0500 (Fri, 13 Dec 2024)
nebbiolo1Linux (Ubuntu 24.04.1 LTS) / x86_64  OK    OK    OK  UNNEEDED, same version is already published
palomino7Windows Server 2022 Datacenter / x64  OK    OK    OK    OK  NO, package depends on 'plotgardener' which is only available as a source package that needs compilation
lconwaymacOS 12.7.1 Monterey / x86_64  OK    OK    OK    OK  UNNEEDED, same version is already published
kjohnson3macOS 13.7.1 Ventura / arm64  OK    OK    OK    OK  UNNEEDED, same version is already published


CHECK results for DegCre on palomino7

To the developers/maintainers of the DegCre package:
- Allow up to 24 hours (and sometimes 48 hours) for your latest push to git@git.bioconductor.org:packages/DegCre.git to reflect on this report. See Troubleshooting Build Report for more information.
- Use the following Renviron settings to reproduce errors and warnings.
- If 'R CMD check' started to fail recently on the Linux builder(s) over a missing dependency, add the missing dependency to 'Suggests:' in your DESCRIPTION file. See Renviron.bioc for more information.

raw results


Summary

Package: DegCre
Version: 1.3.0
Command: E:\biocbuild\bbs-3.21-bioc\R\bin\R.exe CMD check --no-multiarch --install=check:DegCre.install-out.txt --library=E:\biocbuild\bbs-3.21-bioc\R\library --no-vignettes --timings DegCre_1.3.0.tar.gz
StartedAt: 2025-02-13 00:27:08 -0500 (Thu, 13 Feb 2025)
EndedAt: 2025-02-13 00:35:56 -0500 (Thu, 13 Feb 2025)
EllapsedTime: 528.1 seconds
RetCode: 0
Status:   OK  
CheckDir: DegCre.Rcheck
Warnings: 0

Command output

##############################################################################
##############################################################################
###
### Running command:
###
###   E:\biocbuild\bbs-3.21-bioc\R\bin\R.exe CMD check --no-multiarch --install=check:DegCre.install-out.txt --library=E:\biocbuild\bbs-3.21-bioc\R\library --no-vignettes --timings DegCre_1.3.0.tar.gz
###
##############################################################################
##############################################################################


* using log directory 'E:/biocbuild/bbs-3.21-bioc/meat/DegCre.Rcheck'
* using R Under development (unstable) (2025-01-21 r87610 ucrt)
* using platform: x86_64-w64-mingw32
* R was compiled by
    gcc.exe (GCC) 13.3.0
    GNU Fortran (GCC) 13.3.0
* running under: Windows Server 2022 x64 (build 20348)
* using session charset: UTF-8
* using option '--no-vignettes'
* checking for file 'DegCre/DESCRIPTION' ... OK
* checking extension type ... Package
* this is package 'DegCre' version '1.3.0'
* package encoding: UTF-8
* checking package namespace information ... OK
* checking package dependencies ... OK
* checking if this is a source package ... OK
* checking if there is a namespace ... OK
* checking for hidden files and directories ... OK
* checking for portable file names ... OK
* checking whether package 'DegCre' can be installed ... OK
* checking installed package size ... OK
* checking package directory ... OK
* checking 'build' directory ... OK
* checking DESCRIPTION meta-information ... OK
* checking top-level files ... OK
* checking for left-over files ... OK
* checking index information ... OK
* checking package subdirectories ... OK
* checking code files for non-ASCII characters ... OK
* checking R files for syntax errors ... OK
* checking whether the package can be loaded ... OK
* checking whether the package can be loaded with stated dependencies ... OK
* checking whether the package can be unloaded cleanly ... OK
* checking whether the namespace can be loaded with stated dependencies ... OK
* checking whether the namespace can be unloaded cleanly ... OK
* checking dependencies in R code ... OK
* checking S3 generic/method consistency ... OK
* checking replacement functions ... OK
* checking foreign function calls ... OK
* checking R code for possible problems ... NOTE
calcPadjsAndEtpFun: multiple local function definitions for 'tpFun'
  with different formal arguments
* checking Rd files ... OK
* checking Rd metadata ... OK
* checking Rd cross-references ... OK
* checking for missing documentation entries ... OK
* checking for code/documentation mismatches ... OK
* checking Rd \usage sections ... OK
* checking Rd contents ... OK
* checking for unstated dependencies in examples ... OK
* checking contents of 'data' directory ... OK
* checking data for non-ASCII characters ... OK
* checking data for ASCII and uncompressed saves ... OK
* checking files in 'vignettes' ... OK
* checking examples ... OK
Examples with CPU (user + system) or elapsed time > 5s
                          user system elapsed
degCrePRAUC              12.08   0.84   12.92
plotBrowserDegCre        11.28   0.61   47.48
optimizeAlphaDegCre      10.63   0.64   11.25
plotExpectedAssocsPerDeg  6.02   0.12    6.14
getExpectAssocPerDEG      5.81   0.30    6.12
* checking for unstated dependencies in 'tests' ... OK
* checking tests ...
  Running 'testthat.R'
 OK
* checking for unstated dependencies in vignettes ... OK
* checking package vignettes ... OK
* checking running R code from vignettes ... SKIPPED
* checking re-building of vignette outputs ... SKIPPED
* checking PDF version of manual ... OK
* DONE

Status: 1 NOTE
See
  'E:/biocbuild/bbs-3.21-bioc/meat/DegCre.Rcheck/00check.log'
for details.


Installation output

DegCre.Rcheck/00install.out

##############################################################################
##############################################################################
###
### Running command:
###
###   E:\biocbuild\bbs-3.21-bioc\R\bin\R.exe CMD INSTALL DegCre
###
##############################################################################
##############################################################################


* installing to library 'E:/biocbuild/bbs-3.21-bioc/R/library'
* installing *source* package 'DegCre' ...
** this is package 'DegCre' version '1.3.0'
** using staged installation
** R
** data
** inst
** byte-compile and prepare package for lazy loading
** help
*** installing help indices
*** copying figures
** building package indices
** installing vignettes
** testing if installed package can be loaded from temporary location
** testing if installed package can be loaded from final location
** testing if installed package keeps a record of temporary installation path
* DONE (DegCre)

Tests output

DegCre.Rcheck/tests/testthat.Rout


R Under development (unstable) (2025-01-21 r87610 ucrt) -- "Unsuffered Consequences"
Copyright (C) 2025 The R Foundation for Statistical Computing
Platform: x86_64-w64-mingw32/x64

R is free software and comes with ABSOLUTELY NO WARRANTY.
You are welcome to redistribute it under certain conditions.
Type 'license()' or 'licence()' for distribution details.

R is a collaborative project with many contributors.
Type 'contributors()' for more information and
'citation()' on how to cite R or R packages in publications.

Type 'demo()' for some demos, 'help()' for on-line help, or
'help.start()' for an HTML browser interface to help.
Type 'q()' to quit R.

> # This file is part of the standard setup for testthat.
> # It is recommended that you do not modify it.
> #
> # Where should you do additional test configuration?
> # Learn more about the roles of various files in:
> # * https://r-pkgs.org/testing-design.html#sec-tests-files-overview
> # * https://testthat.r-lib.org/articles/special-files.html
> 
> library(testthat)
> library(DegCre)

> 
> test_check("DegCre")
Processing 23235 associations for gene collapse
Using GeneSymb as gene name column.
Minimum display region size = 29091 bp.
All smaller regions will be expanded.
ACOT7 promoters have been merged for plotting.
HES2 promoters have been merged for plotting.
ERRFI1 promoters have been merged for plotting.
SLC2A5 promoters have been merged for plotting.
GPR157 promoters have been merged for plotting.
SPSB1 promoters have been merged for plotting.
arches[arches1]
heatmapLegend[heatmapLegend1]
signal[signal1_h]
yaxis[yaxis1]
genomeLabel[genomeLabel1]
genes[genes1]
genes[genes2]
text[text1]
text[text2]
text[text2]
Analyzing 34169 DegGR to CreGR hits for optimal distance bin size.
Hit distance bin n = 2277
Small last bin resolved.
Running over 16 hit distance thresholds
Adjusting association probability for distance.
Calculation of assoc probabilities over hit bins complete.
Assoc FDR calculation complete.
DegCre calculations complete.
[ FAIL 0 | WARN 3 | SKIP 0 | PASS 38 ]

[ FAIL 0 | WARN 3 | SKIP 0 | PASS 38 ]
> 
> proc.time()
   user  system elapsed 
  83.57    2.50   87.25 

Example timings

DegCre.Rcheck/DegCre-Ex.timings

nameusersystemelapsed
adjustRawAssocProb000
calcAUC000
calcAssocProbOR3.580.093.69
calcBinomFDRperBin000
calcDependIndependEnrichStats000
calcKStestStatMedian000
calcPadjsAndEtpFun000
calcRawAssocProbOR2.580.082.77
changeColorAlpha000
collapseDegCreToGene2.940.163.11
convDegCreResListToCreGeneScoreGR2.350.032.39
convertDegCreDataFrame2.530.032.56
convertdegCreResListToGInteraction3.080.083.18
correctAssocProbs000
creGRToSignal000
degCrePRAUC12.08 0.8412.92
distBinHeuristic000
fastKS000
getAssocDistHits2.640.142.78
getDegCrePlotRegionFromGene000
getDistBinNullAssocProb3.370.083.45
getExpectAssocPerDEG5.810.306.12
getLabelYfromPlotgardenerObj000
makeDistBinChunkList000
makePlotGInter000
optimizeAlphaDegCre10.63 0.6411.25
plotBrowserDegCre11.28 0.6147.48
plotDegCreAssocProbVsDist2.640.122.77
plotDegCreBinHeuristic2.250.132.37
plotExpectedAssocsPerDeg6.020.126.14
runDegCre3.090.093.19