Back to Multiple platform build/check report for BioC 3.21: simplified long |
|
This page was generated on 2025-02-11 11:42 -0500 (Tue, 11 Feb 2025).
Hostname | OS | Arch (*) | R version | Installed pkgs |
---|---|---|---|---|
nebbiolo1 | Linux (Ubuntu 24.04.1 LTS) | x86_64 | R Under development (unstable) (2025-01-20 r87609) -- "Unsuffered Consequences" | 4719 |
palomino7 | Windows Server 2022 Datacenter | x64 | R Under development (unstable) (2025-01-21 r87610 ucrt) -- "Unsuffered Consequences" | 4480 |
lconway | macOS 12.7.1 Monterey | x86_64 | R Under development (unstable) (2025-01-22 r87618) -- "Unsuffered Consequences" | 4491 |
kjohnson3 | macOS 13.7.1 Ventura | arm64 | R Under development (unstable) (2025-01-20 r87609) -- "Unsuffered Consequences" | 4444 |
Click on any hostname to see more info about the system (e.g. compilers) (*) as reported by 'uname -p', except on Windows and Mac OS X |
Package 563/2295 | Hostname | OS / Arch | INSTALL | BUILD | CHECK | BUILD BIN | ||||||||
Shubham Gupta
| nebbiolo1 | Linux (Ubuntu 24.04.1 LTS) / x86_64 | OK | OK | ERROR | |||||||||
palomino7 | Windows Server 2022 Datacenter / x64 | OK | OK | ERROR | OK | |||||||||
lconway | macOS 12.7.1 Monterey / x86_64 | OK | OK | ERROR | OK | |||||||||
kjohnson3 | macOS 13.7.1 Ventura / arm64 | OK | OK | ERROR | OK | |||||||||
To the developers/maintainers of the DIAlignR package: - Allow up to 24 hours (and sometimes 48 hours) for your latest push to git@git.bioconductor.org:packages/DIAlignR.git to reflect on this report. See Troubleshooting Build Report for more information. - Use the following Renviron settings to reproduce errors and warnings. - If 'R CMD check' started to fail recently on the Linux builder(s) over a missing dependency, add the missing dependency to 'Suggests:' in your DESCRIPTION file. See Renviron.bioc for more information. |
Package: DIAlignR |
Version: 2.15.1 |
Command: /Library/Frameworks/R.framework/Resources/bin/R CMD check --install=check:DIAlignR.install-out.txt --library=/Library/Frameworks/R.framework/Resources/library --no-vignettes --timings DIAlignR_2.15.1.tar.gz |
StartedAt: 2025-02-10 20:40:30 -0500 (Mon, 10 Feb 2025) |
EndedAt: 2025-02-10 20:43:41 -0500 (Mon, 10 Feb 2025) |
EllapsedTime: 190.9 seconds |
RetCode: 1 |
Status: ERROR |
CheckDir: DIAlignR.Rcheck |
Warnings: NA |
############################################################################## ############################################################################## ### ### Running command: ### ### /Library/Frameworks/R.framework/Resources/bin/R CMD check --install=check:DIAlignR.install-out.txt --library=/Library/Frameworks/R.framework/Resources/library --no-vignettes --timings DIAlignR_2.15.1.tar.gz ### ############################################################################## ############################################################################## * using log directory ‘/Users/biocbuild/bbs-3.21-bioc/meat/DIAlignR.Rcheck’ * using R Under development (unstable) (2025-01-22 r87618) * using platform: x86_64-apple-darwin20 * R was compiled by Apple clang version 14.0.0 (clang-1400.0.29.202) GNU Fortran (GCC) 14.2.0 * running under: macOS Monterey 12.7.6 * using session charset: UTF-8 * using option ‘--no-vignettes’ * checking for file ‘DIAlignR/DESCRIPTION’ ... OK * checking extension type ... Package * this is package ‘DIAlignR’ version ‘2.15.1’ * package encoding: UTF-8 * checking package namespace information ... OK * checking package dependencies ... OK * checking if this is a source package ... OK * checking if there is a namespace ... OK * checking for hidden files and directories ... OK * checking for portable file names ... OK * checking for sufficient/correct file permissions ... OK * checking whether package ‘DIAlignR’ can be installed ... OK * used C++ compiler: ‘Apple clang version 14.0.0 (clang-1400.0.29.202)’ * used SDK: ‘MacOSX11.3.sdk’ * checking C++ specification ... NOTE Specified C++14: please drop specification unless essential * checking installed package size ... INFO installed size is 11.5Mb sub-directories of 1Mb or more: extdata 4.0Mb metabo 4.1Mb ptms 1.5Mb * checking package directory ... OK * checking DESCRIPTION meta-information ... OK * checking top-level files ... OK * checking for left-over files ... OK * checking index information ... OK * checking package subdirectories ... OK * checking code files for non-ASCII characters ... OK * checking R files for syntax errors ... OK * checking whether the package can be loaded ... OK * checking whether the package can be loaded with stated dependencies ... OK * checking whether the package can be unloaded cleanly ... OK * checking whether the namespace can be loaded with stated dependencies ... OK * checking whether the namespace can be unloaded cleanly ... OK * checking whether startup messages can be suppressed ... OK * checking dependencies in R code ... OK * checking S3 generic/method consistency ... OK * checking replacement functions ... OK * checking foreign function calls ... OK * checking R code for possible problems ... NOTE alignTargetedRuns: no visible binding for global variable ‘peptide_id’ alignTargetedRuns : <anonymous>: no visible global function definition for ‘.’ alignTargetedRuns: no visible binding for global variable ‘intensity’ alignToRoot4: no visible binding for global variable ‘trees’ alignToRoot4: no visible binding for global variable ‘precursors’ alignToRoot4: no visible binding for global variable ‘intensity’ childXICs: possible error in cummax(v = cummax(ifelse(is.na(x), -Inf, x))): unused argument (v = cummax(ifelse(is.na(x), -Inf, x))) distMat.rSqrd : <anonymous> : <anonymous>: no visible binding for global variable ‘RT.ref’ distMat.rSqrd : <anonymous> : <anonymous>: no visible binding for global variable ‘RT.eXp’ fetchPrecursorsInfo: no visible binding for global variable ‘transition_id’ fetchPrecursorsInfo: no visible global function definition for ‘.’ fetchPrecursorsInfo: no visible binding for global variable ‘transition_group_id’ fetchTransitionsFromRun: no visible binding for global variable ‘intensity’ fetchTransitionsFromRun: no visible global function definition for ‘.’ fetchTransitionsFromRun: no visible binding for global variable ‘transition_group_id’ fetchTransitionsFromRun: no visible binding for global variable ‘peak_group_rank’ fetchTransitionsFromRun: no visible global function definition for ‘head’ getNativeIDs: no visible binding for global variable ‘peptide_id’ getPeptideScores: no visible binding for global variable ‘col2’ getPeptideScores: no visible binding for global variable ‘run’ getQuery: no visible binding for global variable ‘identifying.transitionPEPfilter’ getRTdf: no visible binding for global variable ‘peak_group_rank’ getRTdf: no visible binding for global variable ‘m_score’ getRTdf: no visible global function definition for ‘.’ getRTdf: no visible binding for global variable ‘transition_group_id’ getRTdf: no visible binding for global variable ‘RT’ getRefRun : <anonymous>: no visible binding for global variable ‘pvalue’ ipfReassignFDR: no visible binding for global variable ‘ref_run’ ipfReassignFDR: no visible binding for global variable ‘run’ ipfReassignFDR: no visible global function definition for ‘.’ ipfReassignFDR: no visible binding for global variable ‘i.to’ ipfReassignFDR: no visible binding for global variable ‘m_score_new’ ipfReassignFDR: no visible binding for global variable ‘ms2_m_score’ ipfReassignFDR: no visible binding for global variable ‘m_score’ mstAlignRuns: no visible binding for global variable ‘ropenms’ mstAlignRuns: no visible binding for global variable ‘peptide_id’ mstAlignRuns : <anonymous>: no visible global function definition for ‘.’ mstAlignRuns: no visible binding for global variable ‘intensity’ mstScript1: no visible binding for global variable ‘ropenms’ mstScript2: no visible binding for global variable ‘fileInfo’ mstScript2: no visible binding for global variable ‘peptide_id’ mstScript2: no visible binding for global variable ‘features’ mstScript2 : <anonymous>: no visible global function definition for ‘.’ mstScript2 : <anonymous>: no visible binding for global variable ‘features’ mstScript2: no visible binding for global variable ‘intensity’ populateReferenceExperimentFeatureAlignmentMap: no visible binding for global variable ‘run’ populateReferenceExperimentFeatureAlignmentMap: no visible binding for global variable ‘transition_group_id’ populateReferenceExperimentFeatureAlignmentMap: no visible binding for global variable ‘feature_id’ progAlignRuns: no visible binding for global variable ‘peptide_id’ progAlignRuns : <anonymous>: no visible global function definition for ‘.’ progAlignRuns: no visible binding for global variable ‘intensity’ progComb3: no visible binding for global variable ‘precursors’ progComb3: no visible binding for global variable ‘ropenms’ progSplit2: no visible binding for global variable ‘trees’ progSplit2: no visible binding for global variable ‘scoreFile’ progSplit2: no visible binding for global variable ‘precursors’ progSplit2 : <anonymous>: no visible global function definition for ‘.’ progSplit2: no visible binding for global variable ‘ropenms’ progSplit4: no visible binding for global variable ‘precursors’ progSplit4 : <anonymous>: no visible global function definition for ‘.’ progSplit4: no visible binding for global variable ‘intensity’ progTree1: no visible binding for global variable ‘ropenms’ progTree1: no visible binding for global variable ‘peptide_id’ reIntensity: no visible binding for global variable ‘run’ reIntensity: no visible binding for global variable ‘alignment_rank’ recalculateIntensity: no visible binding for global variable ‘peptide_id’ recalculateIntensity: no visible binding for global variable ‘chromatogramIndex’ script2: no visible binding for global variable ‘fileInfo’ script2: no visible binding for global variable ‘peptide_id’ script2 : <anonymous>: no visible global function definition for ‘.’ script2: no visible binding for global variable ‘features’ script2: no visible binding for global variable ‘globalFits’ script2: no visible binding for global variable ‘RSE’ script2: no visible binding for global variable ‘intensity’ setRootRank : <anonymous>: no visible global function definition for ‘.’ writeOutFeatureAlignmentMap: no visible binding for global variable ‘reference_feature_id’ writeOutFeatureAlignmentMap: no visible binding for global variable ‘experiment_feature_id’ writeOutFeatureAlignmentMap: no visible binding for global variable ‘ALIGNMENT_GROUP_ID’ writeOutFeatureAlignmentMap: no visible binding for global variable ‘REFERENCE’ writeOutFeatureAlignmentMap: no visible global function definition for ‘.’ writeOutFeatureAlignmentMap: no visible binding for global variable ‘i.to’ writeTables: no visible binding for global variable ‘peptide_id’ writeTables: no visible binding for global variable ‘run’ writeTables: no visible binding for global variable ‘precursor’ Undefined global functions or variables: . ALIGNMENT_GROUP_ID REFERENCE RSE RT RT.eXp RT.ref alignment_rank chromatogramIndex col2 experiment_feature_id feature_id features fileInfo globalFits head i.to identifying.transitionPEPfilter intensity m_score m_score_new ms2_m_score peak_group_rank peptide_id precursor precursors pvalue ref_run reference_feature_id ropenms run scoreFile transition_group_id transition_id trees Consider adding importFrom("datasets", "trees") importFrom("utils", "head") to your NAMESPACE file. * checking Rd files ... OK * checking Rd metadata ... OK * checking Rd cross-references ... OK * checking for missing documentation entries ... OK * checking for code/documentation mismatches ... OK * checking Rd \usage sections ... NOTE Documented arguments not in \usage in Rd file 'alignToRef.Rd': ‘feature_alignment_mapping’ Documented arguments not in \usage in Rd file 'blobXICs.Rd': ‘nativeId’ Documented arguments not in \usage in Rd file 'extractXIC_group2.Rd': ‘mz’ Documented arguments not in \usage in Rd file 'getOswAnalytes.Rd': ‘dataPath’ ‘filenames’ Documented arguments not in \usage in Rd file 'getOswFiles.Rd': ‘dataPath’ ‘filenames’ Documented arguments not in \usage in Rd file 'perBatch.Rd': ‘rownum’ Documented arguments not in \usage in Rd file 'readSqMassHeader.Rd': ‘mzmlName’ Documented arguments not in \usage in Rd file 'setAlignmentRank.Rd': ‘XICs.eXp’ Documented arguments not in \usage in Rd file 'traverseDown.Rd': ‘analytes’ Documented arguments not in \usage in Rd file 'writeTables.Rd': ‘filename’ Functions with \usage entries need to have the appropriate \alias entries, and all their arguments documented. The \usage entries must correspond to syntactically valid R code. See chapter ‘Writing R documentation files’ in the ‘Writing R Extensions’ manual. * checking Rd contents ... OK * checking for unstated dependencies in examples ... OK * checking contents of ‘data’ directory ... OK * checking data for non-ASCII characters ... OK * checking data for ASCII and uncompressed saves ... OK * checking line endings in C/C++/Fortran sources/headers ... OK * checking compiled code ... NOTE Note: information on .o files is not available File ‘/Library/Frameworks/R.framework/Versions/4.5-x86_64/Resources/library/DIAlignR/libs/DIAlignR.so’: Found ‘__ZNSt3__14coutE’, possibly from ‘std::cout’ (C++) Compiled code should not call entry points which might terminate R nor write to stdout/stderr instead of to the console, nor use Fortran I/O nor system RNGs nor [v]sprintf. The detected symbols are linked into the code but might come from libraries and not actually be called. See ‘Writing portable packages’ in the ‘Writing R Extensions’ manual. * checking files in ‘vignettes’ ... OK * checking examples ... OK Examples with CPU (user + system) or elapsed time > 5s user system elapsed alignTargetedRuns 11.156 11.108 7.786 * checking for unstated dependencies in ‘tests’ ... OK * checking tests ... Running ‘testthat.R’ ERROR Running the tests in ‘tests/testthat.R’ failed. Last 13 lines of output: Backtrace: ▆ 1. └─testthat::expect_equal(outData[[1]], expData, tolerance = 1e-04) at test_utils.R:76:13 2. ├─testthat::compare(act$val, exp$val, ..., tolerance = tolerance) 3. └─testthat:::compare.default(act$val, exp$val, ..., tolerance = tolerance) 4. ├─base::all.equal(x, y, ...) 5. └─data.table:::all.equal.data.table(x, y, ...) 6. ├─base::all.equal(x, y, tolerance = tolerance, ..., check.attributes = check.attributes) 7. └─bit64::all.equal.integer64(...) 8. ├─base::is.na(current) 9. └─bit64::is.na.integer64(current) [ FAIL 1 | WARN 0 | SKIP 8 | PASS 631 ] Error: Test failures Execution halted * checking for unstated dependencies in vignettes ... OK * checking package vignettes ... OK * checking running R code from vignettes ... SKIPPED * checking re-building of vignette outputs ... SKIPPED * checking PDF version of manual ... OK * DONE Status: 1 ERROR, 4 NOTEs See ‘/Users/biocbuild/bbs-3.21-bioc/meat/DIAlignR.Rcheck/00check.log’ for details.
DIAlignR.Rcheck/00install.out
############################################################################## ############################################################################## ### ### Running command: ### ### /Library/Frameworks/R.framework/Resources/bin/R CMD INSTALL DIAlignR ### ############################################################################## ############################################################################## * installing to library ‘/Library/Frameworks/R.framework/Versions/4.5-x86_64/Resources/library’ * installing *source* package ‘DIAlignR’ ... ** this is package ‘DIAlignR’ version ‘2.15.1’ ** using staged installation ** libs using C++ compiler: ‘Apple clang version 14.0.0 (clang-1400.0.29.202)’ using C++14 using SDK: ‘MacOSX11.3.sdk’ clang++ -arch x86_64 -std=gnu++14 -I"/Library/Frameworks/R.framework/Resources/include" -DNDEBUG -I'/Library/Frameworks/R.framework/Versions/4.5-x86_64/Resources/library/Rcpp/include' -I'/Library/Frameworks/R.framework/Versions/4.5-x86_64/Resources/library/RcppEigen/include' -I/opt/R/x86_64/include -fPIC -falign-functions=64 -Wall -g -O2 -DR_NO_REMAP -c ChromatogramPeak.cpp -o ChromatogramPeak.o clang++ -arch x86_64 -std=gnu++14 -I"/Library/Frameworks/R.framework/Resources/include" -DNDEBUG -I'/Library/Frameworks/R.framework/Versions/4.5-x86_64/Resources/library/Rcpp/include' -I'/Library/Frameworks/R.framework/Versions/4.5-x86_64/Resources/library/RcppEigen/include' -I/opt/R/x86_64/include -fPIC -falign-functions=64 -Wall -g -O2 -DR_NO_REMAP -c DPosition.cpp -o DPosition.o clang++ -arch x86_64 -std=gnu++14 -I"/Library/Frameworks/R.framework/Resources/include" -DNDEBUG -I'/Library/Frameworks/R.framework/Versions/4.5-x86_64/Resources/library/Rcpp/include' -I'/Library/Frameworks/R.framework/Versions/4.5-x86_64/Resources/library/RcppEigen/include' -I/opt/R/x86_64/include -fPIC -falign-functions=64 -Wall -g -O2 -DR_NO_REMAP -c MSChromatogram.cpp -o MSChromatogram.o clang++ -arch x86_64 -std=gnu++14 -I"/Library/Frameworks/R.framework/Resources/include" -DNDEBUG -I'/Library/Frameworks/R.framework/Versions/4.5-x86_64/Resources/library/Rcpp/include' -I'/Library/Frameworks/R.framework/Versions/4.5-x86_64/Resources/library/RcppEigen/include' -I/opt/R/x86_64/include -fPIC -falign-functions=64 -Wall -g -O2 -DR_NO_REMAP -c PeakIntegrator.cpp -o PeakIntegrator.o clang++ -arch x86_64 -std=gnu++14 -I"/Library/Frameworks/R.framework/Resources/include" -DNDEBUG -I'/Library/Frameworks/R.framework/Versions/4.5-x86_64/Resources/library/Rcpp/include' -I'/Library/Frameworks/R.framework/Versions/4.5-x86_64/Resources/library/RcppEigen/include' -I/opt/R/x86_64/include -fPIC -falign-functions=64 -Wall -g -O2 -DR_NO_REMAP -c RcppExports.cpp -o RcppExports.o clang++ -arch x86_64 -std=gnu++14 -I"/Library/Frameworks/R.framework/Resources/include" -DNDEBUG -I'/Library/Frameworks/R.framework/Versions/4.5-x86_64/Resources/library/Rcpp/include' -I'/Library/Frameworks/R.framework/Versions/4.5-x86_64/Resources/library/RcppEigen/include' -I/opt/R/x86_64/include -fPIC -falign-functions=64 -Wall -g -O2 -DR_NO_REMAP -c Rmain.cpp -o Rmain.o In file included from Rmain.cpp:19: ./miscell.h:14:19: warning: unused function 'detect_end_na' [-Wunused-function] static bool const detect_end_na(double a, double b); ^ ./miscell.h:16:19: warning: unused function 'detect_start_na' [-Wunused-function] static bool const detect_start_na(double a, double b); ^ ./miscell.h:18:19: warning: unused function 'lessZero' [-Wunused-function] static bool const lessZero(double a); ^ 3 warnings generated. clang++ -arch x86_64 -std=gnu++14 -I"/Library/Frameworks/R.framework/Resources/include" -DNDEBUG -I'/Library/Frameworks/R.framework/Versions/4.5-x86_64/Resources/library/Rcpp/include' -I'/Library/Frameworks/R.framework/Versions/4.5-x86_64/Resources/library/RcppEigen/include' -I/opt/R/x86_64/include -fPIC -falign-functions=64 -Wall -g -O2 -DR_NO_REMAP -c SavitzkyGolayFilter.cpp -o SavitzkyGolayFilter.o clang++ -arch x86_64 -std=gnu++14 -I"/Library/Frameworks/R.framework/Resources/include" -DNDEBUG -I'/Library/Frameworks/R.framework/Versions/4.5-x86_64/Resources/library/Rcpp/include' -I'/Library/Frameworks/R.framework/Versions/4.5-x86_64/Resources/library/RcppEigen/include' -I/opt/R/x86_64/include -fPIC -falign-functions=64 -Wall -g -O2 -DR_NO_REMAP -c affinealignment.cpp -o affinealignment.o clang++ -arch x86_64 -std=gnu++14 -I"/Library/Frameworks/R.framework/Resources/include" -DNDEBUG -I'/Library/Frameworks/R.framework/Versions/4.5-x86_64/Resources/library/Rcpp/include' -I'/Library/Frameworks/R.framework/Versions/4.5-x86_64/Resources/library/RcppEigen/include' -I/opt/R/x86_64/include -fPIC -falign-functions=64 -Wall -g -O2 -DR_NO_REMAP -c affinealignobj.cpp -o affinealignobj.o clang++ -arch x86_64 -std=gnu++14 -I"/Library/Frameworks/R.framework/Resources/include" -DNDEBUG -I'/Library/Frameworks/R.framework/Versions/4.5-x86_64/Resources/library/Rcpp/include' -I'/Library/Frameworks/R.framework/Versions/4.5-x86_64/Resources/library/RcppEigen/include' -I/opt/R/x86_64/include -fPIC -falign-functions=64 -Wall -g -O2 -DR_NO_REMAP -c alignment.cpp -o alignment.o clang++ -arch x86_64 -std=gnu++14 -I"/Library/Frameworks/R.framework/Resources/include" -DNDEBUG -I'/Library/Frameworks/R.framework/Versions/4.5-x86_64/Resources/library/Rcpp/include' -I'/Library/Frameworks/R.framework/Versions/4.5-x86_64/Resources/library/RcppEigen/include' -I/opt/R/x86_64/include -fPIC -falign-functions=64 -Wall -g -O2 -DR_NO_REMAP -c chromSimMatrix.cpp -o chromSimMatrix.o clang++ -arch x86_64 -std=gnu++14 -I"/Library/Frameworks/R.framework/Resources/include" -DNDEBUG -I'/Library/Frameworks/R.framework/Versions/4.5-x86_64/Resources/library/Rcpp/include' -I'/Library/Frameworks/R.framework/Versions/4.5-x86_64/Resources/library/RcppEigen/include' -I/opt/R/x86_64/include -fPIC -falign-functions=64 -Wall -g -O2 -DR_NO_REMAP -c constrainMat.cpp -o constrainMat.o constrainMat.cpp:78:10: warning: unused variable 'mapped' [-Wunused-variable] double mapped = 0.0; ^ 1 warning generated. clang++ -arch x86_64 -std=gnu++14 -I"/Library/Frameworks/R.framework/Resources/include" -DNDEBUG -I'/Library/Frameworks/R.framework/Versions/4.5-x86_64/Resources/library/Rcpp/include' -I'/Library/Frameworks/R.framework/Versions/4.5-x86_64/Resources/library/RcppEigen/include' -I/opt/R/x86_64/include -fPIC -falign-functions=64 -Wall -g -O2 -DR_NO_REMAP -c gapPenalty.cpp -o gapPenalty.o clang++ -arch x86_64 -std=gnu++14 -I"/Library/Frameworks/R.framework/Resources/include" -DNDEBUG -I'/Library/Frameworks/R.framework/Versions/4.5-x86_64/Resources/library/Rcpp/include' -I'/Library/Frameworks/R.framework/Versions/4.5-x86_64/Resources/library/RcppEigen/include' -I/opt/R/x86_64/include -fPIC -falign-functions=64 -Wall -g -O2 -DR_NO_REMAP -c integrateArea.cpp -o integrateArea.o clang++ -arch x86_64 -std=gnu++14 -I"/Library/Frameworks/R.framework/Resources/include" -DNDEBUG -I'/Library/Frameworks/R.framework/Versions/4.5-x86_64/Resources/library/Rcpp/include' -I'/Library/Frameworks/R.framework/Versions/4.5-x86_64/Resources/library/RcppEigen/include' -I/opt/R/x86_64/include -fPIC -falign-functions=64 -Wall -g -O2 -DR_NO_REMAP -c interface.cpp -o interface.o clang++ -arch x86_64 -std=gnu++14 -I"/Library/Frameworks/R.framework/Resources/include" -DNDEBUG -I'/Library/Frameworks/R.framework/Versions/4.5-x86_64/Resources/library/Rcpp/include' -I'/Library/Frameworks/R.framework/Versions/4.5-x86_64/Resources/library/RcppEigen/include' -I/opt/R/x86_64/include -fPIC -falign-functions=64 -Wall -g -O2 -DR_NO_REMAP -c miscell.cpp -o miscell.o miscell.cpp:53:19: warning: unused function 'lessZero' [-Wunused-function] static bool const lessZero(double a){ ^ 1 warning generated. clang++ -arch x86_64 -std=gnu++14 -I"/Library/Frameworks/R.framework/Resources/include" -DNDEBUG -I'/Library/Frameworks/R.framework/Versions/4.5-x86_64/Resources/library/Rcpp/include' -I'/Library/Frameworks/R.framework/Versions/4.5-x86_64/Resources/library/RcppEigen/include' -I/opt/R/x86_64/include -fPIC -falign-functions=64 -Wall -g -O2 -DR_NO_REMAP -c run_alignment.cpp -o run_alignment.o clang++ -arch x86_64 -std=gnu++14 -I"/Library/Frameworks/R.framework/Resources/include" -DNDEBUG -I'/Library/Frameworks/R.framework/Versions/4.5-x86_64/Resources/library/Rcpp/include' -I'/Library/Frameworks/R.framework/Versions/4.5-x86_64/Resources/library/RcppEigen/include' -I/opt/R/x86_64/include -fPIC -falign-functions=64 -Wall -g -O2 -DR_NO_REMAP -c simpleFcn.cpp -o simpleFcn.o clang++ -arch x86_64 -std=gnu++14 -I"/Library/Frameworks/R.framework/Resources/include" -DNDEBUG -I'/Library/Frameworks/R.framework/Versions/4.5-x86_64/Resources/library/Rcpp/include' -I'/Library/Frameworks/R.framework/Versions/4.5-x86_64/Resources/library/RcppEigen/include' -I/opt/R/x86_64/include -fPIC -falign-functions=64 -Wall -g -O2 -DR_NO_REMAP -c spline.cpp -o spline.o clang++ -arch x86_64 -std=gnu++14 -I"/Library/Frameworks/R.framework/Resources/include" -DNDEBUG -I'/Library/Frameworks/R.framework/Versions/4.5-x86_64/Resources/library/Rcpp/include' -I'/Library/Frameworks/R.framework/Versions/4.5-x86_64/Resources/library/RcppEigen/include' -I/opt/R/x86_64/include -fPIC -falign-functions=64 -Wall -g -O2 -DR_NO_REMAP -c utils.cpp -o utils.o utils.cpp:48:9: warning: unused variable 'idx' [-Wunused-variable] int idx = n*(1-p); ^ 1 warning generated. clang++ -arch x86_64 -std=gnu++14 -dynamiclib -Wl,-headerpad_max_install_names -undefined dynamic_lookup -L/Library/Frameworks/R.framework/Resources/lib -L/opt/R/x86_64/lib -o DIAlignR.so ChromatogramPeak.o DPosition.o MSChromatogram.o PeakIntegrator.o RcppExports.o Rmain.o SavitzkyGolayFilter.o affinealignment.o affinealignobj.o alignment.o chromSimMatrix.o constrainMat.o gapPenalty.o integrateArea.o interface.o miscell.o run_alignment.o simpleFcn.o spline.o utils.o -F/Library/Frameworks/R.framework/.. -framework R -Wl,-framework -Wl,CoreFoundation installing to /Library/Frameworks/R.framework/Versions/4.5-x86_64/Resources/library/00LOCK-DIAlignR/00new/DIAlignR/libs ** R ** data ** inst ** byte-compile and prepare package for lazy loading ** help *** installing help indices ** building package indices ** installing vignettes ** testing if installed package can be loaded from temporary location Warning in fun(libname, pkgname) : Package 'DIAlignR' is deprecated and will be removed from Bioconductor version 3.22 ** checking absolute paths in shared objects and dynamic libraries ** testing if installed package can be loaded from final location Warning in fun(libname, pkgname) : Package 'DIAlignR' is deprecated and will be removed from Bioconductor version 3.22 ** testing if installed package keeps a record of temporary installation path * DONE (DIAlignR)
DIAlignR.Rcheck/tests/testthat.Rout.fail
R Under development (unstable) (2025-01-22 r87618) -- "Unsuffered Consequences" Copyright (C) 2025 The R Foundation for Statistical Computing Platform: x86_64-apple-darwin20 R is free software and comes with ABSOLUTELY NO WARRANTY. You are welcome to redistribute it under certain conditions. Type 'license()' or 'licence()' for distribution details. R is a collaborative project with many contributors. Type 'contributors()' for more information and 'citation()' on how to cite R or R packages in publications. Type 'demo()' for some demos, 'help()' for on-line help, or 'help.start()' for an HTML browser interface to help. Type 'q()' to quit R. > library(testthat) > library(DIAlignR) Warning message: In fun(libname, pkgname) : Package 'DIAlignR' is deprecated and will be removed from Bioconductor version 3.22 > > test_check("DIAlignR") [1] "hroest_K120808_Strep10%PlasmaBiolRepl1_R03_SW_filt" [2] "hroest_K120809_Strep0%PlasmaBiolRepl2_R04_SW_filt" [3] "hroest_K120809_Strep10%PlasmaBiolRepl2_R04_SW_filt" Time difference of 0.08136702 secs Time difference of 0.1914492 secs Time difference of 0.1725161 secs Time difference of 0.02853513 secs Time difference of 0.01058292 secs Time difference of 0.100373 secs Time difference of 1.290977 secs Time difference of 0.02154183 secs Time difference of 0.371876 secs [1] "hroest_K120808_Strep10%PlasmaBiolRepl1_R03_SW_filt" [2] "hroest_K120809_Strep0%PlasmaBiolRepl2_R04_SW_filt" Time difference of 0.01876307 secs Time difference of 0.175566 secs Time difference of 0.1041031 secs Time difference of 0.01694894 secs Time difference of 0.009009123 secs Time difference of 0.049896 secs Time difference of 0.709693 secs Time difference of 0.008723021 secs Time difference of 0.8422332 secs [1] "hroest_K120808_Strep10%PlasmaBiolRepl1_R03_SW_filt" [2] "hroest_K120809_Strep0%PlasmaBiolRepl2_R04_SW_filt" [3] "hroest_K120809_Strep10%PlasmaBiolRepl2_R04_SW_filt" Time difference of 0.01610589 secs Time difference of 0.1787579 secs Time difference of 0.09620714 secs Time difference of 0.09117317 secs Time difference of 0.008311987 secs Time difference of 0.06381893 secs Time difference of 1.030905 secs Time difference of 0.0240581 secs Time difference of 0.289036 secs [1] "hroest_K120808_Strep10%PlasmaBiolRepl1_R03_SW_filt" [2] "hroest_K120809_Strep0%PlasmaBiolRepl2_R04_SW_filt" [3] "hroest_K120809_Strep10%PlasmaBiolRepl2_R04_SW_filt" Time difference of 0.01854801 secs Time difference of 0.01748896 secs Time difference of 0.00041008 secs Time difference of 0.0999701 secs Time difference of 0.01034808 secs Time difference of 0.05246496 secs Time difference of 0.01234198 secs Time difference of 0.009227991 secs Time difference of 0.084167 secs [1] "hroest_K120809_Strep0%PlasmaBiolRepl2_R04_SW_filt" [2] "hroest_K120809_Strep10%PlasmaBiolRepl2_R04_SW_filt" [1] "PestMix1_8Step1Plasma1SWATH20-50" "PestMix1_8Step8Plasma1SWATH20-50" Time difference of 0.007269859 secs Time difference of 0.02468395 secs Time difference of 0.0120182 secs Time difference of 0.01490402 secs Time difference of 0.008639097 secs Time difference of 0.04038811 secs Time difference of 0.06494284 secs Time difference of 0.006636858 secs Time difference of 0.17747 secs [1] "chludwig_K150309_004b_SW_1_16" "chludwig_K150309_008_SW_1_4" [3] "chludwig_K150309_013_SW_0" Time difference of 0.0106678 secs Time difference of 0.01133609 secs Time difference of 0.0009331703 secs Time difference of 0.02146912 secs Time difference of 0.01164603 secs Time difference of 0.059973 secs Time difference of 0.00508523 secs Time difference of 0.02286792 secs Time difference of 0.210036 secs <simpleWarning in simpleLoess(y, x, w, span, degree = degree, parametric = parametric, drop.square = drop.square, normalize = normalize, statistics = control$statistics, surface = control$surface, cell = control$cell, iterations = iterations, iterTrace = control$iterTrace, trace.hat = control$trace.hat): span too small. fewer data values than degrees of freedom.> <simpleWarning in simpleLoess(y, x, w, span, degree = degree, parametric = parametric, drop.square = drop.square, normalize = normalize, statistics = control$statistics, surface = control$surface, cell = control$cell, iterations = iterations, iterTrace = control$iterTrace, trace.hat = control$trace.hat): span too small. fewer data values than degrees of freedom.> <simpleWarning in sqrt(sum.squares/one.delta): NaNs produced> <simpleError in simpleLoess(y, x, w, span, degree = degree, parametric = parametric, drop.square = drop.square, normalize = normalize, statistics = control$statistics, surface = control$surface, cell = control$cell, iterations = iterations, iterTrace = control$iterTrace, trace.hat = control$trace.hat): span is too small> runName run0 hroest_K120808_Strep10%PlasmaBiolRepl1_R03_SW_filt run1 hroest_K120809_Strep0%PlasmaBiolRepl2_R04_SW_filt run2 hroest_K120809_Strep10%PlasmaBiolRepl2_R04_SW_filt Time difference of 0.09653497 secs Time difference of 0.01592112 secs Time difference of 0.002653837 secs Time difference of 0.01331806 secs Time difference of 0.04948282 secs Time difference of 0.01581502 secs Time difference of 0.01879406 secs Time difference of 0.1125891 secs runName run0 hroest_K120808_Strep10%PlasmaBiolRepl1_R03_SW_filt run1 hroest_K120809_Strep0%PlasmaBiolRepl2_R04_SW_filt run2 hroest_K120809_Strep10%PlasmaBiolRepl2_R04_SW_filt Time difference of 0.02687812 secs [1] "run0 run1\nrun2 run2" Time difference of 0.5121751 secs Time difference of 0.1076391 secs Time difference of 0.01032686 secs Time difference of 0.06017089 secs Time difference of 0.9966719 secs Time difference of 0.01392007 secs Time difference of 0.3027661 secs runName run0 hroest_K120808_Strep10%PlasmaBiolRepl1_R03_SW_filt run1 hroest_K120809_Strep0%PlasmaBiolRepl2_R04_SW_filt run2 hroest_K120809_Strep10%PlasmaBiolRepl2_R04_SW_filt Time difference of 0.165246 secs Time difference of 0.7371931 secs Time difference of 5.89574 secs Time difference of 0.3859441 secs runName run0 hroest_K120808_Strep10%PlasmaBiolRepl1_R03_SW_filt run1 hroest_K120809_Strep0%PlasmaBiolRepl2_R04_SW_filt run2 hroest_K120809_Strep10%PlasmaBiolRepl2_R04_SW_filt Time difference of 0.09984994 secs [1] "Written /Library/Frameworks/R.framework/Versions/4.5-x86_64/Resources/library/DIAlignR/extdata/temp_prog1.RData" [1] "Written /Library/Frameworks/R.framework/Versions/4.5-x86_64/Resources/library/DIAlignR/extdata/temp_0_2.rds" [1] "progTree1 is done." Time difference of 1.40092 secs Time difference of 0.2855031 secs [1] "Written /Library/Frameworks/R.framework/Versions/4.5-x86_64/Resources/library/DIAlignR/extdata/temp_1_2.rds" Time difference of 0.46031 secs [1] "Written /Library/Frameworks/R.framework/Versions/4.5-x86_64/Resources/library/DIAlignR/extdata/temp_2_2.rds" Time difference of 0.27844 secs Time difference of 0.16732 secs [1] "Written /Library/Frameworks/R.framework/Versions/4.5-x86_64/Resources/library/DIAlignR/extdata/temp_all_2.rds" Time difference of 0.2261879 secs runName run0 hroest_K120808_Strep10%PlasmaBiolRepl1_R03_SW_filt run1 hroest_K120809_Strep0%PlasmaBiolRepl2_R04_SW_filt run2 hroest_K120809_Strep10%PlasmaBiolRepl2_R04_SW_filt Time difference of 0.1063149 secs [1] "Written /Library/Frameworks/R.framework/Versions/4.5-x86_64/Resources/library/DIAlignR/extdata/temp_prog1.RData" [1] "Written /Library/Frameworks/R.framework/Versions/4.5-x86_64/Resources/library/DIAlignR/extdata/temp_0_2.rds" [1] "progTree1 is done." Time difference of 0.9052119 secs Time difference of 0.285322 secs [1] "Written /Library/Frameworks/R.framework/Versions/4.5-x86_64/Resources/library/DIAlignR/extdata/temp_1_2.rds" Time difference of 0.4711559 secs [1] "Written /Library/Frameworks/R.framework/Versions/4.5-x86_64/Resources/library/DIAlignR/extdata/temp_2_2.rds" Time difference of 0.2712471 secs Time difference of 0.01181412 secs [1] "Written /Library/Frameworks/R.framework/Versions/4.5-x86_64/Resources/library/DIAlignR/extdata/temp_all_2.rds" Error in reticulate::use_condaenv(condaEnv, required = TRUE) : Unable to locate conda environment 'TricEnvr'. Error in reticulate::use_condaenv(condaEnv, required = TRUE) : Unable to locate conda environment 'TricEnvr'. Error in reticulate::use_condaenv(condaEnv, required = TRUE) : Unable to locate conda environment 'TricEnvr'. [ FAIL 1 | WARN 0 | SKIP 8 | PASS 631 ] ══ Skipped tests (8) ═══════════════════════════════════════════════════════════ • empty test (5): 'test_get_filenames.R:77:1', 'test_get_filenames.R:82:1', 'test_utils.R:200:1', 'test_utils.R:203:1', 'test_utils.R:206:1' • ropenms not available for testing. A conda environment with name TricEnvr is MUST for testing. (3): 'test_pyopenms.R:4:3', 'test_pyopenms.R:8:3', 'test_pyopenms.R:27:3' ══ Failed tests ════════════════════════════════════════════════════════════════ ── Error ('test_utils.R:76:13'): test_getRefExpFeatureMap ────────────────────── Error in `is.na.integer64(current)`: REAL() can only be applied to a 'numeric', not a 'integer' Backtrace: ▆ 1. └─testthat::expect_equal(outData[[1]], expData, tolerance = 1e-04) at test_utils.R:76:13 2. ├─testthat::compare(act$val, exp$val, ..., tolerance = tolerance) 3. └─testthat:::compare.default(act$val, exp$val, ..., tolerance = tolerance) 4. ├─base::all.equal(x, y, ...) 5. └─data.table:::all.equal.data.table(x, y, ...) 6. ├─base::all.equal(x, y, tolerance = tolerance, ..., check.attributes = check.attributes) 7. └─bit64::all.equal.integer64(...) 8. ├─base::is.na(current) 9. └─bit64::is.na.integer64(current) [ FAIL 1 | WARN 0 | SKIP 8 | PASS 631 ] Error: Test failures Execution halted
DIAlignR.Rcheck/DIAlignR-Ex.timings
name | user | system | elapsed | |
MSTperBatch | 0.001 | 0.000 | 0.001 | |
addFlankToLeft | 0.002 | 0.001 | 0.003 | |
addFlankToRight | 0.001 | 0.000 | 0.002 | |
addXIC | 0.000 | 0.000 | 0.001 | |
alignChromatogramsCpp | 0.025 | 0.007 | 0.031 | |
alignTargetedRuns | 11.156 | 11.108 | 7.786 | |
alignToMaster | 1.496 | 0.059 | 1.564 | |
alignToRef | 0.001 | 0.000 | 0.001 | |
alignToRefMST | 0.001 | 0.000 | 0.002 | |
alignedXIC | 0.077 | 0.005 | 0.085 | |
analytesFromFeatures | 0.038 | 0.006 | 0.044 | |
approxFill | 0.000 | 0.000 | 0.001 | |
areaIntegrator | 0.002 | 0.000 | 0.003 | |
blobXICs | 0.002 | 0.001 | 0.003 | |
calculateIntensity | 0.002 | 0.001 | 0.003 | |
checkOverlap | 0 | 0 | 0 | |
checkParams | 0.001 | 0.000 | 0.000 | |
childXIC | 0.071 | 0.002 | 0.074 | |
childXICs | 0.536 | 0.019 | 0.560 | |
constrainSimCpp | 0.000 | 0.000 | 0.001 | |
createMZML | 0.003 | 0.002 | 0.004 | |
createSqMass | 0.002 | 0.001 | 0.003 | |
dialignrLoess | 0.000 | 0.001 | 0.001 | |
doAffineAlignmentCpp | 0.001 | 0.001 | 0.002 | |
doAlignmentCpp | 0.002 | 0.001 | 0.002 | |
extractXIC_group | 0.831 | 0.030 | 0.869 | |
extractXIC_group2 | 0.001 | 0.000 | 0.001 | |
fetchAnalytesInfo | 0.010 | 0.002 | 0.011 | |
fetchFeaturesFromRun | 0.007 | 0.001 | 0.008 | |
fetchPeptidesInfo | 0.007 | 0.001 | 0.009 | |
fetchPeptidesInfo2 | 0.008 | 0.001 | 0.009 | |
fetchPrecursorsInfo | 0.001 | 0.000 | 0.002 | |
fetchTransitionsFromRun | 0.007 | 0.001 | 0.009 | |
filenamesFromMZML | 0.001 | 0.001 | 0.002 | |
filenamesFromOSW | 0.002 | 0.001 | 0.001 | |
getAlignObj | 0.019 | 0.003 | 0.022 | |
getAlignObjs | 1.068 | 0.027 | 1.105 | |
getAlignedFigs | 0.125 | 0.008 | 0.134 | |
getAlignedIndices | 0.008 | 0.002 | 0.010 | |
getAlignedTimes | 0.018 | 0.003 | 0.021 | |
getAlignedTimesCpp | 0.005 | 0.002 | 0.006 | |
getAlignedTimesFast | 0.014 | 0.004 | 0.017 | |
getBaseGapPenaltyCpp | 0.000 | 0.000 | 0.001 | |
getChildFeature | 0.047 | 0.008 | 0.056 | |
getChildXICpp | 0.006 | 0.002 | 0.007 | |
getChildXICs | 0.613 | 0.022 | 0.639 | |
getChromSimMatCpp | 0.002 | 0.002 | 0.004 | |
getChromatogramIndices | 0.113 | 0.004 | 0.117 | |
getFeatures | 0.042 | 0.005 | 0.048 | |
getGlobalAlignMaskCpp | 0.001 | 0.001 | 0.001 | |
getGlobalAlignment | 0.020 | 0.001 | 0.022 | |
getGlobalFits | 0.368 | 0.008 | 0.380 | |
getLOESSfit | 0.002 | 0.001 | 0.003 | |
getLinearfit | 0.002 | 0.000 | 0.004 | |
getMST | 0 | 0 | 0 | |
getMZMLpointers | 0.017 | 0.002 | 0.019 | |
getMappedRT | 0.011 | 0.002 | 0.013 | |
getMultipeptide | 1.760 | 0.043 | 1.810 | |
getNativeIDs | 0.020 | 0.002 | 0.022 | |
getNodeIDs | 0 | 0 | 0 | |
getNodeRun | 0.357 | 0.014 | 0.371 | |
getOswAnalytes | 0.006 | 0.002 | 0.008 | |
getOswFiles | 0.008 | 0.002 | 0.010 | |
getPeptideScores | 0.039 | 0.003 | 0.042 | |
getPrecursorByID | 0.016 | 0.002 | 0.018 | |
getPrecursorIndices | 0.051 | 0.005 | 0.056 | |
getPrecursors | 0.027 | 0.003 | 0.030 | |
getRSE | 0.002 | 0.001 | 0.003 | |
getRTdf | 0.006 | 0.001 | 0.006 | |
getRefExpFeatureMap | 0.270 | 0.010 | 0.281 | |
getRefRun | 0.323 | 0.012 | 0.336 | |
getRunNames | 0.010 | 0.001 | 0.012 | |
getSeqSimMatCpp | 0.001 | 0.001 | 0.001 | |
getTransitions | 0.151 | 0.009 | 0.162 | |
getTree | 0.024 | 0.002 | 0.027 | |
getXICs | 0.090 | 0.006 | 0.096 | |
getXICs4AlignObj | 0.067 | 0.004 | 0.071 | |
get_ropenms | 0 | 0 | 0 | |
imputeChromatogram | 0.013 | 0.001 | 0.014 | |
ipfReassignFDR | 0 | 0 | 0 | |
mapIdxToTime | 0.000 | 0.000 | 0.001 | |
mappedRTfromAlignObj | 0.002 | 0.001 | 0.003 | |
mergeXIC | 0.002 | 0.001 | 0.004 | |
mstAlignRuns | 1.590 | 0.051 | 1.645 | |
mstScript1 | 0.556 | 0.323 | 0.628 | |
mstScript2 | 2.144 | 0.495 | 2.402 | |
nrDesc | 0.001 | 0.000 | 0.000 | |
otherChildXICpp | 0.005 | 0.002 | 0.007 | |
paramsDIAlignR | 0 | 0 | 0 | |
perBatch | 0.001 | 0.001 | 0.002 | |
pickNearestFeature | 0.003 | 0.001 | 0.004 | |
plotAlignedAnalytes | 0.525 | 0.018 | 0.545 | |
plotAlignmentPath | 0.361 | 0.033 | 0.396 | |
plotAnalyteXICs | 0.435 | 0.017 | 0.456 | |
plotXICgroup | 0.349 | 0.011 | 0.361 | |
populateReferenceExperimentFeatureAlignmentMap | 0.013 | 0.002 | 0.015 | |
progAlignRuns | 0.001 | 0.000 | 0.001 | |
readMzMLHeader | 0.001 | 0.000 | 0.001 | |
readSqMassHeader | 0.002 | 0.000 | 0.002 | |
recalculateIntensity | 0.260 | 0.010 | 0.272 | |
reduceXICs | 0.084 | 0.006 | 0.092 | |
script1 | 0.957 | 1.106 | 1.282 | |
script2 | 2.555 | 1.212 | 2.981 | |
setAlignmentRank | 0.009 | 0.002 | 0.012 | |
sgolayCpp | 0.002 | 0.001 | 0.002 | |
sgolayFill | 0.001 | 0.000 | 0.000 | |
smoothSingleXIC | 0.001 | 0.000 | 0.003 | |
smoothXICs | 0.006 | 0.001 | 0.008 | |
splineFill | 0.000 | 0.000 | 0.001 | |
splineFillCpp | 0.004 | 0.000 | 0.004 | |
traverseDown | 1.331 | 0.036 | 1.372 | |
traverseMST | 0 | 0 | 0 | |
traverseUp | 1.357 | 0.025 | 1.390 | |
trfrParentFeature | 0.044 | 0.006 | 0.049 | |
trimXICs | 0.002 | 0.001 | 0.003 | |
uncompressVec | 0.005 | 0.001 | 0.006 | |
updateFileInfo | 0.009 | 0.001 | 0.010 | |
writeOutFeatureAlignmentMap | 0.003 | 0.001 | 0.003 | |
writeTables | 0.002 | 0.000 | 0.003 | |