Back to Multiple platform build/check report for BioC 3.21: simplified long |
|
This page was generated on 2025-02-15 11:39 -0500 (Sat, 15 Feb 2025).
Hostname | OS | Arch (*) | R version | Installed pkgs |
---|---|---|---|---|
nebbiolo1 | Linux (Ubuntu 24.04.1 LTS) | x86_64 | R Under development (unstable) (2025-01-20 r87609) -- "Unsuffered Consequences" | 4720 |
palomino7 | Windows Server 2022 Datacenter | x64 | R Under development (unstable) (2025-01-21 r87610 ucrt) -- "Unsuffered Consequences" | 4482 |
lconway | macOS 12.7.1 Monterey | x86_64 | R Under development (unstable) (2025-01-22 r87618) -- "Unsuffered Consequences" | 4493 |
kjohnson3 | macOS 13.7.1 Ventura | arm64 | R Under development (unstable) (2025-01-20 r87609) -- "Unsuffered Consequences" | 4446 |
Click on any hostname to see more info about the system (e.g. compilers) (*) as reported by 'uname -p', except on Windows and Mac OS X |
Package 515/2295 | Hostname | OS / Arch | INSTALL | BUILD | CHECK | BUILD BIN | ||||||||
DECIPHER 3.3.2 (landing page) Erik Wright
| nebbiolo1 | Linux (Ubuntu 24.04.1 LTS) / x86_64 | OK | OK | OK | ![]() | ||||||||
palomino7 | Windows Server 2022 Datacenter / x64 | OK | OK | OK | OK | ![]() | ||||||||
lconway | macOS 12.7.1 Monterey / x86_64 | OK | OK | OK | OK | ![]() | ||||||||
kjohnson3 | macOS 13.7.1 Ventura / arm64 | OK | OK | OK | OK | ![]() | ||||||||
To the developers/maintainers of the DECIPHER package: - Allow up to 24 hours (and sometimes 48 hours) for your latest push to git@git.bioconductor.org:packages/DECIPHER.git to reflect on this report. See Troubleshooting Build Report for more information. - Use the following Renviron settings to reproduce errors and warnings. - If 'R CMD check' started to fail recently on the Linux builder(s) over a missing dependency, add the missing dependency to 'Suggests:' in your DESCRIPTION file. See Renviron.bioc for more information. |
Package: DECIPHER |
Version: 3.3.2 |
Command: /home/biocbuild/bbs-3.21-bioc/R/bin/R CMD check --install=check:DECIPHER.install-out.txt --library=/home/biocbuild/bbs-3.21-bioc/R/site-library --timings DECIPHER_3.3.2.tar.gz |
StartedAt: 2025-02-14 21:16:47 -0500 (Fri, 14 Feb 2025) |
EndedAt: 2025-02-14 21:49:06 -0500 (Fri, 14 Feb 2025) |
EllapsedTime: 1939.4 seconds |
RetCode: 0 |
Status: OK |
CheckDir: DECIPHER.Rcheck |
Warnings: 0 |
############################################################################## ############################################################################## ### ### Running command: ### ### /home/biocbuild/bbs-3.21-bioc/R/bin/R CMD check --install=check:DECIPHER.install-out.txt --library=/home/biocbuild/bbs-3.21-bioc/R/site-library --timings DECIPHER_3.3.2.tar.gz ### ############################################################################## ############################################################################## * using log directory ‘/home/biocbuild/bbs-3.21-bioc/meat/DECIPHER.Rcheck’ * using R Under development (unstable) (2025-01-20 r87609) * using platform: x86_64-pc-linux-gnu * R was compiled by gcc (Ubuntu 13.3.0-6ubuntu2~24.04) 13.3.0 GNU Fortran (Ubuntu 13.3.0-6ubuntu2~24.04) 13.3.0 * running under: Ubuntu 24.04.2 LTS * using session charset: UTF-8 * checking for file ‘DECIPHER/DESCRIPTION’ ... OK * checking extension type ... Package * this is package ‘DECIPHER’ version ‘3.3.2’ * checking package namespace information ... OK * checking package dependencies ... OK * checking if this is a source package ... OK * checking if there is a namespace ... OK * checking for hidden files and directories ... OK * checking for portable file names ... OK * checking for sufficient/correct file permissions ... OK * checking whether package ‘DECIPHER’ can be installed ... OK * used C compiler: ‘gcc (Ubuntu 13.3.0-6ubuntu2~24.04) 13.3.0’ * checking installed package size ... INFO installed size is 12.0Mb sub-directories of 1Mb or more: R 1.4Mb data 7.6Mb extdata 1.5Mb libs 1.0Mb * checking package directory ... OK * checking ‘build’ directory ... OK * checking DESCRIPTION meta-information ... OK * checking top-level files ... OK * checking for left-over files ... OK * checking index information ... OK * checking package subdirectories ... OK * checking code files for non-ASCII characters ... OK * checking R files for syntax errors ... OK * checking whether the package can be loaded ... OK * checking whether the package can be loaded with stated dependencies ... OK * checking whether the package can be unloaded cleanly ... OK * checking whether the namespace can be loaded with stated dependencies ... OK * checking whether the namespace can be unloaded cleanly ... OK * checking loading without being on the library search path ... OK * checking dependencies in R code ... OK * checking S3 generic/method consistency ... OK * checking replacement functions ... OK * checking foreign function calls ... OK * checking R code for possible problems ... NOTE AlignSeqs: no visible binding for global variable ‘deltaGrulesRNA’ DesignSignatures: no visible binding for global variable ‘deltaHrules’ FindGenes: no visible binding for global variable ‘deltaHrulesRNA’ FindNonCoding: no visible binding for global variable ‘deltaHrulesRNA’ LearnNonCoding: no visible binding for global variable ‘deltaHrulesRNA’ PredictDBN: no visible binding for global variable ‘deltaGrulesRNA’ Treeline: multiple local function definitions for ‘.NNI’ with different formal arguments Treeline: multiple local function definitions for ‘.minimize’ with different formal arguments Undefined global functions or variables: deltaGrulesRNA deltaHrules deltaHrulesRNA * checking Rd files ... OK * checking Rd metadata ... OK * checking Rd cross-references ... OK * checking for missing documentation entries ... OK * checking for code/documentation mismatches ... OK * checking Rd \usage sections ... OK * checking Rd contents ... OK * checking for unstated dependencies in examples ... OK * checking contents of ‘data’ directory ... OK * checking data for non-ASCII characters ... OK * checking data for ASCII and uncompressed saves ... OK * checking line endings in C/C++/Fortran sources/headers ... OK * checking line endings in Makefiles ... OK * checking compilation flags in Makevars ... OK * checking for GNU extensions in Makefiles ... OK * checking for portable use of $(BLAS_LIBS) and $(LAPACK_LIBS) ... OK * checking use of PKG_*FLAGS in Makefiles ... OK * checking compiled code ... NOTE Note: information on .o files is not available * checking files in ‘vignettes’ ... OK * checking examples ... OK Examples with CPU (user + system) or elapsed time > 5s user system elapsed AlignSeqs 173.579 0.951 174.545 LearnNonCoding 122.425 4.647 129.047 Treeline 58.568 0.310 58.882 FindNonCoding 56.684 1.522 58.214 Genes-class 44.601 0.424 45.029 ExtractGenes 43.348 0.301 43.667 FindGenes 42.170 0.161 42.333 WriteGenes 39.980 0.432 40.414 BrowseSeqs 23.384 0.102 23.491 DistanceMatrix 22.953 0.151 23.105 InferRecombination 21.298 0.052 21.352 CorrectFrameshifts 16.195 0.053 16.252 StaggerAlignment 11.693 0.092 11.785 AlignTranslation 11.071 0.079 11.151 DetectRepeats 10.763 0.036 10.800 Taxa-class 10.037 0.093 10.131 IdTaxa 9.616 0.024 9.641 LearnTaxa 6.415 0.512 6.929 Clusterize 5.820 0.031 5.852 * checking for unstated dependencies in vignettes ... OK * checking package vignettes ... OK * checking re-building of vignette outputs ... OK * checking PDF version of manual ... OK * DONE Status: 2 NOTEs See ‘/home/biocbuild/bbs-3.21-bioc/meat/DECIPHER.Rcheck/00check.log’ for details.
DECIPHER.Rcheck/00install.out
############################################################################## ############################################################################## ### ### Running command: ### ### /home/biocbuild/bbs-3.21-bioc/R/bin/R CMD INSTALL DECIPHER ### ############################################################################## ############################################################################## * installing to library ‘/home/biocbuild/bbs-3.21-bioc/R/site-library’ * installing *source* package ‘DECIPHER’ ... ** this is package ‘DECIPHER’ version ‘3.3.2’ ** using staged installation ** libs using C compiler: ‘gcc (Ubuntu 13.3.0-6ubuntu2~24.04) 13.3.0’ gcc -I"/home/biocbuild/bbs-3.21-bioc/R/include" -DNDEBUG -I'/home/biocbuild/bbs-3.21-bioc/R/site-library/Biostrings/include' -I'/home/biocbuild/bbs-3.21-bioc/R/site-library/S4Vectors/include' -I'/home/biocbuild/bbs-3.21-bioc/R/site-library/IRanges/include' -I'/home/biocbuild/bbs-3.21-bioc/R/site-library/XVector/include' -I/usr/local/include -fopenmp -fpic -g -O2 -c AlignProfiles.c -o AlignProfiles.o gcc -I"/home/biocbuild/bbs-3.21-bioc/R/include" -DNDEBUG -I'/home/biocbuild/bbs-3.21-bioc/R/site-library/Biostrings/include' -I'/home/biocbuild/bbs-3.21-bioc/R/site-library/S4Vectors/include' -I'/home/biocbuild/bbs-3.21-bioc/R/site-library/IRanges/include' -I'/home/biocbuild/bbs-3.21-bioc/R/site-library/XVector/include' -I/usr/local/include -fopenmp -fpic -g -O2 -c AssignIndels.c -o AssignIndels.o gcc -I"/home/biocbuild/bbs-3.21-bioc/R/include" -DNDEBUG -I'/home/biocbuild/bbs-3.21-bioc/R/site-library/Biostrings/include' -I'/home/biocbuild/bbs-3.21-bioc/R/site-library/S4Vectors/include' -I'/home/biocbuild/bbs-3.21-bioc/R/site-library/IRanges/include' -I'/home/biocbuild/bbs-3.21-bioc/R/site-library/XVector/include' -I/usr/local/include -fopenmp -fpic -g -O2 -c Biostrings_stubs.c -o Biostrings_stubs.o gcc -I"/home/biocbuild/bbs-3.21-bioc/R/include" -DNDEBUG -I'/home/biocbuild/bbs-3.21-bioc/R/site-library/Biostrings/include' -I'/home/biocbuild/bbs-3.21-bioc/R/site-library/S4Vectors/include' -I'/home/biocbuild/bbs-3.21-bioc/R/site-library/IRanges/include' -I'/home/biocbuild/bbs-3.21-bioc/R/site-library/XVector/include' -I/usr/local/include -fopenmp -fpic -g -O2 -c CalculateDeltaG.c -o CalculateDeltaG.o gcc -I"/home/biocbuild/bbs-3.21-bioc/R/include" -DNDEBUG -I'/home/biocbuild/bbs-3.21-bioc/R/site-library/Biostrings/include' -I'/home/biocbuild/bbs-3.21-bioc/R/site-library/S4Vectors/include' -I'/home/biocbuild/bbs-3.21-bioc/R/site-library/IRanges/include' -I'/home/biocbuild/bbs-3.21-bioc/R/site-library/XVector/include' -I/usr/local/include -fopenmp -fpic -g -O2 -c CalculateFISH.c -o CalculateFISH.o gcc -I"/home/biocbuild/bbs-3.21-bioc/R/include" -DNDEBUG -I'/home/biocbuild/bbs-3.21-bioc/R/site-library/Biostrings/include' -I'/home/biocbuild/bbs-3.21-bioc/R/site-library/S4Vectors/include' -I'/home/biocbuild/bbs-3.21-bioc/R/site-library/IRanges/include' -I'/home/biocbuild/bbs-3.21-bioc/R/site-library/XVector/include' -I/usr/local/include -fopenmp -fpic -g -O2 -c ChainSegments.c -o ChainSegments.o gcc -I"/home/biocbuild/bbs-3.21-bioc/R/include" -DNDEBUG -I'/home/biocbuild/bbs-3.21-bioc/R/site-library/Biostrings/include' -I'/home/biocbuild/bbs-3.21-bioc/R/site-library/S4Vectors/include' -I'/home/biocbuild/bbs-3.21-bioc/R/site-library/IRanges/include' -I'/home/biocbuild/bbs-3.21-bioc/R/site-library/XVector/include' -I/usr/local/include -fopenmp -fpic -g -O2 -c Cluster.c -o Cluster.o gcc -I"/home/biocbuild/bbs-3.21-bioc/R/include" -DNDEBUG -I'/home/biocbuild/bbs-3.21-bioc/R/site-library/Biostrings/include' -I'/home/biocbuild/bbs-3.21-bioc/R/site-library/S4Vectors/include' -I'/home/biocbuild/bbs-3.21-bioc/R/site-library/IRanges/include' -I'/home/biocbuild/bbs-3.21-bioc/R/site-library/XVector/include' -I/usr/local/include -fopenmp -fpic -g -O2 -c ClusterME.c -o ClusterME.o gcc -I"/home/biocbuild/bbs-3.21-bioc/R/include" -DNDEBUG -I'/home/biocbuild/bbs-3.21-bioc/R/site-library/Biostrings/include' -I'/home/biocbuild/bbs-3.21-bioc/R/site-library/S4Vectors/include' -I'/home/biocbuild/bbs-3.21-bioc/R/site-library/IRanges/include' -I'/home/biocbuild/bbs-3.21-bioc/R/site-library/XVector/include' -I/usr/local/include -fopenmp -fpic -g -O2 -c ClusterML.c -o ClusterML.o gcc -I"/home/biocbuild/bbs-3.21-bioc/R/include" -DNDEBUG -I'/home/biocbuild/bbs-3.21-bioc/R/site-library/Biostrings/include' -I'/home/biocbuild/bbs-3.21-bioc/R/site-library/S4Vectors/include' -I'/home/biocbuild/bbs-3.21-bioc/R/site-library/IRanges/include' -I'/home/biocbuild/bbs-3.21-bioc/R/site-library/XVector/include' -I/usr/local/include -fopenmp -fpic -g -O2 -c ClusterMP.c -o ClusterMP.o gcc -I"/home/biocbuild/bbs-3.21-bioc/R/include" -DNDEBUG -I'/home/biocbuild/bbs-3.21-bioc/R/site-library/Biostrings/include' -I'/home/biocbuild/bbs-3.21-bioc/R/site-library/S4Vectors/include' -I'/home/biocbuild/bbs-3.21-bioc/R/site-library/IRanges/include' -I'/home/biocbuild/bbs-3.21-bioc/R/site-library/XVector/include' -I/usr/local/include -fopenmp -fpic -g -O2 -c Compositions.c -o Compositions.o gcc -I"/home/biocbuild/bbs-3.21-bioc/R/include" -DNDEBUG -I'/home/biocbuild/bbs-3.21-bioc/R/site-library/Biostrings/include' -I'/home/biocbuild/bbs-3.21-bioc/R/site-library/S4Vectors/include' -I'/home/biocbuild/bbs-3.21-bioc/R/site-library/IRanges/include' -I'/home/biocbuild/bbs-3.21-bioc/R/site-library/XVector/include' -I/usr/local/include -fopenmp -fpic -g -O2 -c Compression.c -o Compression.o gcc -I"/home/biocbuild/bbs-3.21-bioc/R/include" -DNDEBUG -I'/home/biocbuild/bbs-3.21-bioc/R/site-library/Biostrings/include' -I'/home/biocbuild/bbs-3.21-bioc/R/site-library/S4Vectors/include' -I'/home/biocbuild/bbs-3.21-bioc/R/site-library/IRanges/include' -I'/home/biocbuild/bbs-3.21-bioc/R/site-library/XVector/include' -I/usr/local/include -fopenmp -fpic -g -O2 -c ConsensusSequence.c -o ConsensusSequence.o gcc -I"/home/biocbuild/bbs-3.21-bioc/R/include" -DNDEBUG -I'/home/biocbuild/bbs-3.21-bioc/R/site-library/Biostrings/include' -I'/home/biocbuild/bbs-3.21-bioc/R/site-library/S4Vectors/include' -I'/home/biocbuild/bbs-3.21-bioc/R/site-library/IRanges/include' -I'/home/biocbuild/bbs-3.21-bioc/R/site-library/XVector/include' -I/usr/local/include -fopenmp -fpic -g -O2 -c DesignProbes.c -o DesignProbes.o gcc -I"/home/biocbuild/bbs-3.21-bioc/R/include" -DNDEBUG -I'/home/biocbuild/bbs-3.21-bioc/R/site-library/Biostrings/include' -I'/home/biocbuild/bbs-3.21-bioc/R/site-library/S4Vectors/include' -I'/home/biocbuild/bbs-3.21-bioc/R/site-library/IRanges/include' -I'/home/biocbuild/bbs-3.21-bioc/R/site-library/XVector/include' -I/usr/local/include -fopenmp -fpic -g -O2 -c Diff.c -o Diff.o gcc -I"/home/biocbuild/bbs-3.21-bioc/R/include" -DNDEBUG -I'/home/biocbuild/bbs-3.21-bioc/R/site-library/Biostrings/include' -I'/home/biocbuild/bbs-3.21-bioc/R/site-library/S4Vectors/include' -I'/home/biocbuild/bbs-3.21-bioc/R/site-library/IRanges/include' -I'/home/biocbuild/bbs-3.21-bioc/R/site-library/XVector/include' -I/usr/local/include -fopenmp -fpic -g -O2 -c DistanceMatrix.c -o DistanceMatrix.o gcc -I"/home/biocbuild/bbs-3.21-bioc/R/include" -DNDEBUG -I'/home/biocbuild/bbs-3.21-bioc/R/site-library/Biostrings/include' -I'/home/biocbuild/bbs-3.21-bioc/R/site-library/S4Vectors/include' -I'/home/biocbuild/bbs-3.21-bioc/R/site-library/IRanges/include' -I'/home/biocbuild/bbs-3.21-bioc/R/site-library/XVector/include' -I/usr/local/include -fopenmp -fpic -g -O2 -c EnumerateSequence.c -o EnumerateSequence.o gcc -I"/home/biocbuild/bbs-3.21-bioc/R/include" -DNDEBUG -I'/home/biocbuild/bbs-3.21-bioc/R/site-library/Biostrings/include' -I'/home/biocbuild/bbs-3.21-bioc/R/site-library/S4Vectors/include' -I'/home/biocbuild/bbs-3.21-bioc/R/site-library/IRanges/include' -I'/home/biocbuild/bbs-3.21-bioc/R/site-library/XVector/include' -I/usr/local/include -fopenmp -fpic -g -O2 -c ExpandAmbiguities.c -o ExpandAmbiguities.o gcc -I"/home/biocbuild/bbs-3.21-bioc/R/include" -DNDEBUG -I'/home/biocbuild/bbs-3.21-bioc/R/site-library/Biostrings/include' -I'/home/biocbuild/bbs-3.21-bioc/R/site-library/S4Vectors/include' -I'/home/biocbuild/bbs-3.21-bioc/R/site-library/IRanges/include' -I'/home/biocbuild/bbs-3.21-bioc/R/site-library/XVector/include' -I/usr/local/include -fopenmp -fpic -g -O2 -c FindFrameshifts.c -o FindFrameshifts.o gcc -I"/home/biocbuild/bbs-3.21-bioc/R/include" -DNDEBUG -I'/home/biocbuild/bbs-3.21-bioc/R/site-library/Biostrings/include' -I'/home/biocbuild/bbs-3.21-bioc/R/site-library/S4Vectors/include' -I'/home/biocbuild/bbs-3.21-bioc/R/site-library/IRanges/include' -I'/home/biocbuild/bbs-3.21-bioc/R/site-library/XVector/include' -I/usr/local/include -fopenmp -fpic -g -O2 -c GeneFinding.c -o GeneFinding.o gcc -I"/home/biocbuild/bbs-3.21-bioc/R/include" -DNDEBUG -I'/home/biocbuild/bbs-3.21-bioc/R/site-library/Biostrings/include' -I'/home/biocbuild/bbs-3.21-bioc/R/site-library/S4Vectors/include' -I'/home/biocbuild/bbs-3.21-bioc/R/site-library/IRanges/include' -I'/home/biocbuild/bbs-3.21-bioc/R/site-library/XVector/include' -I/usr/local/include -fopenmp -fpic -g -O2 -c GetPools.c -o GetPools.o gcc -I"/home/biocbuild/bbs-3.21-bioc/R/include" -DNDEBUG -I'/home/biocbuild/bbs-3.21-bioc/R/site-library/Biostrings/include' -I'/home/biocbuild/bbs-3.21-bioc/R/site-library/S4Vectors/include' -I'/home/biocbuild/bbs-3.21-bioc/R/site-library/IRanges/include' -I'/home/biocbuild/bbs-3.21-bioc/R/site-library/XVector/include' -I/usr/local/include -fopenmp -fpic -g -O2 -c Import.c -o Import.o gcc -I"/home/biocbuild/bbs-3.21-bioc/R/include" -DNDEBUG -I'/home/biocbuild/bbs-3.21-bioc/R/site-library/Biostrings/include' -I'/home/biocbuild/bbs-3.21-bioc/R/site-library/S4Vectors/include' -I'/home/biocbuild/bbs-3.21-bioc/R/site-library/IRanges/include' -I'/home/biocbuild/bbs-3.21-bioc/R/site-library/XVector/include' -I/usr/local/include -fopenmp -fpic -g -O2 -c InformationContent.c -o InformationContent.o gcc -I"/home/biocbuild/bbs-3.21-bioc/R/include" -DNDEBUG -I'/home/biocbuild/bbs-3.21-bioc/R/site-library/Biostrings/include' -I'/home/biocbuild/bbs-3.21-bioc/R/site-library/S4Vectors/include' -I'/home/biocbuild/bbs-3.21-bioc/R/site-library/IRanges/include' -I'/home/biocbuild/bbs-3.21-bioc/R/site-library/XVector/include' -I/usr/local/include -fopenmp -fpic -g -O2 -c IntDist.c -o IntDist.o gcc -I"/home/biocbuild/bbs-3.21-bioc/R/include" -DNDEBUG -I'/home/biocbuild/bbs-3.21-bioc/R/site-library/Biostrings/include' -I'/home/biocbuild/bbs-3.21-bioc/R/site-library/S4Vectors/include' -I'/home/biocbuild/bbs-3.21-bioc/R/site-library/IRanges/include' -I'/home/biocbuild/bbs-3.21-bioc/R/site-library/XVector/include' -I/usr/local/include -fopenmp -fpic -g -O2 -c ManipulateXStringSet.c -o ManipulateXStringSet.o gcc -I"/home/biocbuild/bbs-3.21-bioc/R/include" -DNDEBUG -I'/home/biocbuild/bbs-3.21-bioc/R/site-library/Biostrings/include' -I'/home/biocbuild/bbs-3.21-bioc/R/site-library/S4Vectors/include' -I'/home/biocbuild/bbs-3.21-bioc/R/site-library/IRanges/include' -I'/home/biocbuild/bbs-3.21-bioc/R/site-library/XVector/include' -I/usr/local/include -fopenmp -fpic -g -O2 -c MeltPolymer.c -o MeltPolymer.o gcc -I"/home/biocbuild/bbs-3.21-bioc/R/include" -DNDEBUG -I'/home/biocbuild/bbs-3.21-bioc/R/site-library/Biostrings/include' -I'/home/biocbuild/bbs-3.21-bioc/R/site-library/S4Vectors/include' -I'/home/biocbuild/bbs-3.21-bioc/R/site-library/IRanges/include' -I'/home/biocbuild/bbs-3.21-bioc/R/site-library/XVector/include' -I/usr/local/include -fopenmp -fpic -g -O2 -c MovingAverage.c -o MovingAverage.o gcc -I"/home/biocbuild/bbs-3.21-bioc/R/include" -DNDEBUG -I'/home/biocbuild/bbs-3.21-bioc/R/site-library/Biostrings/include' -I'/home/biocbuild/bbs-3.21-bioc/R/site-library/S4Vectors/include' -I'/home/biocbuild/bbs-3.21-bioc/R/site-library/IRanges/include' -I'/home/biocbuild/bbs-3.21-bioc/R/site-library/XVector/include' -I/usr/local/include -fopenmp -fpic -g -O2 -c NNLS.c -o NNLS.o gcc -I"/home/biocbuild/bbs-3.21-bioc/R/include" -DNDEBUG -I'/home/biocbuild/bbs-3.21-bioc/R/site-library/Biostrings/include' -I'/home/biocbuild/bbs-3.21-bioc/R/site-library/S4Vectors/include' -I'/home/biocbuild/bbs-3.21-bioc/R/site-library/IRanges/include' -I'/home/biocbuild/bbs-3.21-bioc/R/site-library/XVector/include' -I/usr/local/include -fopenmp -fpic -g -O2 -c Order.c -o Order.o gcc -I"/home/biocbuild/bbs-3.21-bioc/R/include" -DNDEBUG -I'/home/biocbuild/bbs-3.21-bioc/R/site-library/Biostrings/include' -I'/home/biocbuild/bbs-3.21-bioc/R/site-library/S4Vectors/include' -I'/home/biocbuild/bbs-3.21-bioc/R/site-library/IRanges/include' -I'/home/biocbuild/bbs-3.21-bioc/R/site-library/XVector/include' -I/usr/local/include -fopenmp -fpic -g -O2 -c PairwiseAlignment.c -o PairwiseAlignment.o gcc -I"/home/biocbuild/bbs-3.21-bioc/R/include" -DNDEBUG -I'/home/biocbuild/bbs-3.21-bioc/R/site-library/Biostrings/include' -I'/home/biocbuild/bbs-3.21-bioc/R/site-library/S4Vectors/include' -I'/home/biocbuild/bbs-3.21-bioc/R/site-library/IRanges/include' -I'/home/biocbuild/bbs-3.21-bioc/R/site-library/XVector/include' -I/usr/local/include -fopenmp -fpic -g -O2 -c PopulationGenetics.c -o PopulationGenetics.o gcc -I"/home/biocbuild/bbs-3.21-bioc/R/include" -DNDEBUG -I'/home/biocbuild/bbs-3.21-bioc/R/site-library/Biostrings/include' -I'/home/biocbuild/bbs-3.21-bioc/R/site-library/S4Vectors/include' -I'/home/biocbuild/bbs-3.21-bioc/R/site-library/IRanges/include' -I'/home/biocbuild/bbs-3.21-bioc/R/site-library/XVector/include' -I/usr/local/include -fopenmp -fpic -g -O2 -c PredictDBN.c -o PredictDBN.o gcc -I"/home/biocbuild/bbs-3.21-bioc/R/include" -DNDEBUG -I'/home/biocbuild/bbs-3.21-bioc/R/site-library/Biostrings/include' -I'/home/biocbuild/bbs-3.21-bioc/R/site-library/S4Vectors/include' -I'/home/biocbuild/bbs-3.21-bioc/R/site-library/IRanges/include' -I'/home/biocbuild/bbs-3.21-bioc/R/site-library/XVector/include' -I/usr/local/include -fopenmp -fpic -g -O2 -c PredictHEC.c -o PredictHEC.o gcc -I"/home/biocbuild/bbs-3.21-bioc/R/include" -DNDEBUG -I'/home/biocbuild/bbs-3.21-bioc/R/site-library/Biostrings/include' -I'/home/biocbuild/bbs-3.21-bioc/R/site-library/S4Vectors/include' -I'/home/biocbuild/bbs-3.21-bioc/R/site-library/IRanges/include' -I'/home/biocbuild/bbs-3.21-bioc/R/site-library/XVector/include' -I/usr/local/include -fopenmp -fpic -g -O2 -c R_init_decipher.c -o R_init_decipher.o gcc -I"/home/biocbuild/bbs-3.21-bioc/R/include" -DNDEBUG -I'/home/biocbuild/bbs-3.21-bioc/R/site-library/Biostrings/include' -I'/home/biocbuild/bbs-3.21-bioc/R/site-library/S4Vectors/include' -I'/home/biocbuild/bbs-3.21-bioc/R/site-library/IRanges/include' -I'/home/biocbuild/bbs-3.21-bioc/R/site-library/XVector/include' -I/usr/local/include -fopenmp -fpic -g -O2 -c S4Vectors_stubs.c -o S4Vectors_stubs.o gcc -I"/home/biocbuild/bbs-3.21-bioc/R/include" -DNDEBUG -I'/home/biocbuild/bbs-3.21-bioc/R/site-library/Biostrings/include' -I'/home/biocbuild/bbs-3.21-bioc/R/site-library/S4Vectors/include' -I'/home/biocbuild/bbs-3.21-bioc/R/site-library/IRanges/include' -I'/home/biocbuild/bbs-3.21-bioc/R/site-library/XVector/include' -I/usr/local/include -fopenmp -fpic -g -O2 -c Search.c -o Search.o gcc -I"/home/biocbuild/bbs-3.21-bioc/R/include" -DNDEBUG -I'/home/biocbuild/bbs-3.21-bioc/R/site-library/Biostrings/include' -I'/home/biocbuild/bbs-3.21-bioc/R/site-library/S4Vectors/include' -I'/home/biocbuild/bbs-3.21-bioc/R/site-library/IRanges/include' -I'/home/biocbuild/bbs-3.21-bioc/R/site-library/XVector/include' -I/usr/local/include -fopenmp -fpic -g -O2 -c TerminalMismatch.c -o TerminalMismatch.o gcc -I"/home/biocbuild/bbs-3.21-bioc/R/include" -DNDEBUG -I'/home/biocbuild/bbs-3.21-bioc/R/site-library/Biostrings/include' -I'/home/biocbuild/bbs-3.21-bioc/R/site-library/S4Vectors/include' -I'/home/biocbuild/bbs-3.21-bioc/R/site-library/IRanges/include' -I'/home/biocbuild/bbs-3.21-bioc/R/site-library/XVector/include' -I/usr/local/include -fopenmp -fpic -g -O2 -c Translate.c -o Translate.o gcc -I"/home/biocbuild/bbs-3.21-bioc/R/include" -DNDEBUG -I'/home/biocbuild/bbs-3.21-bioc/R/site-library/Biostrings/include' -I'/home/biocbuild/bbs-3.21-bioc/R/site-library/S4Vectors/include' -I'/home/biocbuild/bbs-3.21-bioc/R/site-library/IRanges/include' -I'/home/biocbuild/bbs-3.21-bioc/R/site-library/XVector/include' -I/usr/local/include -fopenmp -fpic -g -O2 -c Utils.c -o Utils.o gcc -I"/home/biocbuild/bbs-3.21-bioc/R/include" -DNDEBUG -I'/home/biocbuild/bbs-3.21-bioc/R/site-library/Biostrings/include' -I'/home/biocbuild/bbs-3.21-bioc/R/site-library/S4Vectors/include' -I'/home/biocbuild/bbs-3.21-bioc/R/site-library/IRanges/include' -I'/home/biocbuild/bbs-3.21-bioc/R/site-library/XVector/include' -I/usr/local/include -fopenmp -fpic -g -O2 -c VectorSums.c -o VectorSums.o gcc -I"/home/biocbuild/bbs-3.21-bioc/R/include" -DNDEBUG -I'/home/biocbuild/bbs-3.21-bioc/R/site-library/Biostrings/include' -I'/home/biocbuild/bbs-3.21-bioc/R/site-library/S4Vectors/include' -I'/home/biocbuild/bbs-3.21-bioc/R/site-library/IRanges/include' -I'/home/biocbuild/bbs-3.21-bioc/R/site-library/XVector/include' -I/usr/local/include -fopenmp -fpic -g -O2 -c XVector_stubs.c -o XVector_stubs.o gcc -shared -L/home/biocbuild/bbs-3.21-bioc/R/lib -L/usr/local/lib -o DECIPHER.so AlignProfiles.o AssignIndels.o Biostrings_stubs.o CalculateDeltaG.o CalculateFISH.o ChainSegments.o Cluster.o ClusterME.o ClusterML.o ClusterMP.o Compositions.o Compression.o ConsensusSequence.o DesignProbes.o Diff.o DistanceMatrix.o EnumerateSequence.o ExpandAmbiguities.o FindFrameshifts.o GeneFinding.o GetPools.o Import.o InformationContent.o IntDist.o ManipulateXStringSet.o MeltPolymer.o MovingAverage.o NNLS.o Order.o PairwiseAlignment.o PopulationGenetics.o PredictDBN.o PredictHEC.o R_init_decipher.o S4Vectors_stubs.o Search.o TerminalMismatch.o Translate.o Utils.o VectorSums.o XVector_stubs.o -fopenmp -L/home/biocbuild/bbs-3.21-bioc/R/lib -lR installing to /home/biocbuild/bbs-3.21-bioc/R/site-library/00LOCK-DECIPHER/00new/DECIPHER/libs ** R ** data ** inst ** byte-compile and prepare package for lazy loading ** help *** installing help indices ** building package indices ** installing vignettes ** testing if installed package can be loaded from temporary location ** checking absolute paths in shared objects and dynamic libraries ** testing if installed package can be loaded from final location ** testing if installed package keeps a record of temporary installation path * DONE (DECIPHER)
DECIPHER.Rcheck/DECIPHER-Ex.timings
name | user | system | elapsed | |
AA_REDUCED | 0.048 | 0.003 | 0.051 | |
Add2DB | 0.604 | 0.068 | 0.674 | |
AdjustAlignment | 0.184 | 0.007 | 0.191 | |
AlignDB | 1.167 | 0.046 | 1.213 | |
AlignPairs | 3.814 | 0.074 | 3.891 | |
AlignProfiles | 1.022 | 0.209 | 1.231 | |
AlignSeqs | 173.579 | 0.951 | 174.545 | |
AlignSynteny | 2.344 | 0.007 | 2.352 | |
AlignTranslation | 11.071 | 0.079 | 11.151 | |
AmplifyDNA | 0.002 | 0.001 | 0.003 | |
Array2Matrix | 4.562 | 0.029 | 4.592 | |
BLOSUM | 0.017 | 0.002 | 0.019 | |
BrowseDB | 0.034 | 0.001 | 0.036 | |
BrowseSeqs | 23.384 | 0.102 | 23.491 | |
CalculateEfficiencyArray | 0.015 | 0.004 | 0.019 | |
CalculateEfficiencyFISH | 0.004 | 0.000 | 0.004 | |
CalculateEfficiencyPCR | 0.004 | 0.000 | 0.004 | |
Clusterize | 5.820 | 0.031 | 5.852 | |
Codec | 1.163 | 0.003 | 1.166 | |
ConsensusSequence | 0.158 | 0.003 | 0.161 | |
Cophenetic | 2.635 | 0.005 | 2.641 | |
CorrectFrameshifts | 16.195 | 0.053 | 16.252 | |
CreateChimeras | 0.649 | 0.003 | 0.651 | |
DB2Seqs | 0.025 | 0.005 | 0.029 | |
DesignArray | 4.463 | 0.021 | 4.485 | |
DesignPrimers | 0.009 | 0.001 | 0.010 | |
DesignProbes | 0.007 | 0.000 | 0.007 | |
DesignSignatures | 0.009 | 0.000 | 0.009 | |
DetectRepeats | 10.763 | 0.036 | 10.800 | |
DigestDNA | 0.136 | 0.001 | 0.136 | |
Disambiguate | 0.043 | 0.000 | 0.044 | |
DistanceMatrix | 22.953 | 0.151 | 23.105 | |
ExtractGenes | 43.348 | 0.301 | 43.667 | |
FindChimeras | 0.067 | 0.002 | 0.069 | |
FindGenes | 42.170 | 0.161 | 42.333 | |
FindNonCoding | 56.684 | 1.522 | 58.214 | |
FindSynteny | 1.537 | 0.030 | 1.567 | |
FormGroups | 0.059 | 0.005 | 0.065 | |
Genes-class | 44.601 | 0.424 | 45.029 | |
HEC_MI | 0.258 | 0.005 | 0.263 | |
IdConsensus | 0.377 | 0.009 | 0.386 | |
IdLengths | 0.031 | 0.000 | 0.030 | |
IdTaxa | 9.616 | 0.024 | 9.641 | |
IdentifyByRank | 0.029 | 0.000 | 0.029 | |
IndexSeqs | 0.927 | 0.003 | 0.930 | |
InferRecombination | 21.298 | 0.052 | 21.352 | |
InvertedIndex-class | 0.521 | 0.004 | 0.524 | |
LearnNonCoding | 122.425 | 4.647 | 129.047 | |
LearnTaxa | 6.415 | 0.512 | 6.929 | |
MIQS | 0.042 | 0.002 | 0.045 | |
MMLSUM | 0.009 | 0.000 | 0.009 | |
MODELS | 0.000 | 0.001 | 0.001 | |
MapCharacters | 3.790 | 0.025 | 3.816 | |
MaskAlignment | 0.426 | 0.005 | 0.431 | |
MeltDNA | 0.063 | 0.004 | 0.067 | |
NNLS | 0.002 | 0.001 | 0.003 | |
NonCoding-class | 0.060 | 0.002 | 0.062 | |
NonCodingRNA | 0.113 | 0.004 | 0.116 | |
OrientNucleotides | 0.562 | 0.004 | 0.566 | |
PAM | 0.007 | 0.002 | 0.010 | |
PFASUM | 0.008 | 0.003 | 0.011 | |
PredictDBN | 0.006 | 0.002 | 0.009 | |
PredictHEC | 0.296 | 0.001 | 0.296 | |
RESTRICTION_ENZYMES | 0.001 | 0.003 | 0.005 | |
ReadDendrogram | 0.021 | 0.001 | 0.021 | |
RemoveGaps | 0.010 | 0.002 | 0.011 | |
ScoreAlignment | 4.918 | 0.030 | 4.948 | |
SearchDB | 0.049 | 0.001 | 0.049 | |
SearchIndex | 1.250 | 0.003 | 1.253 | |
Seqs2DB | 0.098 | 0.000 | 0.098 | |
StaggerAlignment | 11.693 | 0.092 | 11.785 | |
Synteny-class | 1.841 | 0.004 | 1.846 | |
Taxa-class | 10.037 | 0.093 | 10.131 | |
TerminalChar | 0.005 | 0.001 | 0.007 | |
TileSeqs | 3.556 | 0.008 | 3.565 | |
TrainingSet_16S | 1.860 | 0.005 | 1.866 | |
Treeline | 58.568 | 0.310 | 58.882 | |
TrimDNA | 0.109 | 0.005 | 0.114 | |
WriteDendrogram | 0.002 | 0.001 | 0.004 | |
WriteGenes | 39.980 | 0.432 | 40.414 | |
deltaGrules | 0.008 | 0.001 | 0.009 | |
deltaGrulesRNA | 0.022 | 0.000 | 0.022 | |
deltaHrules | 0.016 | 0.002 | 0.018 | |
deltaHrulesRNA | 0.017 | 0.001 | 0.018 | |
deltaSrules | 0.052 | 0.001 | 0.053 | |
deltaSrulesRNA | 0.016 | 0.000 | 0.016 | |