| Back to Multiple platform build/check report for BioC 3.21: simplified long |
|
This page was generated on 2025-04-22 13:16 -0400 (Tue, 22 Apr 2025).
| Hostname | OS | Arch (*) | R version | Installed pkgs |
|---|---|---|---|---|
| nebbiolo1 | Linux (Ubuntu 24.04.1 LTS) | x86_64 | 4.5.0 RC (2025-04-04 r88126) -- "How About a Twenty-Six" | 4831 |
| palomino7 | Windows Server 2022 Datacenter | x64 | 4.5.0 RC (2025-04-04 r88126 ucrt) -- "How About a Twenty-Six" | 4573 |
| lconway | macOS 12.7.1 Monterey | x86_64 | 4.5.0 RC (2025-04-04 r88126) -- "How About a Twenty-Six" | 4599 |
| kjohnson3 | macOS 13.7.1 Ventura | arm64 | 4.5.0 RC (2025-04-04 r88126) -- "How About a Twenty-Six" | 4553 |
| kunpeng2 | Linux (openEuler 24.03 LTS) | aarch64 | R Under development (unstable) (2025-02-19 r87757) -- "Unsuffered Consequences" | 4570 |
| Click on any hostname to see more info about the system (e.g. compilers) (*) as reported by 'uname -p', except on Windows and Mac OS X | ||||
| Package 515/2341 | Hostname | OS / Arch | INSTALL | BUILD | CHECK | BUILD BIN | ||||||||
| DAPAR 1.40.0 (landing page) Samuel Wieczorek
| nebbiolo1 | Linux (Ubuntu 24.04.1 LTS) / x86_64 | OK | OK | OK | |||||||||
| palomino7 | Windows Server 2022 Datacenter / x64 | OK | OK | OK | OK | |||||||||
| lconway | macOS 12.7.1 Monterey / x86_64 | OK | OK | OK | OK | |||||||||
| kjohnson3 | macOS 13.7.1 Ventura / arm64 | OK | OK | OK | OK | |||||||||
| kunpeng2 | Linux (openEuler 24.03 LTS) / aarch64 | OK | OK | OK | ||||||||||
|
To the developers/maintainers of the DAPAR package: - Allow up to 24 hours (and sometimes 48 hours) for your latest push to git@git.bioconductor.org:packages/DAPAR.git to reflect on this report. See Troubleshooting Build Report for more information. - Use the following Renviron settings to reproduce errors and warnings. - If 'R CMD check' started to fail recently on the Linux builder(s) over a missing dependency, add the missing dependency to 'Suggests:' in your DESCRIPTION file. See Renviron.bioc for more information. |
| Package: DAPAR |
| Version: 1.40.0 |
| Command: /Library/Frameworks/R.framework/Resources/bin/R CMD check --install=check:DAPAR.install-out.txt --library=/Library/Frameworks/R.framework/Resources/library --no-vignettes --timings DAPAR_1.40.0.tar.gz |
| StartedAt: 2025-04-21 20:07:57 -0400 (Mon, 21 Apr 2025) |
| EndedAt: 2025-04-21 20:18:18 -0400 (Mon, 21 Apr 2025) |
| EllapsedTime: 621.3 seconds |
| RetCode: 0 |
| Status: OK |
| CheckDir: DAPAR.Rcheck |
| Warnings: 0 |
##############################################################################
##############################################################################
###
### Running command:
###
### /Library/Frameworks/R.framework/Resources/bin/R CMD check --install=check:DAPAR.install-out.txt --library=/Library/Frameworks/R.framework/Resources/library --no-vignettes --timings DAPAR_1.40.0.tar.gz
###
##############################################################################
##############################################################################
* using log directory ‘/Users/biocbuild/bbs-3.21-bioc/meat/DAPAR.Rcheck’
* using R version 4.5.0 RC (2025-04-04 r88126)
* using platform: x86_64-apple-darwin20
* R was compiled by
Apple clang version 14.0.0 (clang-1400.0.29.202)
GNU Fortran (GCC) 14.2.0
* running under: macOS Monterey 12.7.6
* using session charset: UTF-8
* using option ‘--no-vignettes’
* checking for file ‘DAPAR/DESCRIPTION’ ... OK
* checking extension type ... Package
* this is package ‘DAPAR’ version ‘1.40.0’
* package encoding: UTF-8
* checking package namespace information ... OK
* checking package dependencies ... INFO
Vignette dependency required without any vignettes: ‘knitr’
* checking if this is a source package ... OK
* checking if there is a namespace ... OK
* checking for hidden files and directories ... OK
* checking for portable file names ... OK
* checking for sufficient/correct file permissions ... OK
* checking whether package ‘DAPAR’ can be installed ... OK
* checking installed package size ... OK
* checking package directory ... OK
* checking DESCRIPTION meta-information ... OK
* checking top-level files ... OK
* checking for left-over files ... OK
* checking index information ... OK
* checking package subdirectories ... OK
* checking code files for non-ASCII characters ... OK
* checking R files for syntax errors ... OK
* checking whether the package can be loaded ... OK
* checking whether the package can be loaded with stated dependencies ... OK
* checking whether the package can be unloaded cleanly ... OK
* checking whether the namespace can be loaded with stated dependencies ... OK
* checking whether the namespace can be unloaded cleanly ... OK
* checking whether startup messages can be suppressed ... OK
* checking dependencies in R code ... OK
* checking S3 generic/method consistency ... OK
* checking replacement functions ... OK
* checking foreign function calls ... OK
* checking R code for possible problems ... NOTE
Check_Dataset_Validity: no visible global function definition for
‘exprs’
OWAnova: no visible global function definition for ‘aov’
aggregateIterParallel: no visible binding for global variable ‘cond’
averageIntensities: no visible binding for global variable ‘condition’
averageIntensities: no visible binding for global variable ‘feature’
averageIntensities: no visible binding for global variable ‘intensity’
createMSnset: no visible global function definition for
‘installed.packages’
createMSnset: no visible binding for global variable ‘Prostar.loc’
createMSnset2: no visible global function definition for
‘installed.packages’
createMSnset2: no visible binding for global variable ‘Prostar.loc’
diffAnaVolcanoplot_rCharts: no visible binding for global variable ‘x’
diffAnaVolcanoplot_rCharts: no visible binding for global variable ‘y’
diffAnaVolcanoplot_rCharts: no visible binding for global variable ‘g’
display.CC.visNet: no visible binding for global variable
‘layout_nicely’
getTextForGOAnalysis: no visible binding for global variable
‘textGOParams’
getTextForGOAnalysis: no visible binding for global variable ‘input’
globalAdjPval: no visible global function definition for ‘stack’
heatmapForMissingValues: no visible binding for global variable ‘par’
limmaCompleteTest: no visible binding for global variable ‘A’
limmaCompleteTest: no visible binding for global variable ‘B’
limmaCompleteTest: no visible binding for global variable ‘P.Value’
pepa.test: no visible global function definition for ‘nodes<-’
testAnovaModels : <anonymous>: no visible global function definition
for ‘TukeyHSD’
visualizeClusters: no visible binding for global variable
‘adjusted_pvalues’
visualizeClusters: no visible binding for global variable ‘Condition’
visualizeClusters: no visible binding for global variable ‘Intensity’
visualizeClusters: no visible binding for global variable
‘FDR_threshold’
visualizeClusters: no visible binding for global variable ‘feature’
wrapperClassic1wayAnova: no visible binding for global variable
‘Pr(>F)1’
wrapperRunClustering: no visible global function definition for ‘str_c’
Undefined global functions or variables:
A B Condition FDR_threshold Intensity P.Value Pr(>F)1 Prostar.loc
TukeyHSD adjusted_pvalues aov cond condition exprs feature g input
installed.packages intensity layout_nicely nodes<- par stack str_c
textGOParams x y
Consider adding
importFrom("graphics", "par")
importFrom("stats", "TukeyHSD", "aov")
importFrom("utils", "installed.packages", "stack")
to your NAMESPACE file.
* checking Rd files ... OK
* checking Rd metadata ... OK
* checking Rd cross-references ... OK
* checking for missing documentation entries ... OK
* checking for code/documentation mismatches ... OK
* checking Rd \usage sections ... OK
* checking Rd contents ... OK
* checking for unstated dependencies in examples ... OK
* checking examples ... OK
Examples with CPU (user + system) or elapsed time > 5s
user system elapsed
wrapper.compareNormalizationD_HC 60.108 30.788 90.888
wrapper.dapar.impute.mi 16.145 1.266 17.573
barplotEnrichGO_HC 8.942 1.976 11.083
checkClusterability 4.397 2.897 7.234
barplotGroupGO_HC 5.459 0.948 6.476
enrich_GO 4.979 0.660 5.702
group_GO 4.966 0.648 5.674
scatterplotEnrichGO_HC 4.900 0.639 5.597
densityPlotD_HC 3.563 1.650 5.209
* checking for unstated dependencies in ‘tests’ ... OK
* checking tests ...
Running ‘testthat.R’
OK
* checking PDF version of manual ... OK
* DONE
Status: 1 NOTE
See
‘/Users/biocbuild/bbs-3.21-bioc/meat/DAPAR.Rcheck/00check.log’
for details.
DAPAR.Rcheck/00install.out
############################################################################## ############################################################################## ### ### Running command: ### ### /Library/Frameworks/R.framework/Resources/bin/R CMD INSTALL DAPAR ### ############################################################################## ############################################################################## * installing to library ‘/Library/Frameworks/R.framework/Versions/4.5-x86_64/Resources/library’ * installing *source* package ‘DAPAR’ ... ** this is package ‘DAPAR’ version ‘1.40.0’ ** using staged installation ** R ** inst ** byte-compile and prepare package for lazy loading ** help *** installing help indices ** building package indices ** testing if installed package can be loaded from temporary location ** testing if installed package can be loaded from final location ** testing if installed package keeps a record of temporary installation path * DONE (DAPAR)
DAPAR.Rcheck/tests/testthat.Rout
R version 4.5.0 RC (2025-04-04 r88126) -- "How About a Twenty-Six"
Copyright (C) 2025 The R Foundation for Statistical Computing
Platform: x86_64-apple-darwin20
R is free software and comes with ABSOLUTELY NO WARRANTY.
You are welcome to redistribute it under certain conditions.
Type 'license()' or 'licence()' for distribution details.
R is a collaborative project with many contributors.
Type 'contributors()' for more information and
'citation()' on how to cite R or R packages in publications.
Type 'demo()' for some demos, 'help()' for on-line help, or
'help.start()' for an HTML browser interface to help.
Type 'q()' to quit R.
> library(testthat)
> library(DAPAR)
This is the 'DAPAR' version 1.40.0.
To get started, visit
http://www.prostar-proteomics.org/
>
> test_check("DAPAR")
Iterations:
1 / 1 - Imputation MNAR OK -
Imputation MCAR in progress -
3 % - 6 % - 9 % - 12 % - 15 % - 18 % - 21 % - 24 % - 27 % - 30 % - 33 % - 36 % - 39 % - 42 % - 45 % - 48 % - 51 % - 54 % - 57 % - 60 % - 63 % - 66 % - 69 % - 72 % - 75 % - 78 % - 81 % - 84 % - 87 % - 90 % - 93 % - 96 % - 99 % -
Iterations:
1 / 1 - Imputation MNAR OK -
Imputation MCAR in progress -
3 % - 6 % - 9 % - 12 % - 15 % - 18 % - 21 % - 24 % - 27 % - 30 % - 33 % - 36 % - 39 % - 42 % - 45 % - 48 % - 51 % - 54 % - 57 % - 60 % - 63 % - 66 % - 69 % - 72 % - 75 % - 78 % - 81 % - 84 % - 87 % - 90 % - 93 % - 96 % - 99 % -
Imputation in condition 1 ...
In progress: 10 % - 20 % - 30 % - 40 % - 50 % - 60 % - 70 % - 80 % - 90 % - 100 % -
Imputation in condition 2 ...
In progress: 10 % - 20 % - 30 % - 40 % - 50 % - 60 % - 70 % - 80 % - 90 % - 100 % - [ FAIL 0 | WARN 17 | SKIP 0 | PASS 66 ]
[ FAIL 0 | WARN 17 | SKIP 0 | PASS 66 ]
>
> proc.time()
user system elapsed
34.227 1.540 36.006
DAPAR.Rcheck/DAPAR-Ex.timings
| name | user | system | elapsed | |
| AggregateMetacell | 0.537 | 0.026 | 0.567 | |
| BuildAdjacencyMatrix | 0.481 | 0.012 | 0.501 | |
| BuildColumnToProteinDataset | 0.510 | 0.007 | 0.520 | |
| BuildMetaCell | 1.490 | 0.031 | 1.534 | |
| CVDistD_HC | 2.249 | 0.226 | 2.618 | |
| Children | 0.004 | 0.000 | 0.005 | |
| CountPep | 0.464 | 0.006 | 0.472 | |
| ExtendPalette | 0.028 | 0.001 | 0.030 | |
| GOAnalysisSave | 0 | 0 | 0 | |
| GetCC | 2.328 | 0.026 | 2.373 | |
| GetColorsForConditions | 0.458 | 0.006 | 0.471 | |
| GetDetailedNbPeptides | 0.422 | 0.004 | 0.430 | |
| GetDetailedNbPeptidesUsed | 0.001 | 0.001 | 0.000 | |
| GetIndices_BasedOnConditions | 0.443 | 0.006 | 0.452 | |
| GetIndices_MetacellFiltering | 0.430 | 0.005 | 0.438 | |
| GetIndices_WholeLine | 0.424 | 0.004 | 0.429 | |
| GetIndices_WholeMatrix | 0.422 | 0.007 | 0.431 | |
| GetKeyId | 0.388 | 0.005 | 0.394 | |
| GetMatAdj | 0.456 | 0.006 | 0.464 | |
| GetMetacell | 0.000 | 0.000 | 0.001 | |
| GetMetacellTags | 0.413 | 0.005 | 0.420 | |
| GetNbPeptidesUsed | 0.445 | 0.007 | 0.454 | |
| GetNbTags | 0 | 0 | 0 | |
| GetSoftAvailables | 0.000 | 0.000 | 0.001 | |
| GetTypeofData | 0.428 | 0.008 | 0.444 | |
| Get_AllComparisons | 0.270 | 0.017 | 0.290 | |
| GlobalQuantileAlignment | 0.455 | 0.006 | 0.465 | |
| GraphPepProt | 0.463 | 0.007 | 0.474 | |
| LH0 | 0 | 0 | 0 | |
| LH0.lm | 0.000 | 0.001 | 0.001 | |
| LH1 | 0.000 | 0.001 | 0.000 | |
| LH1.lm | 0.000 | 0.000 | 0.001 | |
| LOESS | 1.097 | 0.014 | 1.117 | |
| MeanCentering | 0.451 | 0.017 | 0.469 | |
| MetaCellFiltering | 0.627 | 0.006 | 0.636 | |
| MetacellFilteringScope | 0 | 0 | 0 | |
| Metacell_DIA_NN | 0.596 | 0.014 | 0.613 | |
| Metacell_generic | 0.472 | 0.012 | 0.490 | |
| Metacell_maxquant | 0.514 | 0.018 | 0.536 | |
| Metacell_proline | 0.477 | 0.012 | 0.491 | |
| NumericalFiltering | 0.452 | 0.006 | 0.461 | |
| NumericalgetIndicesOfLinesToRemove | 0.424 | 0.005 | 0.431 | |
| OWAnova | 0.007 | 0.000 | 0.007 | |
| QuantileCentering | 0.498 | 0.015 | 0.516 | |
| SetCC | 2.281 | 0.013 | 2.302 | |
| SetMatAdj | 0.478 | 0.006 | 0.487 | |
| Set_POV_MEC_tags | 0.415 | 0.005 | 0.422 | |
| StringBasedFiltering | 0.446 | 0.005 | 0.455 | |
| StringBasedFiltering2 | 0.466 | 0.005 | 0.474 | |
| SumByColumns | 1.336 | 0.017 | 1.360 | |
| SymFilteringOperators | 0.001 | 0.000 | 0.001 | |
| UpdateMetacellAfterImputation | 0.419 | 0.005 | 0.428 | |
| aggregateIter | 0.590 | 0.006 | 0.597 | |
| aggregateIterParallel | 0 | 0 | 0 | |
| aggregateMean | 0.500 | 0.006 | 0.510 | |
| aggregateSum | 0.538 | 0.006 | 0.547 | |
| aggregateTopn | 0.500 | 0.006 | 0.509 | |
| applyAnovasOnProteins | 0.128 | 0.002 | 0.131 | |
| averageIntensities | 0.636 | 0.145 | 0.809 | |
| barplotEnrichGO_HC | 8.942 | 1.976 | 11.083 | |
| barplotGroupGO_HC | 5.459 | 0.948 | 6.476 | |
| boxPlotD_HC | 0.335 | 0.110 | 0.451 | |
| buildGraph | 1.673 | 0.072 | 1.754 | |
| check.conditions | 0.450 | 0.006 | 0.458 | |
| check.design | 0.449 | 0.007 | 0.459 | |
| checkClusterability | 4.397 | 2.897 | 7.234 | |
| classic1wayAnova | 0 | 0 | 0 | |
| compareNormalizationD_HC | 0.183 | 0.068 | 0.254 | |
| compute.selection.table | 0.880 | 0.205 | 1.108 | |
| compute_t_tests | 1.358 | 0.285 | 1.662 | |
| corrMatrixD_HC | 0.618 | 0.098 | 0.724 | |
| createMSnset | 1.983 | 0.094 | 2.090 | |
| createMSnset2 | 2.031 | 0.103 | 2.147 | |
| dapar_hc_ExportMenu | 0.151 | 0.159 | 0.313 | |
| dapar_hc_chart | 0.069 | 0.052 | 0.122 | |
| deleteLinesFromIndices | 0.479 | 0.020 | 0.502 | |
| densityPlotD_HC | 3.563 | 1.650 | 5.209 | |
| diffAnaComputeAdjustedPValues | 0.207 | 0.036 | 0.243 | |
| diffAnaComputeFDR | 0.000 | 0.001 | 0.000 | |
| diffAnaGetSignificant | 0.326 | 0.066 | 0.392 | |
| diffAnaSave | 0.314 | 0.059 | 0.374 | |
| diffAnaVolcanoplot | 0.213 | 0.033 | 0.251 | |
| diffAnaVolcanoplot_rCharts | 0.439 | 0.142 | 0.583 | |
| display.CC.visNet | 1.781 | 0.094 | 1.894 | |
| enrich_GO | 4.979 | 0.660 | 5.702 | |
| finalizeAggregation | 0 | 0 | 0 | |
| findMECBlock | 0.505 | 0.017 | 0.527 | |
| formatHSDResults | 0 | 0 | 0 | |
| formatLimmaResult | 0.194 | 0.029 | 0.225 | |
| formatPHResults | 0 | 0 | 0 | |
| formatPHTResults | 0.001 | 0.000 | 0.001 | |
| fudge2LRT | 0 | 0 | 0 | |
| get.pep.prot.cc | 1.616 | 0.046 | 1.671 | |
| getDesignLevel | 0.428 | 0.005 | 0.437 | |
| getIndicesConditions | 0.436 | 0.005 | 0.441 | |
| getIndicesOfLinesToRemove | 0.469 | 0.013 | 0.488 | |
| getListNbValuesInLines | 0.407 | 0.004 | 0.414 | |
| getNumberOf | 0.435 | 0.013 | 0.455 | |
| getNumberOfEmptyLines | 0.445 | 0.008 | 0.456 | |
| getPourcentageOfMV | 0.480 | 0.012 | 0.492 | |
| getProcessingInfo | 0.435 | 0.006 | 0.442 | |
| getProteinsStats | 0.446 | 0.012 | 0.459 | |
| getQuantile4Imp | 0.096 | 0.002 | 0.099 | |
| getTextForAggregation | 0.001 | 0.000 | 0.000 | |
| getTextForAnaDiff | 0 | 0 | 0 | |
| getTextForFiltering | 0 | 0 | 0 | |
| getTextForGOAnalysis | 0.001 | 0.001 | 0.001 | |
| getTextForHypothesisTest | 0.001 | 0.000 | 0.000 | |
| getTextForNewDataset | 0.002 | 0.000 | 0.002 | |
| getTextForNormalization | 0.000 | 0.000 | 0.001 | |
| getTextForpeptideImputation | 0.000 | 0.001 | 0.000 | |
| getTextForproteinImputation | 0.000 | 0.001 | 0.000 | |
| globalAdjPval | 0.458 | 0.052 | 0.515 | |
| group_GO | 4.966 | 0.648 | 5.674 | |
| hc_logFC_DensityPlot | 0.762 | 0.347 | 1.107 | |
| hc_mvTypePlot2 | 1.161 | 0.349 | 1.517 | |
| heatmapD | 0.754 | 0.068 | 0.831 | |
| heatmapForMissingValues | 0.218 | 0.026 | 0.246 | |
| histPValue_HC | 0.270 | 0.097 | 0.376 | |
| impute.pa2 | 0.551 | 0.028 | 0.583 | |
| inner.aggregate.iter | 0.577 | 0.028 | 0.613 | |
| inner.aggregate.topn | 0.545 | 0.018 | 0.568 | |
| inner.mean | 0.489 | 0.015 | 0.509 | |
| inner.sum | 0.509 | 0.020 | 0.535 | |
| is.subset | 0.000 | 0.001 | 0.001 | |
| limmaCompleteTest | 1.557 | 0.067 | 1.637 | |
| listSheets | 0 | 0 | 0 | |
| make.contrast | 0.495 | 0.007 | 0.507 | |
| make.design.1 | 0.461 | 0.008 | 0.478 | |
| make.design.2 | 0.465 | 0.007 | 0.476 | |
| make.design.3 | 0.430 | 0.006 | 0.439 | |
| make.design | 0.446 | 0.005 | 0.453 | |
| match.metacell | 0.471 | 0.014 | 0.491 | |
| metacell.def | 0.006 | 0.003 | 0.008 | |
| metacellHisto_HC | 1.783 | 0.115 | 1.940 | |
| metacellPerLinesHistoPerCondition_HC | 0.610 | 0.130 | 0.746 | |
| metacellPerLinesHisto_HC | 0.775 | 0.318 | 1.106 | |
| metacombine | 0.181 | 0.016 | 0.199 | |
| mvImage | 2.365 | 0.243 | 2.639 | |
| my_hc_ExportMenu | 0.162 | 0.174 | 0.341 | |
| my_hc_chart | 0.165 | 0.183 | 0.355 | |
| nonzero | 0.028 | 0.002 | 0.029 | |
| normalizeMethods.dapar | 0 | 0 | 0 | |
| pepa.test | 0.478 | 0.016 | 0.499 | |
| pkgs.require | 0.000 | 0.001 | 0.000 | |
| plotJitter | 1.653 | 0.040 | 1.707 | |
| plotJitter_rCharts | 1.620 | 0.093 | 1.726 | |
| plotPCA_Eigen | 0.516 | 0.047 | 0.568 | |
| plotPCA_Eigen_hc | 0.390 | 0.005 | 0.397 | |
| plotPCA_Ind | 0.413 | 0.008 | 0.428 | |
| plotPCA_Var | 0.428 | 0.006 | 0.441 | |
| postHocTest | 0 | 0 | 0 | |
| proportionConRev_HC | 0.056 | 0.057 | 0.113 | |
| rbindMSnset | 0.578 | 0.038 | 0.622 | |
| reIntroduceMEC | 0.488 | 0.026 | 0.516 | |
| readExcel | 0.000 | 0.001 | 0.000 | |
| removeLines | 0.431 | 0.021 | 0.454 | |
| samLRT | 0.000 | 0.000 | 0.001 | |
| saveParameters | 0.401 | 0.008 | 0.419 | |
| scatterplotEnrichGO_HC | 4.900 | 0.639 | 5.597 | |
| search.metacell.tags | 0.009 | 0.003 | 0.013 | |
| separateAdjPval | 0.188 | 0.015 | 0.203 | |
| splitAdjacencyMat | 0.485 | 0.013 | 0.500 | |
| test.design | 0.477 | 0.006 | 0.485 | |
| testAnovaModels | 0.149 | 0.015 | 0.170 | |
| thresholdpval4fdr | 0.000 | 0.001 | 0.000 | |
| translatedRandomBeta | 0.002 | 0.005 | 0.008 | |
| univ_AnnotDbPkg | 0.212 | 0.061 | 0.273 | |
| violinPlotD | 0.340 | 0.033 | 0.379 | |
| visualizeClusters | 1.333 | 0.207 | 1.543 | |
| vsn | 0.757 | 0.025 | 0.787 | |
| wrapper.CVDistD_HC | 2.379 | 1.116 | 3.486 | |
| wrapper.compareNormalizationD_HC | 60.108 | 30.788 | 90.888 | |
| wrapper.corrMatrixD_HC | 0.606 | 0.088 | 0.709 | |
| wrapper.dapar.impute.mi | 16.145 | 1.266 | 17.573 | |
| wrapper.heatmapD | 0.631 | 0.036 | 0.673 | |
| wrapper.impute.KNN | 0.517 | 0.040 | 0.560 | |
| wrapper.impute.detQuant | 0.524 | 0.030 | 0.556 | |
| wrapper.impute.fixedValue | 0.505 | 0.034 | 0.542 | |
| wrapper.impute.mle | 0.501 | 0.022 | 0.525 | |
| wrapper.impute.pa | 0.184 | 0.025 | 0.214 | |
| wrapper.impute.pa2 | 0.485 | 0.023 | 0.510 | |
| wrapper.impute.slsa | 0.637 | 0.043 | 0.685 | |
| wrapper.mvImage | 0.173 | 0.024 | 0.199 | |
| wrapper.normalizeD | 0.416 | 0.005 | 0.422 | |
| wrapper.pca | 0.178 | 0.024 | 0.203 | |
| wrapperCalibrationPlot | 0.225 | 0.031 | 0.255 | |
| wrapperClassic1wayAnova | 0 | 0 | 0 | |
| wrapperRunClustering | 2.461 | 0.465 | 2.943 | |
| write.excel | 0.964 | 0.189 | 1.166 | |
| writeMSnsetToCSV | 0.458 | 0.026 | 0.505 | |
| writeMSnsetToExcel | 1.229 | 0.284 | 1.530 | |