| Back to Multiple platform build/check report for BioC 3.21: simplified long |
|
This page was generated on 2025-10-16 11:41 -0400 (Thu, 16 Oct 2025).
| Hostname | OS | Arch (*) | R version | Installed pkgs |
|---|---|---|---|---|
| nebbiolo1 | Linux (Ubuntu 24.04.3 LTS) | x86_64 | 4.5.1 (2025-06-13) -- "Great Square Root" | 4833 |
| merida1 | macOS 12.7.6 Monterey | x86_64 | 4.5.1 RC (2025-06-05 r88288) -- "Great Square Root" | 4614 |
| kjohnson1 | macOS 13.7.5 Ventura | arm64 | 4.5.1 Patched (2025-06-14 r88325) -- "Great Square Root" | 4555 |
| kunpeng2 | Linux (openEuler 24.03 LTS) | aarch64 | R Under development (unstable) (2025-02-19 r87757) -- "Unsuffered Consequences" | 4586 |
| Click on any hostname to see more info about the system (e.g. compilers) (*) as reported by 'uname -p', except on Windows and Mac OS X | ||||
| Package 444/2341 | Hostname | OS / Arch | INSTALL | BUILD | CHECK | BUILD BIN | ||||||||
| CoreGx 2.12.0 (landing page) Benjamin Haibe-Kains
| nebbiolo1 | Linux (Ubuntu 24.04.3 LTS) / x86_64 | OK | OK | OK | |||||||||
| merida1 | macOS 12.7.6 Monterey / x86_64 | OK | OK | OK | OK | |||||||||
| kjohnson1 | macOS 13.7.5 Ventura / arm64 | OK | OK | OK | OK | |||||||||
| kunpeng2 | Linux (openEuler 24.03 LTS) / aarch64 | OK | OK | OK | ||||||||||
|
To the developers/maintainers of the CoreGx package: - Allow up to 24 hours (and sometimes 48 hours) for your latest push to git@git.bioconductor.org:packages/CoreGx.git to reflect on this report. See Troubleshooting Build Report for more information. - Use the following Renviron settings to reproduce errors and warnings. - If 'R CMD check' started to fail recently on the Linux builder(s) over a missing dependency, add the missing dependency to 'Suggests:' in your DESCRIPTION file. See Renviron.bioc for more information. - See Martin Grigorov's blog post for how to debug Linux ARM64 related issues on a x86_64 host. |
| Package: CoreGx |
| Version: 2.12.0 |
| Command: /home/biocbuild/R/R/bin/R CMD check --install=check:CoreGx.install-out.txt --library=/home/biocbuild/R/R/site-library --no-vignettes --timings CoreGx_2.12.0.tar.gz |
| StartedAt: 2025-10-14 07:49:16 -0000 (Tue, 14 Oct 2025) |
| EndedAt: 2025-10-14 07:56:44 -0000 (Tue, 14 Oct 2025) |
| EllapsedTime: 448.3 seconds |
| RetCode: 0 |
| Status: OK |
| CheckDir: CoreGx.Rcheck |
| Warnings: 0 |
##############################################################################
##############################################################################
###
### Running command:
###
### /home/biocbuild/R/R/bin/R CMD check --install=check:CoreGx.install-out.txt --library=/home/biocbuild/R/R/site-library --no-vignettes --timings CoreGx_2.12.0.tar.gz
###
##############################################################################
##############################################################################
* using log directory ‘/home/biocbuild/bbs-3.21-bioc/meat/CoreGx.Rcheck’
* using R Under development (unstable) (2025-02-19 r87757)
* using platform: aarch64-unknown-linux-gnu
* R was compiled by
aarch64-unknown-linux-gnu-gcc (GCC) 14.2.0
GNU Fortran (GCC) 14.2.0
* running under: openEuler 24.03 (LTS-SP1)
* using session charset: UTF-8
* using option ‘--no-vignettes’
* checking for file ‘CoreGx/DESCRIPTION’ ... OK
* checking extension type ... Package
* this is package ‘CoreGx’ version ‘2.12.0’
* package encoding: UTF-8
* checking package namespace information ... OK
* checking package dependencies ... OK
* checking if this is a source package ... OK
* checking if there is a namespace ... OK
* checking for hidden files and directories ... OK
* checking for portable file names ... OK
* checking for sufficient/correct file permissions ... OK
* checking whether package ‘CoreGx’ can be installed ... OK
* checking installed package size ... OK
* checking package directory ... OK
* checking ‘build’ directory ... OK
* checking DESCRIPTION meta-information ... OK
* checking top-level files ... OK
* checking for left-over files ... OK
* checking index information ... OK
* checking package subdirectories ... OK
* checking code files for non-ASCII characters ... OK
* checking R files for syntax errors ... OK
* checking whether the package can be loaded ... OK
* checking whether the package can be loaded with stated dependencies ... OK
* checking whether the package can be unloaded cleanly ... OK
* checking whether the namespace can be loaded with stated dependencies ... OK
* checking whether the namespace can be unloaded cleanly ... OK
* checking loading without being on the library search path ... OK
* checking dependencies in R code ... NOTE
There are ::: calls to the package's namespace in its code. A package
almost never needs to use ::: for its own objects:
‘.LongTable’ ‘.parseToRoxygen’ ‘.sensitivityToTRE’
* checking S3 generic/method consistency ... OK
* checking replacement functions ... OK
* checking foreign function calls ... OK
* checking R code for possible problems ... NOTE
.meshEval2: no visible binding for global variable ‘n’
.meshEval2: no visible binding for global variable ‘family’
.rebuildInfo: no visible binding for global variable ‘..keepCols’
.rebuildInfo: no visible binding for global variable ‘replicate_id’
.rebuildInfo: no visible binding for global variable ‘treatment1id’
.rebuildInfo: no visible binding for global variable ‘sampleid’
.rebuildInfo: no visible binding for global variable ‘treatmentid’
.rebuildInfo: no visible binding for global variable ‘treatment_uid’
.rebuildInfo: no visible binding for global variable ‘..rowIDcols’
.rebuildInfo: no visible binding for global variable ‘sample_uid’
.rebuildInfo: no visible binding for global variable ‘..colIDcols’
.rebuildInfo: no visible binding for global variable ‘exp_id’
.rebuildProfiles: no visible binding for global variable
‘treatment_uid’
.rebuildProfiles: no visible binding for global variable ‘sample_uid’
.rebuildProfiles: no visible binding for global variable ‘exp_id’
.rebuildProfiles: no visible binding for global variable ‘N’
.rebuildRaw: no visible binding for global variable ‘.NATURAL’
.rebuildRaw: no visible binding for global variable ‘sampleid’
.rebuildRaw: no visible binding for global variable ‘exp_id’
.rebuildRaw: no visible binding for global variable ‘treatment1id’
.rebuildRaw: no visible binding for global variable ‘dose’
.rebuildSensNumber: no visible binding for global variable
‘.treatmentCombo’
.rebuildSensNumber: no visible binding for global variable
‘.sampleCombo’
.sensitivityToTRE: no visible binding for global variable ‘dose’
.sensitivityToTRE: no visible binding for global variable ‘viability’
.sensitivityToTRE: no visible binding for global variable
‘replicate_id’
.sensitivityToTRE: no visible binding for global variable ‘rn’
.sensitivityToTRE: no visible binding for global variable ‘treatmentid’
.sensitivityToTRE: no visible binding for global variable ‘sampleid’
.update_dimData: no visible binding for global variable ‘N’
.update_dimData: no visible binding for global variable ‘.NATURAL’
.update_dimData: no visible binding for global variable ‘.rownames’
CoreSet: no visible binding for global variable ‘cell’
CoreSet: no visible binding for global variable ‘drug’
aggregate2: no visible binding for global variable ‘group_id’
aggregate2: no visible binding for global variable ‘split_id’
cardinality: no visible binding for global variable ‘N’
checkColumnCardinality: no visible binding for global variable ‘N’
optimizeCoreGx: no visible binding for global variable ‘nthread’
optimizeCoreGx: no visible binding for global variable ‘total_time’
optimizeCoreGx: no visible binding for global variable ‘mem_alloc’
optimizeCoreGx: no visible binding for global variable ‘itr/sec’
optimizeCoreGx: no visible binding for global variable ‘gc/sec’
optimizeCoreGx: no visible binding for global variable ‘median_sec’
optimizeCoreGx: no visible binding for global variable ‘N’
buildComboProfiles,LongTable: no visible binding for global variable
‘treatment2dose’
buildComboProfiles,LongTable: no visible binding for global variable
‘treatment1dose’
coerce,SummarizedExperiment-data.table: no visible binding for global
variable ‘.sample’
coerce,SummarizedExperiment-data.table: no visible binding for global
variable ‘.feature’
reindex,LongTable: no visible binding for global variable ‘.rowKey’
reindex,LongTable: no visible binding for global variable ‘.colKey’
sensitivityRaw<-,CoreSet-array: no visible binding for global variable
‘V2’
sensitivityRaw<-,CoreSet-array: no visible binding for global variable
‘V1’
sensitivityRaw<-,CoreSet-array: no visible binding for global variable
‘rn’
treatmentResponse<-,CoreSet-list_OR_LongTable: no visible binding for
global variable ‘funContext’
updateObject,CoreSet: no visible global function definition for
‘isValid’
updateObject,LongTable: no visible global function definition for
‘isValid’
Undefined global functions or variables:
..colIDcols ..keepCols ..rowIDcols .NATURAL .colKey .feature .rowKey
.rownames .sample .sampleCombo .treatmentCombo N V1 V2 cell dose drug
exp_id family funContext gc/sec group_id isValid itr/sec median_sec
mem_alloc n nthread replicate_id rn sample_uid sampleid split_id
total_time treatment1dose treatment1id treatment2dose treatment_uid
treatmentid viability
Consider adding
importFrom("stats", "family")
to your NAMESPACE file.
* checking Rd files ... OK
* checking Rd metadata ... OK
* checking Rd cross-references ... NOTE
Found the following Rd file(s) with Rd \link{} targets missing package
anchors:
mergeAssays-LongTable-method.Rd: merge.data.table
Please provide package anchors for all Rd \link{} targets not in the
package itself and the base packages.
* checking for missing documentation entries ... OK
* checking for code/documentation mismatches ... OK
* checking Rd \usage sections ... NOTE
Documented arguments not in \usage in Rd file 'LongTable-class.Rd':
‘`x`’ ‘`i`’
Documented arguments not in \usage in Rd file 'assays-LongTableDataMapper-method.Rd':
‘withDimNames’
Functions with \usage entries need to have the appropriate \alias
entries, and all their arguments documented.
The \usage entries must correspond to syntactically valid R code.
See chapter ‘Writing R documentation files’ in the ‘Writing R
Extensions’ manual.
S3 methods shown with full name in Rd file 'setOps-immutable.Rd':
‘subset.immutable’
The \usage entries for S3 methods should use the \method markup and not
their full name.
See chapter ‘Writing R documentation files’ in the ‘Writing R
Extensions’ manual.
* checking Rd contents ... OK
* checking for unstated dependencies in examples ... OK
* checking contents of ‘data’ directory ... OK
* checking data for non-ASCII characters ... OK
* checking LazyData ... OK
* checking data for ASCII and uncompressed saves ... OK
* checking files in ‘vignettes’ ... OK
* checking examples ... OK
Examples with CPU (user + system) or elapsed time > 5s
user system elapsed
metaConstruct 11.314 1.165 9.812
as 5.758 0.844 5.255
amcc 3.639 0.158 5.044
* checking for unstated dependencies in ‘tests’ ... OK
* checking tests ...
Running ‘testthat.R’
OK
* checking for unstated dependencies in vignettes ... OK
* checking package vignettes ... OK
* checking running R code from vignettes ... SKIPPED
* checking re-building of vignette outputs ... SKIPPED
* checking PDF version of manual ... OK
* DONE
Status: 4 NOTEs
See
‘/home/biocbuild/bbs-3.21-bioc/meat/CoreGx.Rcheck/00check.log’
for details.
CoreGx.Rcheck/00install.out
############################################################################## ############################################################################## ### ### Running command: ### ### /home/biocbuild/R/R/bin/R CMD INSTALL CoreGx ### ############################################################################## ############################################################################## * installing to library ‘/home/biocbuild/R/R-devel_2025-02-19/site-library’ * installing *source* package ‘CoreGx’ ... ** this is package ‘CoreGx’ version ‘2.12.0’ ** using staged installation ** R ** data *** moving datasets to lazyload DB ** inst ** byte-compile and prepare package for lazy loading ** help *** installing help indices ** building package indices ** installing vignettes ** testing if installed package can be loaded from temporary location ** testing if installed package can be loaded from final location ** testing if installed package keeps a record of temporary installation path * DONE (CoreGx)
CoreGx.Rcheck/tests/testthat.Rout
R Under development (unstable) (2025-02-19 r87757) -- "Unsuffered Consequences"
Copyright (C) 2025 The R Foundation for Statistical Computing
Platform: aarch64-unknown-linux-gnu
R is free software and comes with ABSOLUTELY NO WARRANTY.
You are welcome to redistribute it under certain conditions.
Type 'license()' or 'licence()' for distribution details.
R is a collaborative project with many contributors.
Type 'contributors()' for more information and
'citation()' on how to cite R or R packages in publications.
Type 'demo()' for some demos, 'help()' for on-line help, or
'help.start()' for an HTML browser interface to help.
Type 'q()' to quit R.
> library(testthat)
> library(CoreGx)
Loading required package: BiocGenerics
Loading required package: generics
Attaching package: 'generics'
The following objects are masked from 'package:base':
as.difftime, as.factor, as.ordered, intersect, is.element, setdiff,
setequal, union
Attaching package: 'BiocGenerics'
The following objects are masked from 'package:stats':
IQR, mad, sd, var, xtabs
The following objects are masked from 'package:base':
Filter, Find, Map, Position, Reduce, anyDuplicated, aperm, append,
as.data.frame, basename, cbind, colnames, dirname, do.call,
duplicated, eval, evalq, get, grep, grepl, is.unsorted, lapply,
mapply, match, mget, order, paste, pmax, pmax.int, pmin, pmin.int,
rank, rbind, rownames, sapply, saveRDS, table, tapply, unique,
unsplit, which.max, which.min
Loading required package: SummarizedExperiment
Loading required package: MatrixGenerics
Loading required package: matrixStats
Attaching package: 'MatrixGenerics'
The following objects are masked from 'package:matrixStats':
colAlls, colAnyNAs, colAnys, colAvgsPerRowSet, colCollapse,
colCounts, colCummaxs, colCummins, colCumprods, colCumsums,
colDiffs, colIQRDiffs, colIQRs, colLogSumExps, colMadDiffs,
colMads, colMaxs, colMeans2, colMedians, colMins, colOrderStats,
colProds, colQuantiles, colRanges, colRanks, colSdDiffs, colSds,
colSums2, colTabulates, colVarDiffs, colVars, colWeightedMads,
colWeightedMeans, colWeightedMedians, colWeightedSds,
colWeightedVars, rowAlls, rowAnyNAs, rowAnys, rowAvgsPerColSet,
rowCollapse, rowCounts, rowCummaxs, rowCummins, rowCumprods,
rowCumsums, rowDiffs, rowIQRDiffs, rowIQRs, rowLogSumExps,
rowMadDiffs, rowMads, rowMaxs, rowMeans2, rowMedians, rowMins,
rowOrderStats, rowProds, rowQuantiles, rowRanges, rowRanks,
rowSdDiffs, rowSds, rowSums2, rowTabulates, rowVarDiffs, rowVars,
rowWeightedMads, rowWeightedMeans, rowWeightedMedians,
rowWeightedSds, rowWeightedVars
Loading required package: GenomicRanges
Loading required package: stats4
Loading required package: S4Vectors
Attaching package: 'S4Vectors'
The following object is masked from 'package:utils':
findMatches
The following objects are masked from 'package:base':
I, expand.grid, unname
Loading required package: IRanges
Loading required package: GenomeInfoDb
Loading required package: Biobase
Welcome to Bioconductor
Vignettes contain introductory material; view with
'browseVignettes()'. To cite Bioconductor, see
'citation("Biobase")', and for packages 'citation("pkgname")'.
Attaching package: 'Biobase'
The following object is masked from 'package:MatrixGenerics':
rowMedians
The following objects are masked from 'package:matrixStats':
anyMissing, rowMedians
>
> test_check("CoreGx")
Attaching package: 'data.table'
The following object is masked from 'package:SummarizedExperiment':
shift
The following object is masked from 'package:GenomicRanges':
shift
The following object is masked from 'package:IRanges':
shift
The following objects are masked from 'package:S4Vectors':
first, second
|
| | 0%
|
|=================================== | 50%
|
|======================================================================| 100%
[ FAIL 0 | WARN 0 | SKIP 1 | PASS 131 ]
══ Skipped tests (1) ═══════════════════════════════════════════════════════════
• empty test (1): 'test-LongTable-accessors.R:13:1'
[ FAIL 0 | WARN 0 | SKIP 1 | PASS 131 ]
>
> proc.time()
user system elapsed
104.865 1.756 105.784
CoreGx.Rcheck/CoreGx-Ex.timings
| name | user | system | elapsed | |
| CoreSet-accessors | 1.262 | 0.060 | 1.320 | |
| CoreSet-utils | 0.463 | 0.000 | 0.464 | |
| CoreSet | 0.021 | 0.004 | 0.025 | |
| CoreSet2 | 0.067 | 0.000 | 0.067 | |
| LongTable-accessors | 0.001 | 0.000 | 0.001 | |
| LongTable-class | 0.737 | 0.025 | 0.708 | |
| LongTable | 0 | 0 | 0 | |
| LongTableDataMapper-accessors | 0.004 | 0.000 | 0.004 | |
| LongTableDataMapper-class | 0.008 | 0.000 | 0.008 | |
| LongTableDataMapper | 0.007 | 0.000 | 0.007 | |
| TREDataMapper-accessors | 0.108 | 0.000 | 0.108 | |
| amcc | 3.639 | 0.158 | 5.044 | |
| as | 5.758 | 0.844 | 5.255 | |
| as.long.table | 4.473 | 0.148 | 4.617 | |
| assayCols | 0 | 0 | 0 | |
| assayIndex | 0 | 0 | 0 | |
| assayKeys | 0 | 0 | 0 | |
| assignment-immutable | 0.003 | 0.000 | 0.003 | |
| buildComboProfiles-LongTable-method | 0 | 0 | 0 | |
| buildComboProfiles | 0 | 0 | 0 | |
| buildLongTable-list-method | 0 | 0 | 0 | |
| buildLongTable | 0 | 0 | 0 | |
| callingWaterfall | 0 | 0 | 0 | |
| cash-LongTable-method | 0.023 | 0.000 | 0.020 | |
| cash-set-LongTable-method | 0.091 | 0.007 | 0.093 | |
| checkColumnCardinality | 0.005 | 0.000 | 0.005 | |
| checkCsetStructure | 0.036 | 0.008 | 0.045 | |
| colIDs | 0.000 | 0.000 | 0.001 | |
| colMeta | 0 | 0 | 0 | |
| connectivityScore | 0.011 | 0.028 | 0.144 | |
| cosinePerm | 0.085 | 0.087 | 0.099 | |
| dot- | 0 | 0 | 0 | |
| dot-distancePointLine | 0 | 0 | 0 | |
| dot-distancePointSegment | 0 | 0 | 0 | |
| dot-fitCurve2 | 0 | 0 | 0 | |
| dot-intersectList | 0 | 0 | 0 | |
| dot-symSetDiffList | 0.001 | 0.000 | 0.001 | |
| dot-unionList | 0 | 0 | 0 | |
| endoaggregate | 0 | 0 | 0 | |
| getIntern-set | 0 | 0 | 0 | |
| getIntern | 0.001 | 0.000 | 0.001 | |
| guessMapping-LongTableDataMapper-method | 0.061 | 0.055 | 0.019 | |
| guessMapping | 0 | 0 | 0 | |
| gwc | 0.042 | 0.024 | 0.187 | |
| idCols | 0 | 0 | 0 | |
| immutable | 0.000 | 0.003 | 0.002 | |
| is.items | 0.001 | 0.000 | 0.000 | |
| mcc | 0.102 | 0.098 | 2.672 | |
| mergeAssays | 0 | 0 | 0 | |
| metaConstruct | 11.314 | 1.165 | 9.812 | |
| mutable | 0 | 0 | 0 | |
| optimizeCoreGx | 0 | 0 | 0 | |
| reindex | 0 | 0 | 0 | |
| rowIDs | 0 | 0 | 0 | |
| rowMeta | 0.000 | 0.000 | 0.001 | |
| sensitivityInfo-set | 0.001 | 0.000 | 0.000 | |
| sensitivityInfo | 0 | 0 | 0 | |
| sensitivityMeasures-set | 0 | 0 | 0 | |
| sensitivityMeasures | 0.023 | 0.000 | 0.023 | |
| sensitivityProfiles | 0 | 0 | 0 | |
| sensitivityRaw | 0 | 0 | 0 | |
| sensitivitySlotToLongTable | 0.001 | 0.000 | 0.000 | |
| setOps-immutable | 0.001 | 0.000 | 0.001 | |
| show-CoreSet-method | 0.015 | 0.000 | 0.015 | |
| show-LongTable-method | 0.009 | 0.000 | 0.008 | |
| showSigAnnot | 0 | 0 | 0 | |
| sub-LongTable-ANY-ANY-ANY-method | 0.437 | 0.016 | 0.443 | |
| sub-subset-LongTable-ANY-ANY-method | 0.095 | 0.015 | 0.102 | |
| subset-LongTable-method | 0.243 | 0.003 | 0.236 | |
| subsetTo | 0 | 0 | 0 | |
| summarizeMolecularProfiles | 0 | 0 | 0 | |
| summarizeSensitivityProfiles | 0 | 0 | 0 | |
| updateSampleId | 0.194 | 0.028 | 0.222 | |
| updateTreatmentId | 0.013 | 0.003 | 0.016 | |