| Back to Multiple platform build/check report for BioC 3.21: simplified long |
|
This page was generated on 2025-10-16 11:41 -0400 (Thu, 16 Oct 2025).
| Hostname | OS | Arch (*) | R version | Installed pkgs |
|---|---|---|---|---|
| nebbiolo1 | Linux (Ubuntu 24.04.3 LTS) | x86_64 | 4.5.1 (2025-06-13) -- "Great Square Root" | 4833 |
| merida1 | macOS 12.7.6 Monterey | x86_64 | 4.5.1 RC (2025-06-05 r88288) -- "Great Square Root" | 4614 |
| kjohnson1 | macOS 13.7.5 Ventura | arm64 | 4.5.1 Patched (2025-06-14 r88325) -- "Great Square Root" | 4555 |
| kunpeng2 | Linux (openEuler 24.03 LTS) | aarch64 | R Under development (unstable) (2025-02-19 r87757) -- "Unsuffered Consequences" | 4586 |
| Click on any hostname to see more info about the system (e.g. compilers) (*) as reported by 'uname -p', except on Windows and Mac OS X | ||||
| Package 442/2341 | Hostname | OS / Arch | INSTALL | BUILD | CHECK | BUILD BIN | ||||||||
| CopyNumberPlots 1.24.0 (landing page) Bernat Gel
| nebbiolo1 | Linux (Ubuntu 24.04.3 LTS) / x86_64 | OK | OK | OK | |||||||||
| merida1 | macOS 12.7.6 Monterey / x86_64 | OK | OK | OK | OK | |||||||||
| kjohnson1 | macOS 13.7.5 Ventura / arm64 | OK | OK | OK | OK | |||||||||
| kunpeng2 | Linux (openEuler 24.03 LTS) / aarch64 | OK | OK | OK | ||||||||||
|
To the developers/maintainers of the CopyNumberPlots package: - Allow up to 24 hours (and sometimes 48 hours) for your latest push to git@git.bioconductor.org:packages/CopyNumberPlots.git to reflect on this report. See Troubleshooting Build Report for more information. - Use the following Renviron settings to reproduce errors and warnings. - If 'R CMD check' started to fail recently on the Linux builder(s) over a missing dependency, add the missing dependency to 'Suggests:' in your DESCRIPTION file. See Renviron.bioc for more information. - See Martin Grigorov's blog post for how to debug Linux ARM64 related issues on a x86_64 host. |
| Package: CopyNumberPlots |
| Version: 1.24.0 |
| Command: /home/biocbuild/R/R/bin/R CMD check --install=check:CopyNumberPlots.install-out.txt --library=/home/biocbuild/R/R/site-library --no-vignettes --timings CopyNumberPlots_1.24.0.tar.gz |
| StartedAt: 2025-10-14 07:49:06 -0000 (Tue, 14 Oct 2025) |
| EndedAt: 2025-10-14 07:56:30 -0000 (Tue, 14 Oct 2025) |
| EllapsedTime: 444.3 seconds |
| RetCode: 0 |
| Status: OK |
| CheckDir: CopyNumberPlots.Rcheck |
| Warnings: 0 |
##############################################################################
##############################################################################
###
### Running command:
###
### /home/biocbuild/R/R/bin/R CMD check --install=check:CopyNumberPlots.install-out.txt --library=/home/biocbuild/R/R/site-library --no-vignettes --timings CopyNumberPlots_1.24.0.tar.gz
###
##############################################################################
##############################################################################
* using log directory ‘/home/biocbuild/bbs-3.21-bioc/meat/CopyNumberPlots.Rcheck’
* using R Under development (unstable) (2025-02-19 r87757)
* using platform: aarch64-unknown-linux-gnu
* R was compiled by
aarch64-unknown-linux-gnu-gcc (GCC) 14.2.0
GNU Fortran (GCC) 14.2.0
* running under: openEuler 24.03 (LTS-SP1)
* using session charset: UTF-8
* using option ‘--no-vignettes’
* checking for file ‘CopyNumberPlots/DESCRIPTION’ ... OK
* checking extension type ... Package
* this is package ‘CopyNumberPlots’ version ‘1.24.0’
* package encoding: UTF-8
* checking package namespace information ... OK
* checking package dependencies ... OK
* checking if this is a source package ... OK
* checking if there is a namespace ... OK
* checking for hidden files and directories ... OK
* checking for portable file names ... OK
* checking for sufficient/correct file permissions ... OK
* checking whether package ‘CopyNumberPlots’ can be installed ... OK
* checking installed package size ... OK
* checking package directory ... OK
* checking ‘build’ directory ... OK
* checking DESCRIPTION meta-information ... OK
* checking top-level files ... OK
* checking for left-over files ... OK
* checking index information ... OK
* checking package subdirectories ... OK
* checking code files for non-ASCII characters ... OK
* checking R files for syntax errors ... OK
* checking whether the package can be loaded ... OK
* checking whether the package can be loaded with stated dependencies ... OK
* checking whether the package can be unloaded cleanly ... OK
* checking whether the namespace can be loaded with stated dependencies ... OK
* checking whether the namespace can be unloaded cleanly ... OK
* checking loading without being on the library search path ... OK
* checking dependencies in R code ... OK
* checking S3 generic/method consistency ... OK
* checking replacement functions ... OK
* checking foreign function calls ... OK
* checking R code for possible problems ... OK
* checking Rd files ... OK
* checking Rd metadata ... OK
* checking Rd cross-references ... NOTE
Found the following Rd file(s) with Rd \link{} targets missing package
anchors:
plotBAF.Rd: plotKaryotype
plotLRR.Rd: plotKaryotype
Please provide package anchors for all Rd \link{} targets not in the
package itself and the base packages.
* checking for missing documentation entries ... OK
* checking for code/documentation mismatches ... OK
* checking Rd \usage sections ... OK
* checking Rd contents ... OK
* checking for unstated dependencies in examples ... OK
* checking files in ‘vignettes’ ... OK
* checking examples ... OK
* checking for unstated dependencies in ‘tests’ ... OK
* checking tests ...
Running ‘testthat.R’
OK
* checking for unstated dependencies in vignettes ... OK
* checking package vignettes ... OK
* checking running R code from vignettes ... SKIPPED
* checking re-building of vignette outputs ... SKIPPED
* checking PDF version of manual ... OK
* DONE
Status: 1 NOTE
See
‘/home/biocbuild/bbs-3.21-bioc/meat/CopyNumberPlots.Rcheck/00check.log’
for details.
CopyNumberPlots.Rcheck/00install.out
############################################################################## ############################################################################## ### ### Running command: ### ### /home/biocbuild/R/R/bin/R CMD INSTALL CopyNumberPlots ### ############################################################################## ############################################################################## * installing to library ‘/home/biocbuild/R/R-devel_2025-02-19/site-library’ * installing *source* package ‘CopyNumberPlots’ ... ** this is package ‘CopyNumberPlots’ version ‘1.24.0’ ** using staged installation ** R ** inst ** byte-compile and prepare package for lazy loading ** help *** installing help indices ** building package indices ** installing vignettes ** testing if installed package can be loaded from temporary location ** testing if installed package can be loaded from final location ** testing if installed package keeps a record of temporary installation path * DONE (CopyNumberPlots)
CopyNumberPlots.Rcheck/tests/testthat.Rout
R Under development (unstable) (2025-02-19 r87757) -- "Unsuffered Consequences"
Copyright (C) 2025 The R Foundation for Statistical Computing
Platform: aarch64-unknown-linux-gnu
R is free software and comes with ABSOLUTELY NO WARRANTY.
You are welcome to redistribute it under certain conditions.
Type 'license()' or 'licence()' for distribution details.
R is a collaborative project with many contributors.
Type 'contributors()' for more information and
'citation()' on how to cite R or R packages in publications.
Type 'demo()' for some demos, 'help()' for on-line help, or
'help.start()' for an HTML browser interface to help.
Type 'q()' to quit R.
> library(testthat)
> library(CopyNumberPlots)
Loading required package: karyoploteR
Loading required package: regioneR
Loading required package: GenomicRanges
Loading required package: stats4
Loading required package: BiocGenerics
Loading required package: generics
Attaching package: 'generics'
The following objects are masked from 'package:base':
as.difftime, as.factor, as.ordered, intersect, is.element, setdiff,
setequal, union
Attaching package: 'BiocGenerics'
The following objects are masked from 'package:stats':
IQR, mad, sd, var, xtabs
The following objects are masked from 'package:base':
Filter, Find, Map, Position, Reduce, anyDuplicated, aperm, append,
as.data.frame, basename, cbind, colnames, dirname, do.call,
duplicated, eval, evalq, get, grep, grepl, is.unsorted, lapply,
mapply, match, mget, order, paste, pmax, pmax.int, pmin, pmin.int,
rank, rbind, rownames, sapply, saveRDS, table, tapply, unique,
unsplit, which.max, which.min
Loading required package: S4Vectors
Attaching package: 'S4Vectors'
The following object is masked from 'package:utils':
findMatches
The following objects are masked from 'package:base':
I, expand.grid, unname
Loading required package: IRanges
Loading required package: GenomeInfoDb
>
> test_check("CopyNumberPlots")
[ FAIL 0 | WARN 0 | SKIP 0 | PASS 26 ]
>
> proc.time()
user system elapsed
20.916 1.306 22.257
CopyNumberPlots.Rcheck/CopyNumberPlots-Ex.timings
| name | user | system | elapsed | |
| EnsemblStyle | 0.578 | 0.015 | 0.595 | |
| UCSCStyle | 0.376 | 0.001 | 0.377 | |
| Ztree2Hclust | 0.006 | 0.000 | 0.006 | |
| colByCopyNumber | 0.912 | 0.015 | 0.929 | |
| computeHclustPlotOrder | 0.016 | 0.008 | 0.024 | |
| getBAFColumn | 0.002 | 0.000 | 0.002 | |
| getChrColumn | 0.002 | 0.000 | 0.002 | |
| getColumn | 0.003 | 0.000 | 0.003 | |
| getCopyNumberColors | 0.001 | 0.000 | 0.000 | |
| getCopyNumberColumn | 0.002 | 0.000 | 0.002 | |
| getEndColumn | 0.002 | 0.000 | 0.002 | |
| getIDColumn | 0.002 | 0.000 | 0.001 | |
| getLOHColumn | 0.000 | 0.002 | 0.002 | |
| getLRRColumn | 0.001 | 0.001 | 0.002 | |
| getPosColumn | 0.001 | 0.000 | 0.002 | |
| getSegmentValueColumn | 0.002 | 0.000 | 0.002 | |
| getStartColumn | 0.002 | 0.000 | 0.001 | |
| loadCopyNumberCalls | 0.025 | 0.000 | 0.025 | |
| loadCopyNumberCallsCNVkit | 0.069 | 0.000 | 0.071 | |
| loadCopyNumberCallsCnmops | 0.167 | 0.000 | 0.168 | |
| loadCopyNumberCallsDECoN | 0.081 | 0.012 | 0.094 | |
| loadCopyNumberCallsDNAcopy | 0.714 | 0.012 | 0.726 | |
| loadCopyNumberCallsPanelcnmops | 1.594 | 0.172 | 1.776 | |
| loadCopyNumberCallsSeg | 0.021 | 0.004 | 0.025 | |
| loadCopyNumberCallspennCNV | 0.092 | 0.000 | 0.093 | |
| loadSNPData | 0.060 | 0.000 | 0.062 | |
| loadSNPDataDNAcopy | 0.673 | 0.000 | 0.675 | |
| loadSNPDataFromVCF | 0.001 | 0.000 | 0.001 | |
| plotBAF | 1.244 | 0.088 | 1.333 | |
| plotCopyNumberCalls | 0.239 | 0.008 | 0.248 | |
| plotCopyNumberCallsAsLines | 0.222 | 0.016 | 0.238 | |
| plotCopyNumberSummary | 0.270 | 0.012 | 0.283 | |
| plotLRR | 0.507 | 0.012 | 0.520 | |
| plotSingleCellCopyNumberCalls | 0.069 | 0.000 | 0.069 | |
| plotSingleCellCopyNumberSummary | 0.048 | 0.000 | 0.048 | |
| prepareLabels | 0.099 | 0.000 | 0.099 | |
| readHDF5Ztree | 0.001 | 0.000 | 0.000 | |
| removeNAs | 0.213 | 0.000 | 0.213 | |
| transformChr | 0.004 | 0.000 | 0.005 | |