Back to Multiple platform build/check report for BioC 3.21:   simplified   long
AB[C]DEFGHIJKLMNOPQRSTUVWXYZ

This page was generated on 2025-02-13 11:42 -0500 (Thu, 13 Feb 2025).

HostnameOSArch (*)R versionInstalled pkgs
nebbiolo1Linux (Ubuntu 24.04.1 LTS)x86_64R Under development (unstable) (2025-01-20 r87609) -- "Unsuffered Consequences" 4719
palomino7Windows Server 2022 Datacenterx64R Under development (unstable) (2025-01-21 r87610 ucrt) -- "Unsuffered Consequences" 4481
lconwaymacOS 12.7.1 Montereyx86_64R Under development (unstable) (2025-01-22 r87618) -- "Unsuffered Consequences" 4492
kjohnson3macOS 13.7.1 Venturaarm64R Under development (unstable) (2025-01-20 r87609) -- "Unsuffered Consequences" 4445
Click on any hostname to see more info about the system (e.g. compilers)      (*) as reported by 'uname -p', except on Windows and Mac OS X

Package 336/2295HostnameOS / ArchINSTALLBUILDCHECKBUILD BIN
ChIPpeakAnno 3.41.1  (landing page)
Jianhong Ou
Snapshot Date: 2025-02-12 13:40 -0500 (Wed, 12 Feb 2025)
git_url: https://git.bioconductor.org/packages/ChIPpeakAnno
git_branch: devel
git_last_commit: cfbf335
git_last_commit_date: 2025-01-03 09:42:19 -0500 (Fri, 03 Jan 2025)
nebbiolo1Linux (Ubuntu 24.04.1 LTS) / x86_64  OK    OK    OK  UNNEEDED, same version is already published
palomino7Windows Server 2022 Datacenter / x64  OK    OK    OK    OK  UNNEEDED, same version is already published
lconwaymacOS 12.7.1 Monterey / x86_64  OK    OK    OK    OK  UNNEEDED, same version is already published
kjohnson3macOS 13.7.1 Ventura / arm64  OK    OK    OK    OK  UNNEEDED, same version is already published


CHECK results for ChIPpeakAnno on lconway

To the developers/maintainers of the ChIPpeakAnno package:
- Allow up to 24 hours (and sometimes 48 hours) for your latest push to git@git.bioconductor.org:packages/ChIPpeakAnno.git to reflect on this report. See Troubleshooting Build Report for more information.
- Use the following Renviron settings to reproduce errors and warnings.
- If 'R CMD check' started to fail recently on the Linux builder(s) over a missing dependency, add the missing dependency to 'Suggests:' in your DESCRIPTION file. See Renviron.bioc for more information.

raw results


Summary

Package: ChIPpeakAnno
Version: 3.41.1
Command: /Library/Frameworks/R.framework/Resources/bin/R CMD check --install=check:ChIPpeakAnno.install-out.txt --library=/Library/Frameworks/R.framework/Resources/library --no-vignettes --timings ChIPpeakAnno_3.41.1.tar.gz
StartedAt: 2025-02-12 19:32:20 -0500 (Wed, 12 Feb 2025)
EndedAt: 2025-02-12 19:43:47 -0500 (Wed, 12 Feb 2025)
EllapsedTime: 686.2 seconds
RetCode: 0
Status:   OK  
CheckDir: ChIPpeakAnno.Rcheck
Warnings: 0

Command output

##############################################################################
##############################################################################
###
### Running command:
###
###   /Library/Frameworks/R.framework/Resources/bin/R CMD check --install=check:ChIPpeakAnno.install-out.txt --library=/Library/Frameworks/R.framework/Resources/library --no-vignettes --timings ChIPpeakAnno_3.41.1.tar.gz
###
##############################################################################
##############################################################################


* using log directory ‘/Users/biocbuild/bbs-3.21-bioc/meat/ChIPpeakAnno.Rcheck’
* using R Under development (unstable) (2025-01-22 r87618)
* using platform: x86_64-apple-darwin20
* R was compiled by
    Apple clang version 14.0.0 (clang-1400.0.29.202)
    GNU Fortran (GCC) 14.2.0
* running under: macOS Monterey 12.7.6
* using session charset: UTF-8
* using option ‘--no-vignettes’
* checking for file ‘ChIPpeakAnno/DESCRIPTION’ ... OK
* checking extension type ... Package
* this is package ‘ChIPpeakAnno’ version ‘3.41.1’
* package encoding: UTF-8
* checking package namespace information ... OK
* checking package dependencies ... INFO
Imports includes 29 non-default packages.
Importing from so many packages makes the package vulnerable to any of
them becoming unavailable.  Move as many as possible to Suggests and
use conditionally.
* checking if this is a source package ... OK
* checking if there is a namespace ... OK
* checking for hidden files and directories ... OK
* checking for portable file names ... OK
* checking for sufficient/correct file permissions ... OK
* checking whether package ‘ChIPpeakAnno’ can be installed ... OK
* checking installed package size ... INFO
  installed size is 21.1Mb
  sub-directories of 1Mb or more:
    R         1.0Mb
    data     12.6Mb
    extdata   7.2Mb
* checking package directory ... OK
* checking ‘build’ directory ... OK
* checking DESCRIPTION meta-information ... OK
* checking top-level files ... OK
* checking for left-over files ... OK
* checking index information ... OK
* checking package subdirectories ... OK
* checking code files for non-ASCII characters ... OK
* checking R files for syntax errors ... OK
* checking whether the package can be loaded ... OK
* checking whether the package can be loaded with stated dependencies ... OK
* checking whether the package can be unloaded cleanly ... OK
* checking whether the namespace can be loaded with stated dependencies ... OK
* checking whether the namespace can be unloaded cleanly ... OK
* checking dependencies in R code ... OK
* checking S3 generic/method consistency ... OK
* checking replacement functions ... OK
* checking foreign function calls ... OK
* checking R code for possible problems ... OK
* checking Rd files ... OK
* checking Rd metadata ... OK
* checking Rd cross-references ... OK
* checking for missing documentation entries ... OK
* checking for code/documentation mismatches ... OK
* checking Rd \usage sections ... OK
* checking Rd contents ... OK
* checking for unstated dependencies in examples ... OK
* checking contents of ‘data’ directory ... OK
* checking data for non-ASCII characters ... OK
* checking LazyData ... OK
* checking data for ASCII and uncompressed saves ... OK
* checking files in ‘vignettes’ ... OK
* checking examples ... OK
Examples with CPU (user + system) or elapsed time > 5s
                           user system elapsed
findEnhancers            28.086  0.944  29.204
findMotifsInPromoterSeqs 16.169  0.344  16.794
annotatePeakInBatch      14.347  0.753  15.214
summarizeOverlapsByBins   5.694  0.502   5.913
* checking for unstated dependencies in ‘tests’ ... OK
* checking tests ...
  Running ‘runTests.R’
 OK
* checking for unstated dependencies in vignettes ... OK
* checking package vignettes ... OK
* checking running R code from vignettes ... SKIPPED
* checking re-building of vignette outputs ... SKIPPED
* checking PDF version of manual ... OK
* DONE

Status: OK


Installation output

ChIPpeakAnno.Rcheck/00install.out

##############################################################################
##############################################################################
###
### Running command:
###
###   /Library/Frameworks/R.framework/Resources/bin/R CMD INSTALL ChIPpeakAnno
###
##############################################################################
##############################################################################


* installing to library ‘/Library/Frameworks/R.framework/Versions/4.5-x86_64/Resources/library’
* installing *source* package ‘ChIPpeakAnno’ ...
** this is package ‘ChIPpeakAnno’ version ‘3.41.1’
** using staged installation
** R
** data
*** moving datasets to lazyload DB
** inst
** byte-compile and prepare package for lazy loading
** help
*** installing help indices
** building package indices
** installing vignettes
** testing if installed package can be loaded from temporary location
** testing if installed package can be loaded from final location
** testing if installed package keeps a record of temporary installation path
* DONE (ChIPpeakAnno)

Tests output

ChIPpeakAnno.Rcheck/tests/runTests.Rout


R Under development (unstable) (2025-01-22 r87618) -- "Unsuffered Consequences"
Copyright (C) 2025 The R Foundation for Statistical Computing
Platform: x86_64-apple-darwin20

R is free software and comes with ABSOLUTELY NO WARRANTY.
You are welcome to redistribute it under certain conditions.
Type 'license()' or 'licence()' for distribution details.

R is a collaborative project with many contributors.
Type 'contributors()' for more information and
'citation()' on how to cite R or R packages in publications.

Type 'demo()' for some demos, 'help()' for on-line help, or
'help.start()' for an HTML browser interface to help.
Type 'q()' to quit R.

> require("ChIPpeakAnno") || stop("unable to load Package:ChIPpeakAnno")
Loading required package: ChIPpeakAnno
Loading required package: IRanges
Loading required package: BiocGenerics
Loading required package: generics

Attaching package: 'generics'

The following objects are masked from 'package:base':

    as.difftime, as.factor, as.ordered, intersect, is.element, setdiff,
    setequal, union


Attaching package: 'BiocGenerics'

The following objects are masked from 'package:stats':

    IQR, mad, sd, var, xtabs

The following objects are masked from 'package:base':

    Filter, Find, Map, Position, Reduce, anyDuplicated, aperm, append,
    as.data.frame, basename, cbind, colnames, dirname, do.call,
    duplicated, eval, evalq, get, grep, grepl, is.unsorted, lapply,
    mapply, match, mget, order, paste, pmax, pmax.int, pmin, pmin.int,
    rank, rbind, rownames, sapply, saveRDS, table, tapply, unique,
    unsplit, which.max, which.min

Loading required package: S4Vectors
Loading required package: stats4

Attaching package: 'S4Vectors'

The following object is masked from 'package:utils':

    findMatches

The following objects are masked from 'package:base':

    I, expand.grid, unname

Loading required package: GenomicRanges
Loading required package: GenomeInfoDb
[1] TRUE
> require("BSgenome.Drerio.UCSC.danRer7") || stop("unable to load Package:BSgenome.Drerio.UCSC.danRer7")
Loading required package: BSgenome.Drerio.UCSC.danRer7
Loading required package: BSgenome
Loading required package: Biostrings
Loading required package: XVector

Attaching package: 'Biostrings'

The following object is masked from 'package:base':

    strsplit

Loading required package: BiocIO
Loading required package: rtracklayer

Attaching package: 'rtracklayer'

The following object is masked from 'package:BiocIO':

    FileForFormat

[1] TRUE
> require("BSgenome.Hsapiens.UCSC.hg19") || stop("unable to load Package:BSgenome.Hsapiens.UCSC.hg19")
Loading required package: BSgenome.Hsapiens.UCSC.hg19
[1] TRUE
> require("org.Hs.eg.db") || stop("unable to load Package:org.Hs.eg.db")
Loading required package: org.Hs.eg.db
Loading required package: AnnotationDbi
Loading required package: Biobase
Welcome to Bioconductor

    Vignettes contain introductory material; view with
    'browseVignettes()'. To cite Bioconductor, see
    'citation("Biobase")', and for packages 'citation("pkgname")'.


[1] TRUE
> require("org.Ce.eg.db") || stop("unable to load Package:org.Ce.eg.db")
Loading required package: org.Ce.eg.db

[1] TRUE
> require("BSgenome.Celegans.UCSC.ce10") || stop("unable to load Package:BSgenome.Celegans.UCSC.ce10")
Loading required package: BSgenome.Celegans.UCSC.ce10
[1] TRUE
> require("EnsDb.Hsapiens.v79") || stop("unable to load Package:EnsDb.Hsapiens.v79")
Loading required package: EnsDb.Hsapiens.v79
Loading required package: ensembldb
Loading required package: GenomicFeatures
Loading required package: AnnotationFilter

Attaching package: 'ensembldb'

The following object is masked from 'package:stats':

    filter

[1] TRUE
> require("TxDb.Hsapiens.UCSC.hg38.knownGene") || stop("unable to load TxDb.Hsapiens.UCSC.hg38.knownGene")
Loading required package: TxDb.Hsapiens.UCSC.hg38.knownGene
[1] TRUE
> require("biomaRt") || stop("unable to load biomaRt")
Loading required package: biomaRt
[1] TRUE
> require("reactome.db") || stop("unable to load reactome.db")
Loading required package: reactome.db
[1] TRUE
> require("testthat") || stop("unable to load testthat")
Loading required package: testthat

Attaching package: 'testthat'

The following object is masked from 'package:AnnotationFilter':

    not

[1] TRUE
> test_check("ChIPpeakAnno")
INFO [2025-02-12 19:43:20] $cat.cex
INFO [2025-02-12 19:43:20] [1] 1
INFO [2025-02-12 19:43:20] 
INFO [2025-02-12 19:43:20] $cat.col
INFO [2025-02-12 19:43:20] [1] "black"
INFO [2025-02-12 19:43:20] 
INFO [2025-02-12 19:43:20] $cat.fontface
INFO [2025-02-12 19:43:20] [1] "plain"
INFO [2025-02-12 19:43:20] 
INFO [2025-02-12 19:43:20] $cat.fontfamily
INFO [2025-02-12 19:43:20] [1] "serif"
INFO [2025-02-12 19:43:20] 
INFO [2025-02-12 19:43:20] $x
INFO [2025-02-12 19:43:20] $x$TF1
INFO [2025-02-12 19:43:20] [1] 3 4 5
INFO [2025-02-12 19:43:20] 
INFO [2025-02-12 19:43:20] $x$TF2
INFO [2025-02-12 19:43:20] [1] 1 2 3 4 5
INFO [2025-02-12 19:43:20] 
INFO [2025-02-12 19:43:20] 
INFO [2025-02-12 19:43:20] $disable.logging
INFO [2025-02-12 19:43:20] [1] TRUE
INFO [2025-02-12 19:43:20] 
INFO [2025-02-12 19:43:20] $filename
INFO [2025-02-12 19:43:20] NULL
INFO [2025-02-12 19:43:20] 
INFO [2025-02-12 19:43:20] $cat.cex
INFO [2025-02-12 19:43:20] [1] 1
INFO [2025-02-12 19:43:20] 
INFO [2025-02-12 19:43:20] $cat.col
INFO [2025-02-12 19:43:20] [1] "black"
INFO [2025-02-12 19:43:20] 
INFO [2025-02-12 19:43:20] $cat.fontface
INFO [2025-02-12 19:43:20] [1] "plain"
INFO [2025-02-12 19:43:20] 
INFO [2025-02-12 19:43:20] $cat.fontfamily
INFO [2025-02-12 19:43:20] [1] "serif"
INFO [2025-02-12 19:43:20] 
INFO [2025-02-12 19:43:20] $x
INFO [2025-02-12 19:43:20] $x$TF1
INFO [2025-02-12 19:43:20] [1] 3 4 5
INFO [2025-02-12 19:43:20] 
INFO [2025-02-12 19:43:20] $x$TF2
INFO [2025-02-12 19:43:20] [1] 1 2 4 5
INFO [2025-02-12 19:43:20] 
INFO [2025-02-12 19:43:20] $x$TF3
INFO [2025-02-12 19:43:20] [1] 3 4 5
INFO [2025-02-12 19:43:20] 
INFO [2025-02-12 19:43:20] $x$TF4
INFO [2025-02-12 19:43:20] [1] 1 2 4 5
INFO [2025-02-12 19:43:20] 
INFO [2025-02-12 19:43:20] 
INFO [2025-02-12 19:43:20] $disable.logging
INFO [2025-02-12 19:43:20] [1] TRUE
INFO [2025-02-12 19:43:20] 
INFO [2025-02-12 19:43:20] $filename
INFO [2025-02-12 19:43:20] NULL
INFO [2025-02-12 19:43:20] 
INFO [2025-02-12 19:43:21] $scaled
INFO [2025-02-12 19:43:21] [1] FALSE
INFO [2025-02-12 19:43:21] 
INFO [2025-02-12 19:43:21] $euler.d
INFO [2025-02-12 19:43:21] [1] FALSE
INFO [2025-02-12 19:43:21] 
INFO [2025-02-12 19:43:21] $cat.cex
INFO [2025-02-12 19:43:21] [1] 1
INFO [2025-02-12 19:43:21] 
INFO [2025-02-12 19:43:21] $cat.col
INFO [2025-02-12 19:43:21] [1] "black"
INFO [2025-02-12 19:43:21] 
INFO [2025-02-12 19:43:21] $cat.fontface
INFO [2025-02-12 19:43:21] [1] "plain"
INFO [2025-02-12 19:43:21] 
INFO [2025-02-12 19:43:21] $cat.fontfamily
INFO [2025-02-12 19:43:21] [1] "serif"
INFO [2025-02-12 19:43:21] 
INFO [2025-02-12 19:43:21] $x
INFO [2025-02-12 19:43:21] $x$TF1
INFO [2025-02-12 19:43:21] [1] 1 2 3
INFO [2025-02-12 19:43:21] 
INFO [2025-02-12 19:43:21] $x$TF2
INFO [2025-02-12 19:43:21] [1] 1 2 3
INFO [2025-02-12 19:43:21] 
INFO [2025-02-12 19:43:21] 
INFO [2025-02-12 19:43:21] $disable.logging
INFO [2025-02-12 19:43:21] [1] TRUE
INFO [2025-02-12 19:43:21] 
INFO [2025-02-12 19:43:21] $filename
INFO [2025-02-12 19:43:21] NULL
INFO [2025-02-12 19:43:21] 
INFO [2025-02-12 19:43:21] $scaled
INFO [2025-02-12 19:43:21] [1] FALSE
INFO [2025-02-12 19:43:21] 
INFO [2025-02-12 19:43:21] $euler.d
INFO [2025-02-12 19:43:21] [1] FALSE
INFO [2025-02-12 19:43:21] 
INFO [2025-02-12 19:43:21] $cat.cex
INFO [2025-02-12 19:43:21] [1] 1
INFO [2025-02-12 19:43:21] 
INFO [2025-02-12 19:43:21] $cat.col
INFO [2025-02-12 19:43:21] [1] "black"
INFO [2025-02-12 19:43:21] 
INFO [2025-02-12 19:43:21] $cat.fontface
INFO [2025-02-12 19:43:21] [1] "plain"
INFO [2025-02-12 19:43:21] 
INFO [2025-02-12 19:43:21] $cat.fontfamily
INFO [2025-02-12 19:43:21] [1] "serif"
INFO [2025-02-12 19:43:21] 
INFO [2025-02-12 19:43:21] $x
INFO [2025-02-12 19:43:21] $x$TF1
INFO [2025-02-12 19:43:21] [1] 4 5 6
INFO [2025-02-12 19:43:21] 
INFO [2025-02-12 19:43:21] $x$TF2
INFO [2025-02-12 19:43:21] [1] 1 2 3
INFO [2025-02-12 19:43:21] 
INFO [2025-02-12 19:43:21] 
INFO [2025-02-12 19:43:21] $disable.logging
INFO [2025-02-12 19:43:21] [1] TRUE
INFO [2025-02-12 19:43:21] 
INFO [2025-02-12 19:43:21] $filename
INFO [2025-02-12 19:43:21] NULL
INFO [2025-02-12 19:43:21] 
INFO [2025-02-12 19:43:21] $scaled
INFO [2025-02-12 19:43:21] [1] FALSE
INFO [2025-02-12 19:43:21] 
INFO [2025-02-12 19:43:21] $euler.d
INFO [2025-02-12 19:43:21] [1] FALSE
INFO [2025-02-12 19:43:21] 
INFO [2025-02-12 19:43:21] $cat.cex
INFO [2025-02-12 19:43:21] [1] 1
INFO [2025-02-12 19:43:21] 
INFO [2025-02-12 19:43:21] $cat.col
INFO [2025-02-12 19:43:21] [1] "black"
INFO [2025-02-12 19:43:21] 
INFO [2025-02-12 19:43:21] $cat.fontface
INFO [2025-02-12 19:43:21] [1] "plain"
INFO [2025-02-12 19:43:21] 
INFO [2025-02-12 19:43:21] $cat.fontfamily
INFO [2025-02-12 19:43:21] [1] "serif"
INFO [2025-02-12 19:43:21] 
INFO [2025-02-12 19:43:21] $x
INFO [2025-02-12 19:43:21] $x$TF1
INFO [2025-02-12 19:43:21] [1] 4 5 6
INFO [2025-02-12 19:43:21] 
INFO [2025-02-12 19:43:21] $x$TF2
INFO [2025-02-12 19:43:21] [1] 1 2 3
INFO [2025-02-12 19:43:21] 
INFO [2025-02-12 19:43:21] 
INFO [2025-02-12 19:43:21] $disable.logging
INFO [2025-02-12 19:43:21] [1] TRUE
INFO [2025-02-12 19:43:21] 
INFO [2025-02-12 19:43:21] $filename
INFO [2025-02-12 19:43:21] NULL
INFO [2025-02-12 19:43:21] 
INFO [2025-02-12 19:43:22] $scaled
INFO [2025-02-12 19:43:22] [1] FALSE
INFO [2025-02-12 19:43:22] 
INFO [2025-02-12 19:43:22] $euler.d
INFO [2025-02-12 19:43:22] [1] FALSE
INFO [2025-02-12 19:43:22] 
INFO [2025-02-12 19:43:22] $cat.cex
INFO [2025-02-12 19:43:22] [1] 1
INFO [2025-02-12 19:43:22] 
INFO [2025-02-12 19:43:22] $cat.col
INFO [2025-02-12 19:43:22] [1] "black"
INFO [2025-02-12 19:43:22] 
INFO [2025-02-12 19:43:22] $cat.fontface
INFO [2025-02-12 19:43:22] [1] "plain"
INFO [2025-02-12 19:43:22] 
INFO [2025-02-12 19:43:22] $cat.fontfamily
INFO [2025-02-12 19:43:22] [1] "serif"
INFO [2025-02-12 19:43:22] 
INFO [2025-02-12 19:43:22] $x
INFO [2025-02-12 19:43:22] $x$TF1
INFO [2025-02-12 19:43:22] [1] 4 5 6
INFO [2025-02-12 19:43:22] 
INFO [2025-02-12 19:43:22] $x$TF2
INFO [2025-02-12 19:43:22] [1] 1 2 3
INFO [2025-02-12 19:43:22] 
INFO [2025-02-12 19:43:22] $x$TF3
INFO [2025-02-12 19:43:22] [1] 2 3 6
INFO [2025-02-12 19:43:22] 
INFO [2025-02-12 19:43:22] 
INFO [2025-02-12 19:43:22] $disable.logging
INFO [2025-02-12 19:43:22] [1] TRUE
INFO [2025-02-12 19:43:22] 
INFO [2025-02-12 19:43:22] $filename
INFO [2025-02-12 19:43:22] NULL
INFO [2025-02-12 19:43:22] 
INFO [2025-02-12 19:43:22] $scaled
INFO [2025-02-12 19:43:22] [1] FALSE
INFO [2025-02-12 19:43:22] 
INFO [2025-02-12 19:43:22] $euler.d
INFO [2025-02-12 19:43:22] [1] FALSE
INFO [2025-02-12 19:43:22] 
INFO [2025-02-12 19:43:22] $cat.cex
INFO [2025-02-12 19:43:22] [1] 1
INFO [2025-02-12 19:43:22] 
INFO [2025-02-12 19:43:22] $cat.col
INFO [2025-02-12 19:43:22] [1] "black"
INFO [2025-02-12 19:43:22] 
INFO [2025-02-12 19:43:22] $cat.fontface
INFO [2025-02-12 19:43:22] [1] "plain"
INFO [2025-02-12 19:43:22] 
INFO [2025-02-12 19:43:22] $cat.fontfamily
INFO [2025-02-12 19:43:22] [1] "serif"
INFO [2025-02-12 19:43:22] 
INFO [2025-02-12 19:43:22] $x
INFO [2025-02-12 19:43:22] $x$TF1
INFO [2025-02-12 19:43:22] [1] 3 4 5
INFO [2025-02-12 19:43:22] 
INFO [2025-02-12 19:43:22] $x$TF2
INFO [2025-02-12 19:43:22] [1] 1 2 5
INFO [2025-02-12 19:43:22] 
INFO [2025-02-12 19:43:22] $x$TF3
INFO [2025-02-12 19:43:22] [1] 1 2 5
INFO [2025-02-12 19:43:22] 
INFO [2025-02-12 19:43:22] 
INFO [2025-02-12 19:43:22] $disable.logging
INFO [2025-02-12 19:43:22] [1] TRUE
INFO [2025-02-12 19:43:22] 
INFO [2025-02-12 19:43:22] $filename
INFO [2025-02-12 19:43:22] NULL
INFO [2025-02-12 19:43:22] 
INFO [2025-02-12 19:43:23] $scaled
INFO [2025-02-12 19:43:23] [1] FALSE
INFO [2025-02-12 19:43:23] 
INFO [2025-02-12 19:43:23] $euler.d
INFO [2025-02-12 19:43:23] [1] FALSE
INFO [2025-02-12 19:43:23] 
INFO [2025-02-12 19:43:23] $cat.cex
INFO [2025-02-12 19:43:23] [1] 1
INFO [2025-02-12 19:43:23] 
INFO [2025-02-12 19:43:23] $cat.col
INFO [2025-02-12 19:43:23] [1] "black"
INFO [2025-02-12 19:43:23] 
INFO [2025-02-12 19:43:23] $cat.fontface
INFO [2025-02-12 19:43:23] [1] "plain"
INFO [2025-02-12 19:43:23] 
INFO [2025-02-12 19:43:23] $cat.fontfamily
INFO [2025-02-12 19:43:23] [1] "serif"
INFO [2025-02-12 19:43:23] 
INFO [2025-02-12 19:43:23] $x
INFO [2025-02-12 19:43:23] $x$TF1
INFO [2025-02-12 19:43:23] [1] 3 4 5
INFO [2025-02-12 19:43:23] 
INFO [2025-02-12 19:43:23] $x$TF2
INFO [2025-02-12 19:43:23] [1] 1 2 5
INFO [2025-02-12 19:43:23] 
INFO [2025-02-12 19:43:23] $x$TF3
INFO [2025-02-12 19:43:23] [1] 1 2 5
INFO [2025-02-12 19:43:23] 
INFO [2025-02-12 19:43:23] $x$TF4
INFO [2025-02-12 19:43:23] [1] 1 2 5
INFO [2025-02-12 19:43:23] 
INFO [2025-02-12 19:43:23] 
INFO [2025-02-12 19:43:23] $disable.logging
INFO [2025-02-12 19:43:23] [1] TRUE
INFO [2025-02-12 19:43:23] 
INFO [2025-02-12 19:43:23] $filename
INFO [2025-02-12 19:43:23] NULL
INFO [2025-02-12 19:43:23] 
[ FAIL 0 | WARN 3 | SKIP 6 | PASS 320 ]

══ Skipped tests (6) ═══════════════════════════════════════════════════════════
• empty test (6): 'test_binOverGene.R:1:1', 'test_binOverRegions.R:1:1',
  'test_enrichmentPlot.R:1:1', 'test_getAnnotation.R:1:1',
  'test_reCenterPeaks.R:1:1', 'test_write2FASTA.R:1:1'

[ FAIL 0 | WARN 3 | SKIP 6 | PASS 320 ]
> 
> proc.time()
   user  system elapsed 
196.904   6.289 207.041 

Example timings

ChIPpeakAnno.Rcheck/ChIPpeakAnno-Ex.timings

nameusersystemelapsed
ChIPpeakAnno-package0.0010.0000.001
ExonPlusUtr.human.GRCh373.2980.1023.429
HOT.spots0.1020.0080.111
IDRfilter0.0010.0000.001
Peaks.Ste12.Replicate10.0590.0030.061
Peaks.Ste12.Replicate20.0120.0020.013
Peaks.Ste12.Replicate30.0160.0020.018
TSS.human.GRCh370.1710.0110.183
TSS.human.GRCh380.1240.0090.134
TSS.human.NCBI360.0950.0070.102
TSS.mouse.GRCm380.0890.0070.097
TSS.mouse.NCBIM370.0760.0050.083
TSS.rat.RGSC3.40.0600.0040.065
TSS.rat.Rnor_5.00.0540.0050.061
TSS.zebrafish.Zv80.0600.0060.068
TSS.zebrafish.Zv90.0790.0060.085
addAncestors1.2580.0931.385
addGeneIDs2.3000.8893.220
addMetadata1.5350.0751.625
annoGR0.0000.0000.001
annoPeaks3.2190.3384.369
annotatePeakInBatch14.347 0.75315.214
annotatedPeak0.0480.0040.052
assignChromosomeRegion0.0020.0000.002
bdp0.0000.0000.001
binOverFeature0.7130.0230.741
binOverGene0.0010.0000.001
binOverRegions0.0010.0000.001
condenseMatrixByColnames0.0130.0010.014
convert2EntrezID0.5480.0160.567
countPatternInSeqs0.1830.0060.190
cumulativePercentage000
downstreams0.0230.0010.023
egOrgMap0.0010.0000.001
enrichedGO0.0020.0020.004
enrichmentPlot0.5170.0120.532
estFragmentLength0.0000.0000.001
estLibSize0.0000.0000.001
featureAlignedDistribution0.2230.0030.229
featureAlignedExtendSignal0.0010.0000.002
featureAlignedHeatmap0.3450.0040.352
featureAlignedSignal0.2090.0500.262
findEnhancers28.086 0.94429.204
findMotifsInPromoterSeqs16.169 0.34416.794
findOverlappingPeaks0.0010.0000.002
findOverlapsOfPeaks2.3000.0522.371
genomicElementDistribution0.0020.0000.003
genomicElementUpSetR0.0010.0000.001
getAllPeakSequence0.6070.0250.641
getAnnotation0.0010.0010.002
getEnrichedGO0.0100.0070.018
getEnrichedPATH0.0010.0000.001
getGO0.0000.0000.001
getGeneSeq0.0020.0000.002
getUniqueGOidCount0.0010.0000.001
getVennCounts0.0010.0010.001
hyperGtest0.0010.0000.002
makeVennDiagram0.0030.0000.003
mergePlusMinusPeaks0.0010.0000.001
metagenePlot2.6070.0892.721
myPeakList0.0130.0030.016
oligoFrequency0.1250.0080.133
oligoSummary0.0000.0000.001
peakPermTest0.0020.0010.003
peaks10.0080.0030.011
peaks20.0090.0030.011
peaks30.0100.0020.012
peaksNearBDP0.0010.0000.000
pie10.0050.0030.007
plotBinOverRegions0.0010.0010.001
preparePool0.0000.0000.001
reCenterPeaks0.0290.0000.030
summarizeOverlapsByBins5.6940.5025.913
summarizePatternInPeaks1.6820.2111.909
tileCount0.4130.3570.486
tileGRanges0.0460.0120.059
toGRanges0.1040.0130.120
translatePattern0.0000.0000.001
wgEncodeTfbsV30.1440.0150.159
write2FASTA0.0170.0030.020
xget0.1370.0150.153