| Back to Multiple platform build/check report for BioC 3.21: simplified long |
|
This page was generated on 2025-10-16 11:41 -0400 (Thu, 16 Oct 2025).
| Hostname | OS | Arch (*) | R version | Installed pkgs |
|---|---|---|---|---|
| nebbiolo1 | Linux (Ubuntu 24.04.3 LTS) | x86_64 | 4.5.1 (2025-06-13) -- "Great Square Root" | 4833 |
| merida1 | macOS 12.7.6 Monterey | x86_64 | 4.5.1 RC (2025-06-05 r88288) -- "Great Square Root" | 4614 |
| kjohnson1 | macOS 13.7.5 Ventura | arm64 | 4.5.1 Patched (2025-06-14 r88325) -- "Great Square Root" | 4555 |
| kunpeng2 | Linux (openEuler 24.03 LTS) | aarch64 | R Under development (unstable) (2025-02-19 r87757) -- "Unsuffered Consequences" | 4586 |
| Click on any hostname to see more info about the system (e.g. compilers) (*) as reported by 'uname -p', except on Windows and Mac OS X | ||||
| Package 275/2341 | Hostname | OS / Arch | INSTALL | BUILD | CHECK | BUILD BIN | ||||||||
| Cardinal 3.10.0 (landing page) Kylie Ariel Bemis
| nebbiolo1 | Linux (Ubuntu 24.04.3 LTS) / x86_64 | OK | OK | OK | |||||||||
| merida1 | macOS 12.7.6 Monterey / x86_64 | OK | OK | OK | OK | |||||||||
| kjohnson1 | macOS 13.7.5 Ventura / arm64 | OK | OK | OK | OK | |||||||||
| kunpeng2 | Linux (openEuler 24.03 LTS) / aarch64 | OK | OK | OK | ||||||||||
|
To the developers/maintainers of the Cardinal package: - Allow up to 24 hours (and sometimes 48 hours) for your latest push to git@git.bioconductor.org:packages/Cardinal.git to reflect on this report. See Troubleshooting Build Report for more information. - Use the following Renviron settings to reproduce errors and warnings. - If 'R CMD check' started to fail recently on the Linux builder(s) over a missing dependency, add the missing dependency to 'Suggests:' in your DESCRIPTION file. See Renviron.bioc for more information. - See Martin Grigorov's blog post for how to debug Linux ARM64 related issues on a x86_64 host. |
| Package: Cardinal |
| Version: 3.10.0 |
| Command: /home/biocbuild/R/R/bin/R CMD check --install=check:Cardinal.install-out.txt --library=/home/biocbuild/R/R/site-library --no-vignettes --timings Cardinal_3.10.0.tar.gz |
| StartedAt: 2025-10-14 07:09:49 -0000 (Tue, 14 Oct 2025) |
| EndedAt: 2025-10-14 07:18:37 -0000 (Tue, 14 Oct 2025) |
| EllapsedTime: 528.3 seconds |
| RetCode: 0 |
| Status: OK |
| CheckDir: Cardinal.Rcheck |
| Warnings: 0 |
##############################################################################
##############################################################################
###
### Running command:
###
### /home/biocbuild/R/R/bin/R CMD check --install=check:Cardinal.install-out.txt --library=/home/biocbuild/R/R/site-library --no-vignettes --timings Cardinal_3.10.0.tar.gz
###
##############################################################################
##############################################################################
* using log directory ‘/home/biocbuild/bbs-3.21-bioc/meat/Cardinal.Rcheck’
* using R Under development (unstable) (2025-02-19 r87757)
* using platform: aarch64-unknown-linux-gnu
* R was compiled by
aarch64-unknown-linux-gnu-gcc (GCC) 14.2.0
GNU Fortran (GCC) 14.2.0
* running under: openEuler 24.03 (LTS-SP1)
* using session charset: UTF-8
* using option ‘--no-vignettes’
* checking for file ‘Cardinal/DESCRIPTION’ ... OK
* checking extension type ... Package
* this is package ‘Cardinal’ version ‘3.10.0’
* checking package namespace information ... OK
* checking package dependencies ... OK
* checking if this is a source package ... OK
* checking if there is a namespace ... OK
* checking for hidden files and directories ... OK
* checking for portable file names ... OK
* checking for sufficient/correct file permissions ... OK
* checking whether package ‘Cardinal’ can be installed ... OK
* checking installed package size ... OK
* checking package directory ... OK
* checking ‘build’ directory ... OK
* checking DESCRIPTION meta-information ... OK
* checking top-level files ... OK
* checking for left-over files ... OK
* checking index information ... OK
* checking package subdirectories ... OK
* checking code files for non-ASCII characters ... OK
* checking R files for syntax errors ... OK
* checking whether the package can be loaded ... OK
* checking whether the package can be loaded with stated dependencies ... OK
* checking whether the package can be unloaded cleanly ... OK
* checking whether the namespace can be loaded with stated dependencies ... OK
* checking whether the namespace can be unloaded cleanly ... OK
* checking loading without being on the library search path ... OK
* checking whether startup messages can be suppressed ... OK
* checking dependencies in R code ... OK
* checking S3 generic/method consistency ... OK
* checking replacement functions ... OK
* checking foreign function calls ... OK
* checking R code for possible problems ... OK
* checking Rd files ... OK
* checking Rd metadata ... OK
* checking Rd cross-references ... NOTE
Found the following Rd file(s) with Rd \link{} targets missing package
anchors:
Cardinal-package.Rd: bplapply, simple_logger
MSImagingArrays-class.Rd: ImzMeta-class, ProcessingStep-class
MSImagingExperiment-class.Rd: ImzMeta-class, ProcessingStep-class
MeansTest.Rd: lme, chunkApply, bplapply
ResultsList-class.Rd: SimpleList-class
SpatialCV.Rd: chunkApply, bplapply, cv_do
SpatialDGMM.Rd: chunkApply, bplapply
SpatialFastmap.Rd: chunkApply, bplapply
SpatialKMeans.Rd: chunkApply, bplapply
SpatialPCA.Rd: chunkApply, bplapply, irlba
SpatialPLS.Rd: chunkApply, bplapply
SpatialResults-class.Rd: DataFrame-class
SpatialShrunkenCentroids.Rd: chunkApply, bplapply
SpectraArrays-class.Rd: SimpleList-class
SpectralImagingArrays-class.Rd: ProcessingStep-class
SpectralImagingData-class.Rd: ProcessingStep-class
SpectralImagingExperiment-class.Rd: DataFrame-class,
ProcessingStep-class
XDataFrame-class.Rd: DataFrame-class, DataFrame
colocalized.Rd: chunkApply, bplapply
estimateDomain.Rd: chunkApply, bplapply, chunkLapply
findNeighbors.Rd: sparse_mat-class
normalize.Rd: rescale_sum, rescale_rms, rescale_ref
peakAlign.Rd: chunkApply, bplapply
peakPick.Rd: estnoise_diff, estnoise_sd, estnoise_mad,
estnoise_quant, estnoise_filt, findpeaks_cwt
peakProcess.Rd: chunkApply, bplapply
plot-image.Rd: enhance, filt2, plot_image
plot-spectra.Rd: downsample, plot_signal
process.Rd: chunkApply, bplapply
readMSIData.Rd: matter, chunkApply, bplapply
recalibrate.Rd: warp1_loc, warp1_dtw, warp1_cow
reduceBaseline.Rd: estbase_loc, estbase_hull, estbase_snip,
estbase_med
simulateSpectra.Rd: chunkApply, bplapply
smooth.Rd: filt1_gauss, filt1_bi, filt1_adapt, filt1_diff,
filt1_guide, filt1_pag, filt1_sg, filt1_ma
spatialDists.Rd: chunkApply, bplapply
spatialWeights.Rd: chunkApply, bplapply, sparse_mat-class
spectrapply.Rd: chunkApply, bplapply
summarize.Rd: chunkApply, bplapply
writeMSIData.Rd: chunkApply, bplapply
Please provide package anchors for all Rd \link{} targets not in the
package itself and the base packages.
* checking for missing documentation entries ... OK
* checking for code/documentation mismatches ... OK
* checking Rd \usage sections ... OK
* checking Rd contents ... OK
* checking for unstated dependencies in examples ... OK
* checking files in ‘vignettes’ ... OK
* checking examples ... OK
Examples with CPU (user + system) or elapsed time > 5s
user system elapsed
MeansTest 20.418 0.606 21.073
plot-image 7.566 0.004 7.589
* checking for unstated dependencies in ‘tests’ ... OK
* checking tests ...
Running ‘testthat.R’
OK
* checking for unstated dependencies in vignettes ... OK
* checking package vignettes ... OK
* checking running R code from vignettes ... SKIPPED
* checking re-building of vignette outputs ... SKIPPED
* checking PDF version of manual ... OK
* DONE
Status: 1 NOTE
See
‘/home/biocbuild/bbs-3.21-bioc/meat/Cardinal.Rcheck/00check.log’
for details.
Cardinal.Rcheck/00install.out
############################################################################## ############################################################################## ### ### Running command: ### ### /home/biocbuild/R/R/bin/R CMD INSTALL Cardinal ### ############################################################################## ############################################################################## * installing to library ‘/home/biocbuild/R/R-devel_2025-02-19/site-library’ * installing *source* package ‘Cardinal’ ... ** this is package ‘Cardinal’ version ‘3.10.0’ ** using staged installation ** R ** inst ** byte-compile and prepare package for lazy loading ** help *** installing help indices ** building package indices ** installing vignettes ** testing if installed package can be loaded from temporary location ** testing if installed package can be loaded from final location ** testing if installed package keeps a record of temporary installation path * DONE (Cardinal)
Cardinal.Rcheck/tests/testthat.Rout
R Under development (unstable) (2025-02-19 r87757) -- "Unsuffered Consequences"
Copyright (C) 2025 The R Foundation for Statistical Computing
Platform: aarch64-unknown-linux-gnu
R is free software and comes with ABSOLUTELY NO WARRANTY.
You are welcome to redistribute it under certain conditions.
Type 'license()' or 'licence()' for distribution details.
R is a collaborative project with many contributors.
Type 'contributors()' for more information and
'citation()' on how to cite R or R packages in publications.
Type 'demo()' for some demos, 'help()' for on-line help, or
'help.start()' for an HTML browser interface to help.
Type 'q()' to quit R.
> library(testthat)
> library(Cardinal)
Loading required package: BiocParallel
Loading required package: BiocGenerics
Loading required package: generics
Attaching package: 'generics'
The following objects are masked from 'package:base':
as.difftime, as.factor, as.ordered, intersect, is.element, setdiff,
setequal, union
Attaching package: 'BiocGenerics'
The following objects are masked from 'package:stats':
IQR, mad, sd, var, xtabs
The following objects are masked from 'package:base':
Filter, Find, Map, Position, Reduce, anyDuplicated, aperm, append,
as.data.frame, basename, cbind, colnames, dirname, do.call,
duplicated, eval, evalq, get, grep, grepl, is.unsorted, lapply,
mapply, match, mget, order, paste, pmax, pmax.int, pmin, pmin.int,
rank, rbind, rownames, sapply, saveRDS, table, tapply, unique,
unsplit, which.max, which.min
Loading required package: ProtGenerics
Attaching package: 'ProtGenerics'
The following object is masked from 'package:stats':
smooth
Loading required package: S4Vectors
Loading required package: stats4
Attaching package: 'S4Vectors'
The following object is masked from 'package:utils':
findMatches
The following objects are masked from 'package:base':
I, expand.grid, unname
>
> test_check("Cardinal")
[ FAIL 0 | WARN 198 | SKIP 0 | PASS 756 ]
[ FAIL 0 | WARN 198 | SKIP 0 | PASS 756 ]
>
> proc.time()
user system elapsed
280.087 5.518 284.206
Cardinal.Rcheck/Cardinal-Ex.timings
| name | user | system | elapsed | |
| MSImagingArrays-class | 0.249 | 0.040 | 0.290 | |
| MSImagingExperiment-class | 0.182 | 0.028 | 0.210 | |
| MassDataFrame-class | 0.04 | 0.00 | 0.04 | |
| MeansTest | 20.418 | 0.606 | 21.073 | |
| PositionDataFrame-class | 0.077 | 0.000 | 0.077 | |
| SpatialDGMM | 4.171 | 0.012 | 4.192 | |
| SpatialFastmap | 3.278 | 0.060 | 3.345 | |
| SpatialKMeans | 3.326 | 0.004 | 3.337 | |
| SpatialNMF | 3.177 | 0.004 | 3.188 | |
| SpatialPCA | 3.053 | 0.000 | 3.061 | |
| SpatialPLS | 3.555 | 0.056 | 3.619 | |
| SpatialShrunkenCentroids | 4.447 | 0.004 | 4.461 | |
| SpectraArrays-class | 0.011 | 0.000 | 0.011 | |
| SpectralImagingArrays-class | 0.095 | 0.000 | 0.095 | |
| SpectralImagingExperiment-class | 0.096 | 0.000 | 0.096 | |
| XDataFrame-class | 0.038 | 0.000 | 0.038 | |
| bin | 0.753 | 0.000 | 0.755 | |
| colocalized | 3.153 | 0.008 | 3.168 | |
| features | 2.914 | 0.000 | 2.920 | |
| findNeighbors | 0.067 | 0.004 | 0.072 | |
| normalize | 0.685 | 0.000 | 0.687 | |
| peakAlign | 0.940 | 0.000 | 0.942 | |
| peakPick | 1.088 | 0.000 | 1.091 | |
| peakProcess | 0.992 | 0.004 | 0.999 | |
| pixels | 3.482 | 0.004 | 3.495 | |
| plot-image | 7.566 | 0.004 | 7.589 | |
| plot-spectra | 0.963 | 0.000 | 0.966 | |
| process | 0.955 | 0.003 | 0.960 | |
| recalibrate | 1.062 | 0.004 | 1.069 | |
| reduceBaseline | 0.876 | 0.004 | 0.883 | |
| simulateSpectra | 3.342 | 0.000 | 3.350 | |
| sliceImage | 3.014 | 0.000 | 3.021 | |
| smooth | 0.880 | 0.000 | 0.882 | |
| spatialDists | 3.290 | 0.000 | 3.298 | |
| spatialWeights | 3.309 | 0.000 | 3.318 | |
| spectrapply | 3.057 | 0.000 | 3.063 | |
| subset | 3.336 | 0.000 | 3.344 | |
| summarize | 3.376 | 0.000 | 3.384 | |