| Back to Multiple platform build/check report for BioC 3.21: simplified long |
|
This page was generated on 2025-10-16 11:41 -0400 (Thu, 16 Oct 2025).
| Hostname | OS | Arch (*) | R version | Installed pkgs |
|---|---|---|---|---|
| nebbiolo1 | Linux (Ubuntu 24.04.3 LTS) | x86_64 | 4.5.1 (2025-06-13) -- "Great Square Root" | 4833 |
| merida1 | macOS 12.7.6 Monterey | x86_64 | 4.5.1 RC (2025-06-05 r88288) -- "Great Square Root" | 4614 |
| kjohnson1 | macOS 13.7.5 Ventura | arm64 | 4.5.1 Patched (2025-06-14 r88325) -- "Great Square Root" | 4555 |
| kunpeng2 | Linux (openEuler 24.03 LTS) | aarch64 | R Under development (unstable) (2025-02-19 r87757) -- "Unsuffered Consequences" | 4586 |
| Click on any hostname to see more info about the system (e.g. compilers) (*) as reported by 'uname -p', except on Windows and Mac OS X | ||||
| Package 467/2341 | Hostname | OS / Arch | INSTALL | BUILD | CHECK | BUILD BIN | ||||||||
| CRISPRseek 1.48.0 (landing page) Lihua Julie Zhu
| nebbiolo1 | Linux (Ubuntu 24.04.3 LTS) / x86_64 | OK | OK | OK | |||||||||
| merida1 | macOS 12.7.6 Monterey / x86_64 | OK | OK | TIMEOUT | OK | |||||||||
| kjohnson1 | macOS 13.7.5 Ventura / arm64 | OK | OK | TIMEOUT | OK | |||||||||
| kunpeng2 | Linux (openEuler 24.03 LTS) / aarch64 | OK | OK | OK | ||||||||||
|
To the developers/maintainers of the CRISPRseek package: - Allow up to 24 hours (and sometimes 48 hours) for your latest push to git@git.bioconductor.org:packages/CRISPRseek.git to reflect on this report. See Troubleshooting Build Report for more information. - Use the following Renviron settings to reproduce errors and warnings. - If 'R CMD check' started to fail recently on the Linux builder(s) over a missing dependency, add the missing dependency to 'Suggests:' in your DESCRIPTION file. See Renviron.bioc for more information. - See Martin Grigorov's blog post for how to debug Linux ARM64 related issues on a x86_64 host. |
| Package: CRISPRseek |
| Version: 1.48.0 |
| Command: /home/biocbuild/R/R/bin/R CMD check --install=check:CRISPRseek.install-out.txt --library=/home/biocbuild/R/R/site-library --no-vignettes --timings CRISPRseek_1.48.0.tar.gz |
| StartedAt: 2025-10-14 07:56:30 -0000 (Tue, 14 Oct 2025) |
| EndedAt: 2025-10-14 08:29:49 -0000 (Tue, 14 Oct 2025) |
| EllapsedTime: 1999.2 seconds |
| RetCode: 0 |
| Status: OK |
| CheckDir: CRISPRseek.Rcheck |
| Warnings: 0 |
##############################################################################
##############################################################################
###
### Running command:
###
### /home/biocbuild/R/R/bin/R CMD check --install=check:CRISPRseek.install-out.txt --library=/home/biocbuild/R/R/site-library --no-vignettes --timings CRISPRseek_1.48.0.tar.gz
###
##############################################################################
##############################################################################
* using log directory ‘/home/biocbuild/bbs-3.21-bioc/meat/CRISPRseek.Rcheck’
* using R Under development (unstable) (2025-02-19 r87757)
* using platform: aarch64-unknown-linux-gnu
* R was compiled by
aarch64-unknown-linux-gnu-gcc (GCC) 14.2.0
GNU Fortran (GCC) 14.2.0
* running under: openEuler 24.03 (LTS-SP1)
* using session charset: UTF-8
* using option ‘--no-vignettes’
* checking for file ‘CRISPRseek/DESCRIPTION’ ... OK
* this is package ‘CRISPRseek’ version ‘1.48.0’
* package encoding: UTF-8
* checking package namespace information ... OK
* checking package dependencies ... OK
* checking if this is a source package ... OK
* checking if there is a namespace ... OK
* checking for hidden files and directories ... OK
* checking for portable file names ... OK
* checking for sufficient/correct file permissions ... OK
* checking whether package ‘CRISPRseek’ can be installed ... OK
* checking installed package size ... INFO
installed size is 13.3Mb
sub-directories of 1Mb or more:
extdata 12.9Mb
* checking package directory ... OK
* checking ‘build’ directory ... OK
* checking DESCRIPTION meta-information ... OK
* checking top-level files ... OK
* checking for left-over files ... OK
* checking index information ... OK
* checking package subdirectories ... OK
* checking code files for non-ASCII characters ... OK
* checking R files for syntax errors ... OK
* checking whether the package can be loaded ... OK
* checking whether the package can be loaded with stated dependencies ... OK
* checking whether the package can be unloaded cleanly ... OK
* checking whether the namespace can be loaded with stated dependencies ... OK
* checking whether the namespace can be unloaded cleanly ... OK
* checking loading without being on the library search path ... OK
* checking dependencies in R code ... OK
* checking S3 generic/method consistency ... OK
* checking replacement functions ... OK
* checking foreign function calls ... OK
* checking R code for possible problems ... OK
* checking Rd files ... OK
* checking Rd metadata ... OK
* checking Rd cross-references ... OK
* checking for missing documentation entries ... OK
* checking for code/documentation mismatches ... OK
* checking Rd \usage sections ... OK
* checking Rd contents ... OK
* checking for unstated dependencies in examples ... OK
* checking files in ‘vignettes’ ... OK
* checking examples ... OK
Examples with CPU (user + system) or elapsed time > 5s
user system elapsed
offTargetAnalysis 95.332 4.024 99.839
compare2Sequences 11.011 0.599 11.633
annotateOffTargets 7.771 0.292 8.080
filterOffTarget 4.983 0.176 5.168
* checking for unstated dependencies in ‘tests’ ... OK
* checking tests ...
Running ‘testthat.R’
OK
* checking for unstated dependencies in vignettes ... OK
* checking package vignettes ... OK
* checking running R code from vignettes ... SKIPPED
* checking re-building of vignette outputs ... SKIPPED
* checking PDF version of manual ... OK
* DONE
Status: OK
CRISPRseek.Rcheck/00install.out
############################################################################## ############################################################################## ### ### Running command: ### ### /home/biocbuild/R/R/bin/R CMD INSTALL CRISPRseek ### ############################################################################## ############################################################################## * installing to library ‘/home/biocbuild/R/R-devel_2025-02-19/site-library’ * installing *source* package ‘CRISPRseek’ ... ** this is package ‘CRISPRseek’ version ‘1.48.0’ ** using staged installation ** R ** inst ** byte-compile and prepare package for lazy loading ** help *** installing help indices ** building package indices ** installing vignettes ** testing if installed package can be loaded from temporary location ** testing if installed package can be loaded from final location ** testing if installed package keeps a record of temporary installation path * DONE (CRISPRseek)
CRISPRseek.Rcheck/tests/testthat.Rout
R Under development (unstable) (2025-02-19 r87757) -- "Unsuffered Consequences"
Copyright (C) 2025 The R Foundation for Statistical Computing
Platform: aarch64-unknown-linux-gnu
R is free software and comes with ABSOLUTELY NO WARRANTY.
You are welcome to redistribute it under certain conditions.
Type 'license()' or 'licence()' for distribution details.
R is a collaborative project with many contributors.
Type 'contributors()' for more information and
'citation()' on how to cite R or R packages in publications.
Type 'demo()' for some demos, 'help()' for on-line help, or
'help.start()' for an HTML browser interface to help.
Type 'q()' to quit R.
> dependencies <- c("CRISPRseek",
+ "BSgenome.Hsapiens.UCSC.hg19",
+ "org.Hs.eg.db",
+ "TxDb.Hsapiens.UCSC.hg19.knownGene",
+ "BSgenome.Mmusculus.UCSC.mm10",
+ "org.Mm.eg.db",
+ "TxDb.Mmusculus.UCSC.mm10.knownGene",
+ "testthat")
> sapply(dependencies, function(x) ifelse(do.call(require, list(x)), "okay", abort(x, "is not loaded for unit testing!")))
Loading required package: CRISPRseek
Loading required package: BiocGenerics
Loading required package: generics
Attaching package: 'generics'
The following objects are masked from 'package:base':
as.difftime, as.factor, as.ordered, intersect, is.element, setdiff,
setequal, union
Attaching package: 'BiocGenerics'
The following objects are masked from 'package:stats':
IQR, mad, sd, var, xtabs
The following objects are masked from 'package:base':
Filter, Find, Map, Position, Reduce, anyDuplicated, aperm, append,
as.data.frame, basename, cbind, colnames, dirname, do.call,
duplicated, eval, evalq, get, grep, grepl, is.unsorted, lapply,
mapply, match, mget, order, paste, pmax, pmax.int, pmin, pmin.int,
rank, rbind, rownames, sapply, saveRDS, table, tapply, unique,
unsplit, which.max, which.min
Loading required package: Biostrings
Loading required package: S4Vectors
Loading required package: stats4
Attaching package: 'S4Vectors'
The following object is masked from 'package:utils':
findMatches
The following objects are masked from 'package:base':
I, expand.grid, unname
Loading required package: IRanges
Loading required package: XVector
Loading required package: GenomeInfoDb
Attaching package: 'Biostrings'
The following object is masked from 'package:base':
strsplit
Loading required package: GenomicFeatures
Loading required package: GenomicRanges
Loading required package: AnnotationDbi
Loading required package: Biobase
Welcome to Bioconductor
Vignettes contain introductory material; view with
'browseVignettes()'. To cite Bioconductor, see
'citation("Biobase")', and for packages 'citation("pkgname")'.
Loading required package: BSgenome.Hsapiens.UCSC.hg19
Loading required package: BSgenome
Loading required package: BiocIO
Loading required package: rtracklayer
Loading required package: org.Hs.eg.db
Loading required package: TxDb.Hsapiens.UCSC.hg19.knownGene
Loading required package: BSgenome.Mmusculus.UCSC.mm10
Loading required package: org.Mm.eg.db
Loading required package: TxDb.Mmusculus.UCSC.mm10.knownGene
Loading required package: testthat
CRISPRseek BSgenome.Hsapiens.UCSC.hg19
"okay" "okay"
org.Hs.eg.db TxDb.Hsapiens.UCSC.hg19.knownGene
"okay" "okay"
BSgenome.Mmusculus.UCSC.mm10 org.Mm.eg.db
"okay" "okay"
TxDb.Mmusculus.UCSC.mm10.knownGene testthat
"okay" "okay"
> if (Sys.info()["sysname"] == "Windows") {
+ message("Skipping test_check() on Windows as it takes too long ...")
+ } else {
+ test_check("CRISPRseek")
+ }
search for gRNAs for input file1...
search for gRNAs for input file2...
[1] "Scoring ..."
finish off-target search in sequence 2
finish off-target search in sequence 1
finish feature vector building
finish score calculation
[1] "Done!"
search for gRNAs for input file1...
search for gRNAs for input file2...
[1] "Scoring ..."
finish off-target search in sequence 2
finish off-target search in sequence 1
finish feature vector building
finish score calculation
[1] "Done!"
search for gRNAs for input file1...
search for gRNAs for input file2...
[1] "Scoring ..."
finish off-target search in sequence 2
finish off-target search in sequence 1
finish feature vector building
finish score calculation
[1] "Done!"
search for gRNAs for input file1...
[1] "Scoring ..."
finish off-target search in sequence 2
finish off-target search in sequence 1
finish feature vector building
finish score calculation
[1] "Done!"
[1] "Scoring ..."
finish off-target search in sequence 2
finish off-target search in sequence 1
finish feature vector building
finish score calculation
[1] "Done!"
testing gRNAs provided and filter gRNAs with RE for offTargetAnalysis
testing gRNAs provided without filtering gRNAs with RE for offTargetAnalysis
checking N in PAM...[ FAIL 0 | WARN 0 | SKIP 0 | PASS 65 ]
>
> proc.time()
user system elapsed
1472.836 25.535 1505.529
CRISPRseek.Rcheck/CRISPRseek-Ex.timings
| name | user | system | elapsed | |
| annotateOffTargets | 7.771 | 0.292 | 8.080 | |
| buildFeatureVectorForScoring | 0.141 | 0.000 | 0.140 | |
| calculategRNAEfficiency | 0.021 | 0.002 | 0.023 | |
| chromToExclude_default | 0 | 0 | 0 | |
| compare2Sequences | 11.011 | 0.599 | 11.633 | |
| deepCpf1 | 0.079 | 0.004 | 0.083 | |
| filterOffTarget | 4.983 | 0.176 | 5.168 | |
| filtergRNAs | 0.919 | 0.076 | 0.998 | |
| findgRNAs | 0.620 | 0.032 | 0.655 | |
| getOfftargetScore | 0.116 | 0.000 | 0.116 | |
| getOfftargetWithBulge | 0.000 | 0.002 | 0.001 | |
| isPatternUnique | 0.017 | 0.002 | 0.018 | |
| offTargetAnalysis | 95.332 | 4.024 | 99.839 | |
| predictRelativeFreqIndels | 0.000 | 0.000 | 0.001 | |
| searchHits | 0.290 | 0.028 | 0.319 | |
| searchHits2 | 3.294 | 0.064 | 3.365 | |
| translatePattern | 0.000 | 0.000 | 0.001 | |
| uniqueREs | 0.454 | 0.012 | 0.469 | |
| writeHits | 0.001 | 0.000 | 0.001 | |
| writeHits2 | 0.189 | 0.004 | 0.193 | |