| Back to Multiple platform build/check report for BioC 3.21: simplified long |
|
This page was generated on 2025-10-16 11:38 -0400 (Thu, 16 Oct 2025).
| Hostname | OS | Arch (*) | R version | Installed pkgs |
|---|---|---|---|---|
| nebbiolo1 | Linux (Ubuntu 24.04.3 LTS) | x86_64 | 4.5.1 (2025-06-13) -- "Great Square Root" | 4833 |
| merida1 | macOS 12.7.6 Monterey | x86_64 | 4.5.1 RC (2025-06-05 r88288) -- "Great Square Root" | 4614 |
| kjohnson1 | macOS 13.7.5 Ventura | arm64 | 4.5.1 Patched (2025-06-14 r88325) -- "Great Square Root" | 4555 |
| kunpeng2 | Linux (openEuler 24.03 LTS) | aarch64 | R Under development (unstable) (2025-02-19 r87757) -- "Unsuffered Consequences" | 4586 |
| Click on any hostname to see more info about the system (e.g. compilers) (*) as reported by 'uname -p', except on Windows and Mac OS X | ||||
| Package 457/2341 | Hostname | OS / Arch | INSTALL | BUILD | CHECK | BUILD BIN | ||||||||
| CPSM 1.0.0 (landing page) Harpreet Kaur
| nebbiolo1 | Linux (Ubuntu 24.04.3 LTS) / x86_64 | OK | OK | OK | |||||||||
| merida1 | macOS 12.7.6 Monterey / x86_64 | OK | OK | OK | OK | |||||||||
| kjohnson1 | macOS 13.7.5 Ventura / arm64 | OK | OK | OK | OK | |||||||||
| kunpeng2 | Linux (openEuler 24.03 LTS) / aarch64 | OK | OK | OK | ||||||||||
|
To the developers/maintainers of the CPSM package: - Allow up to 24 hours (and sometimes 48 hours) for your latest push to git@git.bioconductor.org:packages/CPSM.git to reflect on this report. See Troubleshooting Build Report for more information. - Use the following Renviron settings to reproduce errors and warnings. - If 'R CMD check' started to fail recently on the Linux builder(s) over a missing dependency, add the missing dependency to 'Suggests:' in your DESCRIPTION file. See Renviron.bioc for more information. |
| Package: CPSM |
| Version: 1.0.0 |
| Command: /Library/Frameworks/R.framework/Resources/bin/R CMD check --install=check:CPSM.install-out.txt --library=/Library/Frameworks/R.framework/Resources/library --no-vignettes --timings CPSM_1.0.0.tar.gz |
| StartedAt: 2025-10-14 02:03:33 -0400 (Tue, 14 Oct 2025) |
| EndedAt: 2025-10-14 02:13:23 -0400 (Tue, 14 Oct 2025) |
| EllapsedTime: 590.7 seconds |
| RetCode: 0 |
| Status: OK |
| CheckDir: CPSM.Rcheck |
| Warnings: 0 |
##############################################################################
##############################################################################
###
### Running command:
###
### /Library/Frameworks/R.framework/Resources/bin/R CMD check --install=check:CPSM.install-out.txt --library=/Library/Frameworks/R.framework/Resources/library --no-vignettes --timings CPSM_1.0.0.tar.gz
###
##############################################################################
##############################################################################
* using log directory ‘/Users/biocbuild/bbs-3.21-bioc/meat/CPSM.Rcheck’
* using R version 4.5.1 RC (2025-06-05 r88288)
* using platform: x86_64-apple-darwin20
* R was compiled by
Apple clang version 14.0.0 (clang-1400.0.29.202)
GNU Fortran (GCC) 14.2.0
* running under: macOS Monterey 12.7.6
* using session charset: UTF-8
* using option ‘--no-vignettes’
* checking for file ‘CPSM/DESCRIPTION’ ... OK
* checking extension type ... Package
* this is package ‘CPSM’ version ‘1.0.0’
* package encoding: UTF-8
* checking package namespace information ... OK
* checking package dependencies ... OK
* checking if this is a source package ... OK
* checking if there is a namespace ... OK
* checking for hidden files and directories ... OK
* checking for portable file names ... OK
* checking for sufficient/correct file permissions ... OK
* checking whether package ‘CPSM’ can be installed ... OK
* checking installed package size ... OK
* checking package directory ... OK
* checking ‘build’ directory ... OK
* checking DESCRIPTION meta-information ... OK
* checking top-level files ... OK
* checking for left-over files ... OK
* checking index information ... OK
* checking package subdirectories ... OK
* checking code files for non-ASCII characters ... OK
* checking R files for syntax errors ... OK
* checking whether the package can be loaded ... OK
* checking whether the package can be loaded with stated dependencies ... OK
* checking whether the package can be unloaded cleanly ... OK
* checking whether the namespace can be loaded with stated dependencies ... OK
* checking whether the namespace can be unloaded cleanly ... OK
* checking dependencies in R code ... OK
* checking S3 generic/method consistency ... OK
* checking replacement functions ... OK
* checking foreign function calls ... OK
* checking R code for possible problems ... OK
* checking Rd files ... OK
* checking Rd metadata ... OK
* checking Rd cross-references ... OK
* checking for missing documentation entries ... OK
* checking for code/documentation mismatches ... OK
* checking Rd \usage sections ... OK
* checking Rd contents ... OK
* checking for unstated dependencies in examples ... OK
* checking contents of ‘data’ directory ... OK
* checking data for non-ASCII characters ... OK
* checking data for ASCII and uncompressed saves ... OK
* checking files in ‘vignettes’ ... OK
* checking examples ... OK
Examples with CPU (user + system) or elapsed time > 5s
user system elapsed
Nomogram_generate_f 6.806 0.216 7.622
* checking for unstated dependencies in ‘tests’ ... OK
* checking tests ...
Running ‘testthat.R’
OK
* checking for unstated dependencies in vignettes ... OK
* checking package vignettes ... OK
* checking running R code from vignettes ... SKIPPED
* checking re-building of vignette outputs ... SKIPPED
* checking PDF version of manual ... OK
* DONE
Status: OK
CPSM.Rcheck/00install.out
############################################################################## ############################################################################## ### ### Running command: ### ### /Library/Frameworks/R.framework/Resources/bin/R CMD INSTALL CPSM ### ############################################################################## ############################################################################## * installing to library ‘/Library/Frameworks/R.framework/Versions/4.5-x86_64/Resources/library’ * installing *source* package ‘CPSM’ ... ** this is package ‘CPSM’ version ‘1.0.0’ ** using staged installation ** R ** data ** inst ** byte-compile and prepare package for lazy loading ** help *** installing help indices ** building package indices ** installing vignettes ** testing if installed package can be loaded from temporary location ** testing if installed package can be loaded from final location ** testing if installed package keeps a record of temporary installation path * DONE (CPSM)
CPSM.Rcheck/tests/testthat.Rout
R version 4.5.1 RC (2025-06-05 r88288) -- "Great Square Root"
Copyright (C) 2025 The R Foundation for Statistical Computing
Platform: x86_64-apple-darwin20
R is free software and comes with ABSOLUTELY NO WARRANTY.
You are welcome to redistribute it under certain conditions.
Type 'license()' or 'licence()' for distribution details.
R is a collaborative project with many contributors.
Type 'contributors()' for more information and
'citation()' on how to cite R or R packages in publications.
Type 'demo()' for some demos, 'help()' for on-line help, or
'help.start()' for an HTML browser interface to help.
Type 'q()' to quit R.
> library(testthat)
> library(CPSM)
>
> test_check("CPSM")
Massage :data set has no non-missing observations
Massage :contrasts can be applied only to factors with 2 or more levels
Using IDs as id variables
The sampleTCGA-TQ-A8XE-01is not present in the Test dataset.
[ FAIL 0 | WARN 68 | SKIP 0 | PASS 18 ]
[ FAIL 0 | WARN 68 | SKIP 0 | PASS 18 ]
>
> proc.time()
user system elapsed
72.495 1.796 74.626
CPSM.Rcheck/CPSM-Ex.timings
| name | user | system | elapsed | |
| Example_TCGA_LGG_FPKM_data | 0.065 | 0.004 | 0.071 | |
| Key_Clin_feature_list | 0.001 | 0.002 | 0.005 | |
| Key_Clin_features_with_PI_list | 0.002 | 0.003 | 0.004 | |
| Key_PI_list | 0.001 | 0.002 | 0.004 | |
| Key_univariate_features_list | 0.005 | 0.002 | 0.006 | |
| Key_univariate_features_with_Clin_list | 0.003 | 0.002 | 0.006 | |
| Lasso_PI_scores_f | 2.541 | 0.071 | 2.741 | |
| MTLR_pred_model_f | 0.591 | 0.030 | 0.637 | |
| New_data | 0.034 | 0.006 | 0.039 | |
| Nomogram_generate_f | 6.806 | 0.216 | 7.622 | |
| Test_Clin | 0.001 | 0.002 | 0.004 | |
| Test_Norm_data | 0.030 | 0.005 | 0.034 | |
| Test_PI_data | 0.002 | 0.003 | 0.005 | |
| Test_Uni_sig_data | 0.003 | 0.008 | 0.011 | |
| Train_Clin | 0.003 | 0.003 | 0.005 | |
| Train_Data_Nomogram_input | 0.004 | 0.007 | 0.012 | |
| Train_Norm_data | 0.217 | 0.007 | 0.226 | |
| Train_PI_data | 0.004 | 0.008 | 0.011 | |
| Train_Uni_sig_data | 0.021 | 0.003 | 0.024 | |
| Univariate_sig_features_f | 0.003 | 0.001 | 0.004 | |
| data_process_f | 2.075 | 1.491 | 3.621 | |
| feature_list_for_Nomogram | 0.001 | 0.002 | 0.004 | |
| mean_median_surv_barplot_f | 2.252 | 0.086 | 2.354 | |
| mean_median_survival_time_data | 0.002 | 0.002 | 0.004 | |
| survCurves_data | 0.001 | 0.002 | 0.004 | |
| surv_curve_plots_f | 1.941 | 0.093 | 2.054 | |
| test_FPKM | 0.017 | 0.008 | 0.026 | |
| tr_test_f | 0.007 | 0.001 | 0.008 | |
| train_FPKM | 0.082 | 0.012 | 0.094 | |
| train_test_normalization_f | 0.047 | 0.005 | 0.052 | |