Back to Multiple platform build/check report for BioC 3.21:   simplified   long
AB[C]DEFGHIJKLMNOPQRSTUVWXYZ

This page was generated on 2025-02-15 11:42 -0500 (Sat, 15 Feb 2025).

HostnameOSArch (*)R versionInstalled pkgs
nebbiolo1Linux (Ubuntu 24.04.1 LTS)x86_64R Under development (unstable) (2025-01-20 r87609) -- "Unsuffered Consequences" 4720
palomino7Windows Server 2022 Datacenterx64R Under development (unstable) (2025-01-21 r87610 ucrt) -- "Unsuffered Consequences" 4482
lconwaymacOS 12.7.1 Montereyx86_64R Under development (unstable) (2025-01-22 r87618) -- "Unsuffered Consequences" 4493
kjohnson3macOS 13.7.1 Venturaarm64R Under development (unstable) (2025-01-20 r87609) -- "Unsuffered Consequences" 4446
Click on any hostname to see more info about the system (e.g. compilers)      (*) as reported by 'uname -p', except on Windows and Mac OS X

Package 352/2295HostnameOS / ArchINSTALLBUILDCHECKBUILD BIN
CIMICE 1.15.0  (landing page)
Nicolò Rossi
Snapshot Date: 2025-02-14 13:40 -0500 (Fri, 14 Feb 2025)
git_url: https://git.bioconductor.org/packages/CIMICE
git_branch: devel
git_last_commit: 93f6739
git_last_commit_date: 2024-10-29 10:57:21 -0500 (Tue, 29 Oct 2024)
nebbiolo1Linux (Ubuntu 24.04.1 LTS) / x86_64  OK    OK    OK  UNNEEDED, same version is already published
palomino7Windows Server 2022 Datacenter / x64  OK    OK    OK    OK  UNNEEDED, same version is already published
lconwaymacOS 12.7.1 Monterey / x86_64  OK    OK    OK    OK  UNNEEDED, same version is already published
kjohnson3macOS 13.7.1 Ventura / arm64  OK    OK    OK    OK  UNNEEDED, same version is already published


CHECK results for CIMICE on lconway

To the developers/maintainers of the CIMICE package:
- Allow up to 24 hours (and sometimes 48 hours) for your latest push to git@git.bioconductor.org:packages/CIMICE.git to reflect on this report. See Troubleshooting Build Report for more information.
- Use the following Renviron settings to reproduce errors and warnings.
- If 'R CMD check' started to fail recently on the Linux builder(s) over a missing dependency, add the missing dependency to 'Suggests:' in your DESCRIPTION file. See Renviron.bioc for more information.

raw results


Summary

Package: CIMICE
Version: 1.15.0
Command: /Library/Frameworks/R.framework/Resources/bin/R CMD check --install=check:CIMICE.install-out.txt --library=/Library/Frameworks/R.framework/Resources/library --no-vignettes --timings CIMICE_1.15.0.tar.gz
StartedAt: 2025-02-14 19:25:40 -0500 (Fri, 14 Feb 2025)
EndedAt: 2025-02-14 19:27:05 -0500 (Fri, 14 Feb 2025)
EllapsedTime: 84.9 seconds
RetCode: 0
Status:   OK  
CheckDir: CIMICE.Rcheck
Warnings: 0

Command output

##############################################################################
##############################################################################
###
### Running command:
###
###   /Library/Frameworks/R.framework/Resources/bin/R CMD check --install=check:CIMICE.install-out.txt --library=/Library/Frameworks/R.framework/Resources/library --no-vignettes --timings CIMICE_1.15.0.tar.gz
###
##############################################################################
##############################################################################


* using log directory ‘/Users/biocbuild/bbs-3.21-bioc/meat/CIMICE.Rcheck’
* using R Under development (unstable) (2025-01-22 r87618)
* using platform: x86_64-apple-darwin20
* R was compiled by
    Apple clang version 14.0.0 (clang-1400.0.29.202)
    GNU Fortran (GCC) 14.2.0
* running under: macOS Monterey 12.7.6
* using session charset: UTF-8
* using option ‘--no-vignettes’
* checking for file ‘CIMICE/DESCRIPTION’ ... OK
* checking extension type ... Package
* this is package ‘CIMICE’ version ‘1.15.0’
* package encoding: UTF-8
* checking package namespace information ... OK
* checking package dependencies ... OK
* checking if this is a source package ... OK
* checking if there is a namespace ... OK
* checking for hidden files and directories ... NOTE
Found the following hidden files and directories:
  .git.bfg-report
These were most likely included in error. See section ‘Package
structure’ in the ‘Writing R Extensions’ manual.
* checking for portable file names ... OK
* checking for sufficient/correct file permissions ... OK
* checking whether package ‘CIMICE’ can be installed ... OK
* checking installed package size ... OK
* checking package directory ... OK
* checking ‘build’ directory ... OK
* checking DESCRIPTION meta-information ... OK
* checking top-level files ... OK
* checking for left-over files ... OK
* checking index information ... OK
* checking package subdirectories ... OK
* checking code files for non-ASCII characters ... OK
* checking R files for syntax errors ... OK
* checking whether the package can be loaded ... OK
* checking whether the package can be loaded with stated dependencies ... OK
* checking whether the package can be unloaded cleanly ... OK
* checking whether the namespace can be loaded with stated dependencies ... OK
* checking whether the namespace can be unloaded cleanly ... OK
* checking dependencies in R code ... OK
* checking S3 generic/method consistency ... OK
* checking replacement functions ... OK
* checking foreign function calls ... OK
* checking R code for possible problems ... OK
* checking Rd files ... OK
* checking Rd metadata ... OK
* checking Rd cross-references ... OK
* checking for missing documentation entries ... OK
* checking for code/documentation mismatches ... OK
* checking Rd \usage sections ... OK
* checking Rd contents ... OK
* checking for unstated dependencies in examples ... OK
* checking files in ‘vignettes’ ... OK
* checking examples ... OK
* checking for unstated dependencies in ‘tests’ ... OK
* checking tests ...
  Running ‘testthat.R’
 OK
* checking for unstated dependencies in vignettes ... OK
* checking package vignettes ... OK
* checking running R code from vignettes ... SKIPPED
* checking re-building of vignette outputs ... SKIPPED
* checking PDF version of manual ... OK
* DONE

Status: 1 NOTE
See
  ‘/Users/biocbuild/bbs-3.21-bioc/meat/CIMICE.Rcheck/00check.log’
for details.


Installation output

CIMICE.Rcheck/00install.out

##############################################################################
##############################################################################
###
### Running command:
###
###   /Library/Frameworks/R.framework/Resources/bin/R CMD INSTALL CIMICE
###
##############################################################################
##############################################################################


* installing to library ‘/Library/Frameworks/R.framework/Versions/4.5-x86_64/Resources/library’
* installing *source* package ‘CIMICE’ ...
** this is package ‘CIMICE’ version ‘1.15.0’
** using staged installation
** R
** inst
** byte-compile and prepare package for lazy loading
** help
*** installing help indices
** building package indices
** installing vignettes
** testing if installed package can be loaded from temporary location
** testing if installed package can be loaded from final location
** testing if installed package keeps a record of temporary installation path
* DONE (CIMICE)

Tests output

CIMICE.Rcheck/tests/testthat.Rout


R Under development (unstable) (2025-01-22 r87618) -- "Unsuffered Consequences"
Copyright (C) 2025 The R Foundation for Statistical Computing
Platform: x86_64-apple-darwin20

R is free software and comes with ABSOLUTELY NO WARRANTY.
You are welcome to redistribute it under certain conditions.
Type 'license()' or 'licence()' for distribution details.

R is a collaborative project with many contributors.
Type 'contributors()' for more information and
'citation()' on how to cite R or R packages in publications.

Type 'demo()' for some demos, 'help()' for on-line help, or
'help.start()' for an HTML browser interface to help.
Type 'q()' to quit R.

> library(testthat)
> library(CIMICE)
> 
> test_check("CIMICE")
[ FAIL 0 | WARN 2 | SKIP 0 | PASS 1 ]

[ FAIL 0 | WARN 2 | SKIP 0 | PASS 1 ]
> 
> proc.time()
   user  system elapsed 
  2.966   0.294   3.268 

Example timings

CIMICE.Rcheck/CIMICE-Ex.timings

nameusersystemelapsed
annotate_mutational_matrix0.0320.0020.033
binary_radix_sort0.0240.0020.026
build_subset_graph0.0500.0020.052
build_topology_subset0.0430.0020.044
chunk_reader0.0060.0010.009
compact_dataset0.0080.0000.008
computeDWNW0.1350.0050.141
computeUPW0.0780.0030.081
compute_weights_default0.0680.0010.069
corrplot_from_mutational_matrix0.2840.0130.299
corrplot_genes0.3460.0030.352
corrplot_samples0.1790.0010.182
dataset_preprocessing0.0310.0010.031
dataset_preprocessing_population0.0220.0020.024
draw_ggraph0.3250.0060.334
draw_networkD30.2590.0110.276
draw_visNetwork0.0910.0190.117
example_dataset0.0030.0000.003
example_dataset_withFreqs0.0030.0000.003
finalize_generator0.4140.0050.421
fix_clonal_genotype0.0240.0010.025
format_labels0.0010.0010.001
gene_mutations_hist0.1300.0060.136
get_no_of_children0.0570.0050.062
graph_non_transitive_subset_topology0.0340.0040.038
make_dataset0.0020.0000.003
make_generator_stub0.0870.0090.097
make_labels0.0520.0050.057
normalizeDWNW0.0840.0080.092
normalizeUPW0.0720.0060.079
perturb_dataset0.1970.0060.205
plot_generator0.3640.0050.371
prepare_generator_edge_set_command0.0990.0020.101
prepare_labels0.0220.0000.023
quick_run0.0550.0010.056
read0.7470.4731.235
read_CAPRI0.7690.7511.567
read_CAPRI_string0.0030.0000.004
read_CAPRIpop0.0040.0010.006
read_CAPRIpop_string0.0050.0000.005
read_MAF0.1950.0540.250
read_matrix0.0030.0010.003
remove_transitive_edges000
sample_mutations_hist0.1420.0020.145
select_genes_on_mutations0.0050.0010.006
select_samples_on_mutations0.0240.0020.026
set_generator_edges0.1240.0040.128
simulate_generator0.1150.0040.119
to_dot0.0600.0010.060
update_df0.0170.0010.018