| Back to Multiple platform build/check report for BioC 3.21: simplified long |
|
This page was generated on 2025-10-16 11:37 -0400 (Thu, 16 Oct 2025).
| Hostname | OS | Arch (*) | R version | Installed pkgs |
|---|---|---|---|---|
| nebbiolo1 | Linux (Ubuntu 24.04.3 LTS) | x86_64 | 4.5.1 (2025-06-13) -- "Great Square Root" | 4833 |
| merida1 | macOS 12.7.6 Monterey | x86_64 | 4.5.1 RC (2025-06-05 r88288) -- "Great Square Root" | 4614 |
| kjohnson1 | macOS 13.7.5 Ventura | arm64 | 4.5.1 Patched (2025-06-14 r88325) -- "Great Square Root" | 4555 |
| kunpeng2 | Linux (openEuler 24.03 LTS) | aarch64 | R Under development (unstable) (2025-02-19 r87757) -- "Unsuffered Consequences" | 4586 |
| Click on any hostname to see more info about the system (e.g. compilers) (*) as reported by 'uname -p', except on Windows and Mac OS X | ||||
| Package 357/2341 | Hostname | OS / Arch | INSTALL | BUILD | CHECK | BUILD BIN | ||||||||
| CHRONOS 1.36.0 (landing page) Panos Balomenos
| nebbiolo1 | Linux (Ubuntu 24.04.3 LTS) / x86_64 | OK | OK | OK | |||||||||
| merida1 | macOS 12.7.6 Monterey / x86_64 | OK | OK | OK | OK | |||||||||
| kjohnson1 | macOS 13.7.5 Ventura / arm64 | OK | TIMEOUT | skipped | skipped | |||||||||
| kunpeng2 | Linux (openEuler 24.03 LTS) / aarch64 | OK | ERROR | skipped | ||||||||||
|
To the developers/maintainers of the CHRONOS package: - Allow up to 24 hours (and sometimes 48 hours) for your latest push to git@git.bioconductor.org:packages/CHRONOS.git to reflect on this report. See Troubleshooting Build Report for more information. - Use the following Renviron settings to reproduce errors and warnings. - If 'R CMD check' started to fail recently on the Linux builder(s) over a missing dependency, add the missing dependency to 'Suggests:' in your DESCRIPTION file. See Renviron.bioc for more information. |
| Package: CHRONOS |
| Version: 1.36.0 |
| Command: /home/biocbuild/bbs-3.21-bioc/R/bin/R CMD check --install=check:CHRONOS.install-out.txt --library=/home/biocbuild/bbs-3.21-bioc/R/site-library --timings CHRONOS_1.36.0.tar.gz |
| StartedAt: 2025-10-15 21:44:09 -0400 (Wed, 15 Oct 2025) |
| EndedAt: 2025-10-15 21:46:51 -0400 (Wed, 15 Oct 2025) |
| EllapsedTime: 162.2 seconds |
| RetCode: 0 |
| Status: OK |
| CheckDir: CHRONOS.Rcheck |
| Warnings: 0 |
##############################################################################
##############################################################################
###
### Running command:
###
### /home/biocbuild/bbs-3.21-bioc/R/bin/R CMD check --install=check:CHRONOS.install-out.txt --library=/home/biocbuild/bbs-3.21-bioc/R/site-library --timings CHRONOS_1.36.0.tar.gz
###
##############################################################################
##############################################################################
* using log directory ‘/home/biocbuild/bbs-3.21-bioc/meat/CHRONOS.Rcheck’
* using R version 4.5.1 (2025-06-13)
* using platform: x86_64-pc-linux-gnu
* R was compiled by
gcc (Ubuntu 13.3.0-6ubuntu2~24.04) 13.3.0
GNU Fortran (Ubuntu 13.3.0-6ubuntu2~24.04) 13.3.0
* running under: Ubuntu 24.04.3 LTS
* using session charset: UTF-8
* checking for file ‘CHRONOS/DESCRIPTION’ ... OK
* this is package ‘CHRONOS’ version ‘1.36.0’
* checking package namespace information ... OK
* checking package dependencies ... OK
* checking if this is a source package ... OK
* checking if there is a namespace ... OK
* checking for hidden files and directories ... OK
* checking for portable file names ... OK
* checking for sufficient/correct file permissions ... OK
* checking whether package ‘CHRONOS’ can be installed ... OK
* checking installed package size ... OK
* checking package directory ... OK
* checking ‘build’ directory ... OK
* checking DESCRIPTION meta-information ... OK
* checking top-level files ... OK
* checking for left-over files ... OK
* checking index information ... OK
* checking package subdirectories ... OK
* checking code files for non-ASCII characters ... OK
* checking R files for syntax errors ... OK
* checking whether the package can be loaded ... OK
* checking whether the package can be loaded with stated dependencies ... OK
* checking whether the package can be unloaded cleanly ... OK
* checking whether the namespace can be loaded with stated dependencies ... OK
* checking whether the namespace can be unloaded cleanly ... OK
* checking loading without being on the library search path ... OK
* checking whether startup messages can be suppressed ... OK
* checking dependencies in R code ... OK
* checking S3 generic/method consistency ... OK
* checking replacement functions ... OK
* checking foreign function calls ... OK
* checking R code for possible problems ... OK
* checking Rd files ... NOTE
checkRd: (-1) extractLinearSubpathways.Rd:36: Lost braces in \itemize; \value handles \item{}{} directly
checkRd: (-1) extractLinearSubpathways.Rd:37: Lost braces in \itemize; \value handles \item{}{} directly
checkRd: (-1) extractLinearSubpathways.Rd:39: Lost braces in \itemize; \value handles \item{}{} directly
checkRd: (-1) extractNonLinearSubpathways.Rd:38: Lost braces in \itemize; \value handles \item{}{} directly
checkRd: (-1) extractNonLinearSubpathways.Rd:39: Lost braces in \itemize; \value handles \item{}{} directly
checkRd: (-1) extractNonLinearSubpathways.Rd:41: Lost braces in \itemize; \value handles \item{}{} directly
* checking Rd metadata ... OK
* checking Rd cross-references ... OK
* checking for missing documentation entries ... OK
* checking for code/documentation mismatches ... OK
* checking Rd \usage sections ... OK
* checking Rd contents ... OK
* checking for unstated dependencies in examples ... OK
* checking files in ‘vignettes’ ... OK
* checking examples ... OK
Examples with CPU (user + system) or elapsed time > 5s
user system elapsed
visualizeResults 0.122 0.031 5.289
* checking for unstated dependencies in ‘tests’ ... OK
* checking tests ...
Running ‘runTests.R’
OK
* checking for unstated dependencies in vignettes ... OK
* checking package vignettes ... OK
* checking re-building of vignette outputs ... OK
* checking PDF version of manual ... OK
* DONE
Status: 1 NOTE
See
‘/home/biocbuild/bbs-3.21-bioc/meat/CHRONOS.Rcheck/00check.log’
for details.
CHRONOS.Rcheck/00install.out
############################################################################## ############################################################################## ### ### Running command: ### ### /home/biocbuild/bbs-3.21-bioc/R/bin/R CMD INSTALL CHRONOS ### ############################################################################## ############################################################################## * installing to library ‘/home/biocbuild/bbs-3.21-bioc/R/site-library’ * installing *source* package ‘CHRONOS’ ... ** this is package ‘CHRONOS’ version ‘1.36.0’ ** using staged installation ** R ** inst ** byte-compile and prepare package for lazy loading ** help *** installing help indices ** building package indices ** installing vignettes ** testing if installed package can be loaded from temporary location ** testing if installed package can be loaded from final location ** testing if installed package keeps a record of temporary installation path * DONE (CHRONOS)
CHRONOS.Rcheck/tests/runTests.Rout
R version 4.5.1 (2025-06-13) -- "Great Square Root"
Copyright (C) 2025 The R Foundation for Statistical Computing
Platform: x86_64-pc-linux-gnu
R is free software and comes with ABSOLUTELY NO WARRANTY.
You are welcome to redistribute it under certain conditions.
Type 'license()' or 'licence()' for distribution details.
R is a collaborative project with many contributors.
Type 'contributors()' for more information and
'citation()' on how to cite R or R packages in publications.
Type 'demo()' for some demos, 'help()' for on-line help, or
'help.start()' for an HTML browser interface to help.
Type 'q()' to quit R.
> BiocGenerics:::testPackage('CHRONOS')
Testing test_CHRONOSrun...Importing entrezgene data...done.
Importing miRNA data...done.
Downloading files...done.
Creating adjacency matrices...done.
Extracting Linear Subpathways...done.
#98 subpathways initially
Calculating subscores...done.
#21 subpathways after subscore.
Calculating mirscores......end.
Extracting Non Linear Subpathways...done.
#24 subpathways initially
Calculating subscores...done.
#19 subpathways after subscore.
Calculating mirscores......end.
done.
Testing test_pathwayToGraph...Creating adjacency matrices...done.
done.
Testing test_subExtractionLinear...Importing entrezgene data...done.
Extracting Linear Subpathways...done.
done.
Testing test_subExtractionNonLinear...Importing entrezgene data...done.
Extracting Non Linear Subpathways...done.
done.
Testing test_subRefinement...Importing entrezgene data...done.
Importing miRNA data...done.
#98 subpathways initially
Calculating subscores...done.
#21 subpathways after subscore.
Calculating mirscores......end.
done.
Testing test_subVisualization...Importing entrezgene data...done.
Summarising scores...done.
Summarising scores...done.
done.
RUNIT TEST PROTOCOL -- Wed Oct 15 21:46:37 2025
***********************************************
Number of test functions: 6
Number of errors: 0
Number of failures: 0
1 Test Suite :
CHRONOS RUnit Tests - 6 test functions, 0 errors, 0 failures
Number of test functions: 6
Number of errors: 0
Number of failures: 0
>
>
> proc.time()
user system elapsed
9.069 0.614 12.026
CHRONOS.Rcheck/CHRONOS-Ex.timings
| name | user | system | elapsed | |
| CHRONOSrun | 1.471 | 0.216 | 1.445 | |
| convertMiRNANomenclature | 0.008 | 0.000 | 0.008 | |
| convertNomenclature | 0 | 0 | 0 | |
| createPathwayGraphs | 0.257 | 0.095 | 0.353 | |
| downloadKEGGPathwayList | 0.028 | 0.002 | 0.029 | |
| downloadMiRecords | 0.028 | 0.001 | 0.029 | |
| downloadPathways | 0 | 0 | 0 | |
| extractLinearSubpathways | 0.460 | 0.066 | 0.370 | |
| extractNonLinearSubpathways | 0.233 | 0.031 | 0.261 | |
| getEdgeTypes | 0.001 | 0.000 | 0.002 | |
| importExpressions | 0.042 | 0.023 | 0.066 | |
| pathwayMeasures | 0.123 | 0.003 | 0.127 | |
| scoreSubpathways | 0.093 | 0.012 | 0.103 | |
| subpathwayKEGGmap | 0.026 | 0.005 | 0.031 | |
| subpathwayMiRNAs | 1.346 | 0.045 | 1.391 | |
| visualizeResults | 0.122 | 0.031 | 5.289 | |