Back to Multiple platform build/check report for BioC 3.21:   simplified   long
AB[C]DEFGHIJKLMNOPQRSTUVWXYZ

This page was generated on 2025-02-22 11:43 -0500 (Sat, 22 Feb 2025).

HostnameOSArch (*)R versionInstalled pkgs
nebbiolo1Linux (Ubuntu 24.04.1 LTS)x86_64R Under development (unstable) (2025-02-19 r87757) -- "Unsuffered Consequences" 4568
palomino7Windows Server 2022 Datacenterx64R Under development (unstable) (2025-01-21 r87610 ucrt) -- "Unsuffered Consequences" 4492
lconwaymacOS 12.7.1 Montereyx86_64R Under development (unstable) (2025-01-22 r87618) -- "Unsuffered Consequences" 4504
kjohnson3macOS 13.7.1 Venturaarm64R Under development (unstable) (2025-01-20 r87609) -- "Unsuffered Consequences" 4458
Click on any hostname to see more info about the system (e.g. compilers)      (*) as reported by 'uname -p', except on Windows and Mac OS X

Package 273/2302HostnameOS / ArchINSTALLBUILDCHECKBUILD BIN
CARDspa 0.99.5  (landing page)
Jing Fu
Snapshot Date: 2025-02-21 13:40 -0500 (Fri, 21 Feb 2025)
git_url: https://git.bioconductor.org/packages/CARDspa
git_branch: devel
git_last_commit: 31984e0
git_last_commit_date: 2025-02-06 12:40:28 -0500 (Thu, 06 Feb 2025)
nebbiolo1Linux (Ubuntu 24.04.1 LTS) / x86_64  OK    OK    ERROR  
palomino7Windows Server 2022 Datacenter / x64  OK    OK    OK    OK  UNNEEDED, same version is already published
lconwaymacOS 12.7.1 Monterey / x86_64  OK    OK    OK    OK  UNNEEDED, same version is already published
kjohnson3macOS 13.7.1 Ventura / arm64  OK    OK    OK    OK  UNNEEDED, same version is already published


BUILD results for CARDspa on kjohnson3

To the developers/maintainers of the CARDspa package:
- Allow up to 24 hours (and sometimes 48 hours) for your latest push to git@git.bioconductor.org:packages/CARDspa.git to reflect on this report. See Troubleshooting Build Report for more information.
- Use the following Renviron settings to reproduce errors and warnings.
- If 'R CMD check' started to fail recently on the Linux builder(s) over a missing dependency, add the missing dependency to 'Suggests:' in your DESCRIPTION file. See Renviron.bioc for more information.

raw results


Summary

Package: CARDspa
Version: 0.99.5
Command: /Library/Frameworks/R.framework/Resources/bin/R CMD build --keep-empty-dirs --no-resave-data CARDspa
StartedAt: 2025-02-21 15:47:36 -0500 (Fri, 21 Feb 2025)
EndedAt: 2025-02-21 15:50:22 -0500 (Fri, 21 Feb 2025)
EllapsedTime: 166.7 seconds
RetCode: 0
Status:   OK  
PackageFile: CARDspa_0.99.5.tar.gz
PackageFileSize: 4.515 MiB

Command output

##############################################################################
##############################################################################
###
### Running command:
###
###   /Library/Frameworks/R.framework/Resources/bin/R CMD build --keep-empty-dirs --no-resave-data CARDspa
###
##############################################################################
##############################################################################


* checking for file ‘CARDspa/DESCRIPTION’ ... OK
* preparing ‘CARDspa’:
* checking DESCRIPTION meta-information ... OK
* cleaning src
* installing the package to build vignettes
* creating vignettes ... OK
* cleaning src
* checking for LF line-endings in source and make files and shell scripts
* checking for empty or unneeded directories
* looking to see if a ‘data/datalist’ file should be added
* building ‘CARDspa_0.99.5.tar.gz’