Back to Multiple platform build/check report for BioC 3.21:   simplified   long
AB[C]DEFGHIJKLMNOPQRSTUVWXYZ

This page was generated on 2025-02-13 11:39 -0500 (Thu, 13 Feb 2025).

HostnameOSArch (*)R versionInstalled pkgs
nebbiolo1Linux (Ubuntu 24.04.1 LTS)x86_64R Under development (unstable) (2025-01-20 r87609) -- "Unsuffered Consequences" 4719
palomino7Windows Server 2022 Datacenterx64R Under development (unstable) (2025-01-21 r87610 ucrt) -- "Unsuffered Consequences" 4481
lconwaymacOS 12.7.1 Montereyx86_64R Under development (unstable) (2025-01-22 r87618) -- "Unsuffered Consequences" 4492
kjohnson3macOS 13.7.1 Venturaarm64R Under development (unstable) (2025-01-20 r87609) -- "Unsuffered Consequences" 4445
Click on any hostname to see more info about the system (e.g. compilers)      (*) as reported by 'uname -p', except on Windows and Mac OS X

Package 263/2295HostnameOS / ArchINSTALLBUILDCHECKBUILD BIN
CAGEr 2.13.0  (landing page)
Charles Plessy
Snapshot Date: 2025-02-12 13:40 -0500 (Wed, 12 Feb 2025)
git_url: https://git.bioconductor.org/packages/CAGEr
git_branch: devel
git_last_commit: cdfe2b1
git_last_commit_date: 2024-10-29 09:44:43 -0500 (Tue, 29 Oct 2024)
nebbiolo1Linux (Ubuntu 24.04.1 LTS) / x86_64  OK    OK    OK  UNNEEDED, same version is already published
palomino7Windows Server 2022 Datacenter / x64  OK    OK    OK    OK  UNNEEDED, same version is already published
lconwaymacOS 12.7.1 Monterey / x86_64  OK    OK    OK    OK  UNNEEDED, same version is already published
kjohnson3macOS 13.7.1 Ventura / arm64  OK    OK    OK    OK  UNNEEDED, same version is already published


CHECK results for CAGEr on nebbiolo1

To the developers/maintainers of the CAGEr package:
- Allow up to 24 hours (and sometimes 48 hours) for your latest push to git@git.bioconductor.org:packages/CAGEr.git to reflect on this report. See Troubleshooting Build Report for more information.
- Use the following Renviron settings to reproduce errors and warnings.
- If 'R CMD check' started to fail recently on the Linux builder(s) over a missing dependency, add the missing dependency to 'Suggests:' in your DESCRIPTION file. See Renviron.bioc for more information.

raw results


Summary

Package: CAGEr
Version: 2.13.0
Command: /home/biocbuild/bbs-3.21-bioc/R/bin/R CMD check --install=check:CAGEr.install-out.txt --library=/home/biocbuild/bbs-3.21-bioc/R/site-library --timings CAGEr_2.13.0.tar.gz
StartedAt: 2025-02-12 20:33:47 -0500 (Wed, 12 Feb 2025)
EndedAt: 2025-02-12 20:46:18 -0500 (Wed, 12 Feb 2025)
EllapsedTime: 751.0 seconds
RetCode: 0
Status:   OK  
CheckDir: CAGEr.Rcheck
Warnings: 0

Command output

##############################################################################
##############################################################################
###
### Running command:
###
###   /home/biocbuild/bbs-3.21-bioc/R/bin/R CMD check --install=check:CAGEr.install-out.txt --library=/home/biocbuild/bbs-3.21-bioc/R/site-library --timings CAGEr_2.13.0.tar.gz
###
##############################################################################
##############################################################################


* using log directory ‘/home/biocbuild/bbs-3.21-bioc/meat/CAGEr.Rcheck’
* using R Under development (unstable) (2025-01-20 r87609)
* using platform: x86_64-pc-linux-gnu
* R was compiled by
    gcc (Ubuntu 13.3.0-6ubuntu2~24.04) 13.3.0
    GNU Fortran (Ubuntu 13.3.0-6ubuntu2~24.04) 13.3.0
* running under: Ubuntu 24.04.1 LTS
* using session charset: UTF-8
* checking for file ‘CAGEr/DESCRIPTION’ ... OK
* this is package ‘CAGEr’ version ‘2.13.0’
* package encoding: UTF-8
* checking package namespace information ... OK
* checking package dependencies ... INFO
Imports includes 29 non-default packages.
Importing from so many packages makes the package vulnerable to any of
them becoming unavailable.  Move as many as possible to Suggests and
use conditionally.
* checking if this is a source package ... OK
* checking if there is a namespace ... OK
* checking for hidden files and directories ... OK
* checking for portable file names ... OK
* checking for sufficient/correct file permissions ... OK
* checking whether package ‘CAGEr’ can be installed ... OK
* checking installed package size ... OK
* checking package directory ... OK
* checking ‘build’ directory ... OK
* checking DESCRIPTION meta-information ... OK
* checking top-level files ... OK
* checking for left-over files ... OK
* checking index information ... OK
* checking package subdirectories ... OK
* checking code files for non-ASCII characters ... OK
* checking R files for syntax errors ... OK
* checking whether the package can be loaded ... OK
* checking whether the package can be loaded with stated dependencies ... OK
* checking whether the package can be unloaded cleanly ... OK
* checking whether the namespace can be loaded with stated dependencies ... OK
* checking whether the namespace can be unloaded cleanly ... OK
* checking loading without being on the library search path ... OK
* checking dependencies in R code ... OK
* checking S3 generic/method consistency ... OK
* checking replacement functions ... OK
* checking foreign function calls ... OK
* checking R code for possible problems ... OK
* checking Rd files ... OK
* checking Rd metadata ... OK
* checking Rd cross-references ... NOTE
Found the following Rd file(s) with Rd \link{} targets missing package
anchors:
  CAGEexp-class.Rd: MultiAssayExperiment, DataFrame, Rle
  CAGEr-class.Rd: MultiAssayExperiment
  CTSStagCount.Rd: DataFrame, Rle, RangedSummarizedExperiment
  CTSStoGenes.Rd: SummarizedExperiment
  CustomConsensusClusters.Rd: GRanges, RangedSummarizedExperiment
  TSSlogo.Rd: BSgenome
  aggregateTagClusters.Rd: RangedSummarizedExperiment
  annotateCTSS.Rd: GRanges, TxDb
  bam2CTSS.Rd: GRanges
  byCtss.Rd: data.table
  consensusClusters.Rd: GRanges, SummarizedExperiment
  distclu.Rd: GRangesList
  dot-ctss_summary_for_clusters.Rd: GRanges
  expressionClasses.Rd: Rle
  flagLowExpCTSS.Rd: Rle
  getCTSS.Rd: RangedSummarizedExperiment
  import.CAGEscanMolecule.Rd: GRanges
  import.CTSS.Rd: GPos
  loadFileIntoGPos.Rd: GPos
  moleculesGR2CTSS.Rd: GRanges
  paraclu.Rd: RangedSummarizedExperiment, GRangesList
  plotCorrelation.Rd: SummarizedExperiment, DataFrame
  quantilePositions.Rd: RangedSummarizedExperiment
  ranges2annot.Rd: rowRanges, Rle
  ranges2names.Rd: Rle
  strandInvaders.Rd: Rle
Please provide package anchors for all Rd \link{} targets not in the
package itself and the base packages.
* checking for missing documentation entries ... OK
* checking for code/documentation mismatches ... OK
* checking Rd \usage sections ... OK
* checking Rd contents ... OK
* checking for unstated dependencies in examples ... OK
* checking contents of ‘data’ directory ... OK
* checking data for non-ASCII characters ... OK
* checking LazyData ... OK
* checking data for ASCII and uncompressed saves ... OK
* checking files in ‘vignettes’ ... OK
* checking examples ... OK
Examples with CPU (user + system) or elapsed time > 5s
                          user system elapsed
paraclu                 44.480  0.280  44.761
exportToTrack           36.000  0.416  36.416
aggregateTagClusters    20.767  0.842  21.609
scoreShift              18.602  0.339  18.944
quantilePositions       12.738  0.077  12.816
annotateCTSS            12.029  0.227  12.256
distclu                  9.230  0.039   9.270
plotExpressionProfiles   7.177  0.084   7.261
CustomConsensusClusters  4.833  0.326   5.159
getExpressionProfiles    5.065  0.021   5.087
* checking for unstated dependencies in vignettes ... OK
* checking package vignettes ... OK
* checking re-building of vignette outputs ... OK
* checking PDF version of manual ... OK
* DONE

Status: 1 NOTE
See
  ‘/home/biocbuild/bbs-3.21-bioc/meat/CAGEr.Rcheck/00check.log’
for details.


Installation output

CAGEr.Rcheck/00install.out

##############################################################################
##############################################################################
###
### Running command:
###
###   /home/biocbuild/bbs-3.21-bioc/R/bin/R CMD INSTALL CAGEr
###
##############################################################################
##############################################################################


* installing to library ‘/home/biocbuild/bbs-3.21-bioc/R/site-library’
* installing *source* package ‘CAGEr’ ...
** this is package ‘CAGEr’ version ‘2.13.0’
** using staged installation
** R
** data
*** moving datasets to lazyload DB
** inst
** byte-compile and prepare package for lazy loading
** help
*** installing help indices
** building package indices
** installing vignettes
** testing if installed package can be loaded from temporary location
** testing if installed package can be loaded from final location
** testing if installed package keeps a record of temporary installation path
* DONE (CAGEr)

Tests output


Example timings

CAGEr.Rcheck/CAGEr-Ex.timings

nameusersystemelapsed
CAGEexp-class3.2570.1733.433
CAGEr_Multicore3.8310.2874.118
CTSS-class0.2780.0030.282
CTSScoordinates0.0820.0050.087
CTSSnormalizedTpm0.7380.1070.844
CTSStagCount0.6470.1240.772
CTSStoGenes0.3560.0900.445
CustomConsensusClusters4.8330.3265.159
GeneExpDESeq20.4710.0230.494
GeneExpSE0.0030.0010.004
QuantileWidthFunctions0.1410.0020.144
TSSlogo2.570.192.76
aggregateTagClusters20.767 0.84221.609
annotateCTSS12.029 0.22712.256
byCtss0.0170.0010.018
consensusClusters0.1480.0070.155
consensusClustersDESeq21.9950.0922.088
consensusClustersTpm0.0050.0010.006
cumulativeCTSSdistribution3.5410.1303.671
distclu9.2300.0399.270
dot-ctss_summary_for_clusters0.8340.0040.838
exampleCAGEexp0.0010.0000.000
exportToTrack36.000 0.41636.416
expressionClasses1.8860.0021.889
filteredCTSSidx0.0110.0000.011
flagLowExpCTSS0.0390.0000.039
genomeName0.0010.0000.000
getCTSS1.0190.0121.030
getExpressionProfiles5.0650.0215.087
getShiftingPromoters1.8500.0021.852
hanabi0.2100.0130.223
hanabiPlot0.2530.0330.287
import.CAGEscanMolecule0.0000.0010.001
import.CTSS0.0730.0090.082
import.bam000
import.bedCTSS0.0000.0010.001
import.bedScore000
import.bedmolecule000
importPublicData0.0000.0010.001
inputFiles0.0010.0010.001
inputFilesType0.0010.0000.001
librarySizes0.0000.0010.001
mapStats0.0500.0040.055
mergeCAGEsets2.0020.0242.027
mergeSamples0.4560.0020.458
moleculesGR2CTSS0.1240.0000.124
normalizeTagCount0.5140.0020.495
paraclu44.480 0.28044.761
parseCAGEscanBlocksToGrangeTSS0.0210.0010.022
plotAnnot2.3270.0102.336
plotCorrelation0.2390.0010.241
plotExpressionProfiles7.1770.0847.261
plotInterquantileWidth2.1010.0522.152
plotReverseCumulatives2.4540.0042.391
quantilePositions12.738 0.07712.816
quickEnhancers000
ranges2annot0.3410.0020.343
ranges2genes0.0540.0010.055
ranges2names0.0540.0000.054
resetCAGEexp0.3140.0020.316
rowSums.RleDataFrame0.0210.0000.020
rowsum.RleDataFrame0.0230.0000.023
sampleLabels0.0040.0000.004
scoreShift18.602 0.33918.944
seqNameTotalsSE0.0040.0000.004
setColors0.2990.0010.299
strandInvaders0.6170.1020.699
summariseChrExpr0.3960.0010.397
tagClusters0.3690.0020.371