| Back to Multiple platform build/check report for BioC 3.21: simplified long |
|
This page was generated on 2025-04-22 13:17 -0400 (Tue, 22 Apr 2025).
| Hostname | OS | Arch (*) | R version | Installed pkgs |
|---|---|---|---|---|
| nebbiolo1 | Linux (Ubuntu 24.04.1 LTS) | x86_64 | 4.5.0 RC (2025-04-04 r88126) -- "How About a Twenty-Six" | 4831 |
| palomino7 | Windows Server 2022 Datacenter | x64 | 4.5.0 RC (2025-04-04 r88126 ucrt) -- "How About a Twenty-Six" | 4573 |
| lconway | macOS 12.7.1 Monterey | x86_64 | 4.5.0 RC (2025-04-04 r88126) -- "How About a Twenty-Six" | 4599 |
| kjohnson3 | macOS 13.7.1 Ventura | arm64 | 4.5.0 RC (2025-04-04 r88126) -- "How About a Twenty-Six" | 4553 |
| kunpeng2 | Linux (openEuler 24.03 LTS) | aarch64 | R Under development (unstable) (2025-02-19 r87757) -- "Unsuffered Consequences" | 4570 |
| Click on any hostname to see more info about the system (e.g. compilers) (*) as reported by 'uname -p', except on Windows and Mac OS X | ||||
| Package 242/2341 | Hostname | OS / Arch | INSTALL | BUILD | CHECK | BUILD BIN | ||||||||
| BreastSubtypeR 1.0.0 (landing page) Qiao Yang
| nebbiolo1 | Linux (Ubuntu 24.04.1 LTS) / x86_64 | OK | OK | OK | |||||||||
| palomino7 | Windows Server 2022 Datacenter / x64 | OK | OK | OK | OK | |||||||||
| lconway | macOS 12.7.1 Monterey / x86_64 | OK | OK | OK | OK | |||||||||
| kjohnson3 | macOS 13.7.1 Ventura / arm64 | OK | OK | OK | OK | |||||||||
| kunpeng2 | Linux (openEuler 24.03 LTS) / aarch64 | OK | OK | OK | ||||||||||
|
To the developers/maintainers of the BreastSubtypeR package: - Allow up to 24 hours (and sometimes 48 hours) for your latest push to git@git.bioconductor.org:packages/BreastSubtypeR.git to reflect on this report. See Troubleshooting Build Report for more information. - Use the following Renviron settings to reproduce errors and warnings. - If 'R CMD check' started to fail recently on the Linux builder(s) over a missing dependency, add the missing dependency to 'Suggests:' in your DESCRIPTION file. See Renviron.bioc for more information. |
| Package: BreastSubtypeR |
| Version: 1.0.0 |
| Command: /Library/Frameworks/R.framework/Resources/bin/R CMD check --install=check:BreastSubtypeR.install-out.txt --library=/Library/Frameworks/R.framework/Resources/library --no-vignettes --timings BreastSubtypeR_1.0.0.tar.gz |
| StartedAt: 2025-04-21 18:26:55 -0400 (Mon, 21 Apr 2025) |
| EndedAt: 2025-04-21 18:28:18 -0400 (Mon, 21 Apr 2025) |
| EllapsedTime: 83.1 seconds |
| RetCode: 0 |
| Status: OK |
| CheckDir: BreastSubtypeR.Rcheck |
| Warnings: 0 |
##############################################################################
##############################################################################
###
### Running command:
###
### /Library/Frameworks/R.framework/Resources/bin/R CMD check --install=check:BreastSubtypeR.install-out.txt --library=/Library/Frameworks/R.framework/Resources/library --no-vignettes --timings BreastSubtypeR_1.0.0.tar.gz
###
##############################################################################
##############################################################################
* using log directory ‘/Users/biocbuild/bbs-3.21-bioc/meat/BreastSubtypeR.Rcheck’
* using R version 4.5.0 RC (2025-04-04 r88126)
* using platform: aarch64-apple-darwin20
* R was compiled by
Apple clang version 14.0.0 (clang-1400.0.29.202)
GNU Fortran (GCC) 14.2.0
* running under: macOS Ventura 13.7.1
* using session charset: UTF-8
* using option ‘--no-vignettes’
* checking for file ‘BreastSubtypeR/DESCRIPTION’ ... OK
* checking extension type ... Package
* this is package ‘BreastSubtypeR’ version ‘1.0.0’
* package encoding: UTF-8
* checking package namespace information ... OK
* checking package dependencies ... OK
* checking if this is a source package ... OK
* checking if there is a namespace ... OK
* checking for hidden files and directories ... OK
* checking for portable file names ... OK
* checking for sufficient/correct file permissions ... OK
* checking whether package ‘BreastSubtypeR’ can be installed ... OK
* checking installed package size ... OK
* checking package directory ... OK
* checking ‘build’ directory ... OK
* checking DESCRIPTION meta-information ... OK
* checking top-level files ... OK
* checking for left-over files ... OK
* checking index information ... OK
* checking package subdirectories ... OK
* checking code files for non-ASCII characters ... OK
* checking R files for syntax errors ... OK
* checking whether the package can be loaded ... OK
* checking whether the package can be loaded with stated dependencies ... OK
* checking whether the package can be unloaded cleanly ... OK
* checking whether the namespace can be loaded with stated dependencies ... OK
* checking whether the namespace can be unloaded cleanly ... OK
* checking dependencies in R code ... OK
* checking S3 generic/method consistency ... OK
* checking replacement functions ... OK
* checking foreign function calls ... OK
* checking R code for possible problems ... OK
* checking Rd files ... OK
* checking Rd metadata ... OK
* checking Rd cross-references ... OK
* checking for missing documentation entries ... OK
* checking for code/documentation mismatches ... OK
* checking Rd \usage sections ... OK
* checking Rd contents ... OK
* checking for unstated dependencies in examples ... OK
* checking contents of ‘data’ directory ... OK
* checking data for non-ASCII characters ... OK
* checking data for ASCII and uncompressed saves ... OK
* checking files in ‘vignettes’ ... OK
* checking examples ... OK
* checking for unstated dependencies in ‘tests’ ... OK
* checking tests ...
Running ‘testthat.R’
OK
* checking for unstated dependencies in vignettes ... OK
* checking package vignettes ... OK
* checking running R code from vignettes ... SKIPPED
* checking re-building of vignette outputs ... SKIPPED
* checking PDF version of manual ... OK
* DONE
Status: OK
BreastSubtypeR.Rcheck/00install.out
############################################################################## ############################################################################## ### ### Running command: ### ### /Library/Frameworks/R.framework/Resources/bin/R CMD INSTALL BreastSubtypeR ### ############################################################################## ############################################################################## * installing to library ‘/Library/Frameworks/R.framework/Versions/4.5-arm64/Resources/library’ * installing *source* package ‘BreastSubtypeR’ ... ** this is package ‘BreastSubtypeR’ version ‘1.0.0’ ** using staged installation ** R ** data ** inst ** byte-compile and prepare package for lazy loading ** help *** installing help indices ** building package indices ** installing vignettes ** testing if installed package can be loaded from temporary location ** testing if installed package can be loaded from final location ** testing if installed package keeps a record of temporary installation path * DONE (BreastSubtypeR)
BreastSubtypeR.Rcheck/tests/testthat.Rout
R version 4.5.0 RC (2025-04-04 r88126) -- "How About a Twenty-Six"
Copyright (C) 2025 The R Foundation for Statistical Computing
Platform: aarch64-apple-darwin20
R is free software and comes with ABSOLUTELY NO WARRANTY.
You are welcome to redistribute it under certain conditions.
Type 'license()' or 'licence()' for distribution details.
R is a collaborative project with many contributors.
Type 'contributors()' for more information and
'citation()' on how to cite R or R packages in publications.
Type 'demo()' for some demos, 'help()' for on-line help, or
'help.start()' for an HTML browser interface to help.
Type 'q()' to quit R.
> library(testthat)
> library(BreastSubtypeR)
>
> test_that("BS_Multi performs subtyping correctly", {
+ # Load required dataset
+ data("OSLO2EMIT0obj")
+
+ # Define methods to use for subtyping
+ methods <- c("genefu.robust", "PCAPAM50", "ssBC", "AIMS")
+
+ # Perform subtyping
+ res.test <- BS_Multi(
+ data_input = OSLO2EMIT0obj$data_input,
+ methods = methods,
+ Subtype = FALSE,
+ hasClinical = FALSE
+ )
+
+ # Validate results
+ expect_true(identical(res.test$res_subtypes[, methods], OSLO2EMIT0obj$res$res_subtypes[, methods])) # Validate results
+ })
Test passed 🥳
>
> proc.time()
user system elapsed
3.881 0.182 4.078
BreastSubtypeR.Rcheck/BreastSubtypeR-Ex.timings
| name | user | system | elapsed | |
| AIMSmodel | 0.001 | 0.001 | 0.002 | |
| BS_AIMS | 0.078 | 0.008 | 0.086 | |
| BS_Multi | 0.182 | 0.013 | 0.194 | |
| BS_PCAPAM50 | 0.135 | 0.008 | 0.143 | |
| BS_cIHC | 0.069 | 0.005 | 0.074 | |
| BS_cIHC.itr | 0.499 | 0.029 | 0.531 | |
| BS_parker | 0.061 | 0.003 | 0.064 | |
| BS_ssBC | 0.114 | 0.004 | 0.118 | |
| BS_sspbc | 0.204 | 0.006 | 0.211 | |
| BreastSubtypeRobj | 0.002 | 0.001 | 0.002 | |
| Gene.ID.ann | 0.068 | 0.001 | 0.068 | |
| Mapping | 0.574 | 0.017 | 0.601 | |
| OSLO2EMIT0obj | 0.009 | 0.001 | 0.010 | |
| Vis_Multi | 0.272 | 0.006 | 0.284 | |
| Vis_PCA | 0.192 | 0.012 | 0.203 | |
| Vis_boxplot | 0.071 | 0.002 | 0.072 | |
| Vis_heatmap | 1.081 | 0.015 | 1.096 | |
| Vis_pie | 0.139 | 0.002 | 0.142 | |
| iBreastSubtypeR | 0 | 0 | 0 | |
| sspbc.models | 0.006 | 0.001 | 0.006 | |
| sspbc.models.fullname | 0.005 | 0.000 | 0.006 | |