Back to Multiple platform build/check report for BioC 3.21:   simplified   long
A[B]CDEFGHIJKLMNOPQRSTUVWXYZ

This page was generated on 2025-02-11 11:41 -0500 (Tue, 11 Feb 2025).

HostnameOSArch (*)R versionInstalled pkgs
nebbiolo1Linux (Ubuntu 24.04.1 LTS)x86_64R Under development (unstable) (2025-01-20 r87609) -- "Unsuffered Consequences" 4719
palomino7Windows Server 2022 Datacenterx64R Under development (unstable) (2025-01-21 r87610 ucrt) -- "Unsuffered Consequences" 4480
lconwaymacOS 12.7.1 Montereyx86_64R Under development (unstable) (2025-01-22 r87618) -- "Unsuffered Consequences" 4491
kjohnson3macOS 13.7.1 Venturaarm64R Under development (unstable) (2025-01-20 r87609) -- "Unsuffered Consequences" 4444
Click on any hostname to see more info about the system (e.g. compilers)      (*) as reported by 'uname -p', except on Windows and Mac OS X

Package 213/2295HostnameOS / ArchINSTALLBUILDCHECKBUILD BIN
BioNAR 1.9.1  (landing page)
Anatoly Sorokin
Snapshot Date: 2025-02-10 13:40 -0500 (Mon, 10 Feb 2025)
git_url: https://git.bioconductor.org/packages/BioNAR
git_branch: devel
git_last_commit: e9d4e8b
git_last_commit_date: 2024-12-10 21:41:23 -0500 (Tue, 10 Dec 2024)
nebbiolo1Linux (Ubuntu 24.04.1 LTS) / x86_64  OK    OK    OK  UNNEEDED, same version is already published
palomino7Windows Server 2022 Datacenter / x64  OK    OK    OK    OK  UNNEEDED, same version is already published
lconwaymacOS 12.7.1 Monterey / x86_64  OK    OK    OK    OK  UNNEEDED, same version is already published
kjohnson3macOS 13.7.1 Ventura / arm64  OK    OK    OK    OK  UNNEEDED, same version is already published


CHECK results for BioNAR on lconway

To the developers/maintainers of the BioNAR package:
- Allow up to 24 hours (and sometimes 48 hours) for your latest push to git@git.bioconductor.org:packages/BioNAR.git to reflect on this report. See Troubleshooting Build Report for more information.
- Use the following Renviron settings to reproduce errors and warnings.
- If 'R CMD check' started to fail recently on the Linux builder(s) over a missing dependency, add the missing dependency to 'Suggests:' in your DESCRIPTION file. See Renviron.bioc for more information.

raw results


Summary

Package: BioNAR
Version: 1.9.1
Command: /Library/Frameworks/R.framework/Resources/bin/R CMD check --install=check:BioNAR.install-out.txt --library=/Library/Frameworks/R.framework/Resources/library --no-vignettes --timings BioNAR_1.9.1.tar.gz
StartedAt: 2025-02-10 19:45:59 -0500 (Mon, 10 Feb 2025)
EndedAt: 2025-02-10 19:55:29 -0500 (Mon, 10 Feb 2025)
EllapsedTime: 570.1 seconds
RetCode: 0
Status:   OK  
CheckDir: BioNAR.Rcheck
Warnings: 0

Command output

##############################################################################
##############################################################################
###
### Running command:
###
###   /Library/Frameworks/R.framework/Resources/bin/R CMD check --install=check:BioNAR.install-out.txt --library=/Library/Frameworks/R.framework/Resources/library --no-vignettes --timings BioNAR_1.9.1.tar.gz
###
##############################################################################
##############################################################################


* using log directory ‘/Users/biocbuild/bbs-3.21-bioc/meat/BioNAR.Rcheck’
* using R Under development (unstable) (2025-01-22 r87618)
* using platform: x86_64-apple-darwin20
* R was compiled by
    Apple clang version 14.0.0 (clang-1400.0.29.202)
    GNU Fortran (GCC) 14.2.0
* running under: macOS Monterey 12.7.6
* using session charset: UTF-8
* using option ‘--no-vignettes’
* checking for file ‘BioNAR/DESCRIPTION’ ... OK
* this is package ‘BioNAR’ version ‘1.9.1’
* package encoding: UTF-8
* checking package namespace information ... OK
* checking package dependencies ... OK
* checking if this is a source package ... OK
* checking if there is a namespace ... OK
* checking for hidden files and directories ... OK
* checking for portable file names ... OK
* checking for sufficient/correct file permissions ... OK
* checking whether package ‘BioNAR’ can be installed ... OK
* checking installed package size ... INFO
  installed size is  6.8Mb
  sub-directories of 1Mb or more:
    extdata   6.1Mb
* checking package directory ... OK
* checking ‘build’ directory ... OK
* checking DESCRIPTION meta-information ... OK
* checking top-level files ... OK
* checking for left-over files ... OK
* checking index information ... OK
* checking package subdirectories ... OK
* checking code files for non-ASCII characters ... OK
* checking R files for syntax errors ... OK
* checking whether the package can be loaded ... OK
* checking whether the package can be loaded with stated dependencies ... OK
* checking whether the package can be unloaded cleanly ... OK
* checking whether the namespace can be loaded with stated dependencies ... OK
* checking whether the namespace can be unloaded cleanly ... OK
* checking dependencies in R code ... NOTE
Package in Depends field not imported from: ‘Rdpack’
  These packages need to be imported from (in the NAMESPACE file)
  for when this namespace is loaded but not attached.
There are ::: calls to the package's namespace in its code. A package
  almost never needs to use ::: for its own objects:
  ‘addNoise’ ‘gofs’ ‘highlightRate’ ‘plotSigmoid’
* checking S3 generic/method consistency ... OK
* checking replacement functions ... OK
* checking foreign function calls ... OK
* checking R code for possible problems ... NOTE
clusterORA : forafun: no visible binding for global variable ‘pathway’
clusterORA : forafun: no visible binding for global variable ‘size’
clusterORA : forafun: no visible binding for global variable ‘overlap’
clusterORA : forafun: no visible binding for global variable ‘pval’
clusterORA : forafun: no visible binding for global variable ‘padj’
clusterORA : forafun: no visible binding for global variable
  ‘overlapGenes’
clusterORA : forafun: no visible binding for global variable ‘FL’
clusterORA : forafun: no visible binding for global variable ‘N’
clusterORA : forafun: no visible binding for global variable ‘Fn’
clusterORA : forafun: no visible binding for global variable ‘Cn’
clusterORA : forafun: no visible binding for global variable ‘Mu’
clusterORA : forafun: no visible binding for global variable ‘OR’
clusterORA : forafun: no visible binding for global variable ‘CIw’
clusterORA : forafun: no visible binding for global variable ‘Fe’
clusterORA : forafun: no visible binding for global variable ‘Fc’
clusterORA : forafun: no visible binding for global variable ‘palt’
plotSigmoid: no visible binding for global variable ‘yiR1’
plotSigmoid: no visible binding for global variable ‘yiR2’
plotSigmoid: no visible binding for global variable ‘yiR3’
plotSigmoid: no visible binding for global variable ‘yiR4’
plotSigmoid: no visible binding for global variable ‘yiR5’
Undefined global functions or variables:
  CIw Cn FL Fc Fe Fn Mu N OR overlap overlapGenes padj palt pathway
  pval size yiR1 yiR2 yiR3 yiR4 yiR5
* checking Rd files ... NOTE
checkRd: (-1) FitDegree.Rd:34: Lost braces
    34 | \item{legpos}{position of the legend @seealso{legend}}
       |                                              ^
checkRd: (-1) calcEntropy.Rd:52: Lost braces; missing escapes or markup?
    52 | Other {Entropy Functions}: 
       |       ^
checkRd: (-1) getEntropy.Rd:66: Lost braces; missing escapes or markup?
    66 | Other {Entropy Functions}: 
       |       ^
checkRd: (-1) getEntropyRate.Rd:41: Lost braces; missing escapes or markup?
    41 | Other {Entropy Functions}: 
       |       ^
checkRd: (-1) getRobustness.Rd:49: Lost braces; missing escapes or markup?
    49 | Other {Robustness functions}: 
       |       ^
checkRd: (-1) makeConsensusMatrix.Rd:69: Lost braces; missing escapes or markup?
    69 | Other {Robustness functions}: 
       |       ^
checkRd: (-1) plotEntropy.Rd:57: Lost braces; missing escapes or markup?
    57 | Other {Entropy Functions}: 
       |       ^
* checking Rd metadata ... OK
* checking Rd cross-references ... NOTE
Unknown package ‘clusterCons’ in Rd xrefs
* checking for missing documentation entries ... OK
* checking for code/documentation mismatches ... OK
* checking Rd \usage sections ... OK
* checking Rd contents ... OK
* checking for unstated dependencies in examples ... OK
* checking contents of ‘data’ directory ... OK
* checking data for non-ASCII characters ... OK
* checking LazyData ... OK
* checking data for ASCII and uncompressed saves ... OK
* checking files in ‘vignettes’ ... OK
* checking examples ... OK
Examples with CPU (user + system) or elapsed time > 5s
                           user system elapsed
addEdgeAtts              10.921  3.053  14.514
calcEntropy              12.522  0.790  13.451
clusteringSummary        12.618  0.092  12.846
plotEntropy              11.669  0.781  12.566
getEntropy               11.281  0.790  12.211
getCentralityMatrix      10.453  0.653  11.278
annotateTopOntoOVG       10.069  0.625  10.798
getGraphCentralityECDF    9.877  0.563  10.539
annotateSCHanno           6.526  0.542   7.142
runPermDisease            6.520  0.168   6.724
normModularity            5.938  0.560   6.560
annotateGOont             4.844  1.212   6.601
calcSparsness             5.482  0.482   6.023
annotateGoBP              4.572  0.470   5.157
FitDegree                 1.095  0.058  12.624
getRandomGraphCentrality  0.664  0.025  14.570
* checking for unstated dependencies in ‘tests’ ... OK
* checking tests ...
  Running ‘testthat.R’
 OK
* checking for unstated dependencies in vignettes ... OK
* checking package vignettes ... OK
* checking running R code from vignettes ... SKIPPED
* checking re-building of vignette outputs ... SKIPPED
* checking PDF version of manual ... OK
* DONE

Status: 4 NOTEs
See
  ‘/Users/biocbuild/bbs-3.21-bioc/meat/BioNAR.Rcheck/00check.log’
for details.


Installation output

BioNAR.Rcheck/00install.out

##############################################################################
##############################################################################
###
### Running command:
###
###   /Library/Frameworks/R.framework/Resources/bin/R CMD INSTALL BioNAR
###
##############################################################################
##############################################################################


* installing to library ‘/Library/Frameworks/R.framework/Versions/4.5-x86_64/Resources/library’
* installing *source* package ‘BioNAR’ ...
** this is package ‘BioNAR’ version ‘1.9.1’
** using staged installation
** R
** data
*** moving datasets to lazyload DB
** inst
** byte-compile and prepare package for lazy loading
** help
*** installing help indices
** building package indices
** installing vignettes
** testing if installed package can be loaded from temporary location
** testing if installed package can be loaded from final location
** testing if installed package keeps a record of temporary installation path
* DONE (BioNAR)

Tests output

BioNAR.Rcheck/tests/testthat.Rout


R Under development (unstable) (2025-01-22 r87618) -- "Unsuffered Consequences"
Copyright (C) 2025 The R Foundation for Statistical Computing
Platform: x86_64-apple-darwin20

R is free software and comes with ABSOLUTELY NO WARRANTY.
You are welcome to redistribute it under certain conditions.
Type 'license()' or 'licence()' for distribution details.

R is a collaborative project with many contributors.
Type 'contributors()' for more information and
'citation()' on how to cite R or R packages in publications.

Type 'demo()' for some demos, 'help()' for on-line help, or
'help.start()' for an HTML browser interface to help.
Type 'q()' to quit R.

> library(testthat)
> library(BioNAR)
Loading required package: igraph

Attaching package: 'igraph'

The following object is masked from 'package:testthat':

    compare

The following objects are masked from 'package:stats':

    decompose, spectrum

The following object is masked from 'package:base':

    union

Loading required package: poweRlaw
Loading required package: latex2exp
Loading required package: RSpectra
Loading required package: Rdpack



Attaching package: 'BioNAR'

The following object is masked from 'package:igraph':

    permute

> 
> test_check("BioNAR")
[ FAIL 0 | WARN 0 | SKIP 2 | PASS 129 ]

══ Skipped tests (2) ═══════════════════════════════════════════════════════════
• On CRAN (2): 'test_bridgeness.R:38:5', 'test_bridgeness.R:81:5'

[ FAIL 0 | WARN 0 | SKIP 2 | PASS 129 ]
> 
> proc.time()
   user  system elapsed 
 37.330   2.410  54.362 

Example timings

BioNAR.Rcheck/BioNAR-Ex.timings

nameusersystemelapsed
FitDegree 1.095 0.05812.624
addEdgeAtts10.921 3.05314.514
annotateGOont4.8441.2126.601
annotateGeneNames0.3320.0230.394
annotateGoBP4.5720.4705.157
annotateGoCC3.7260.3304.095
annotateGoMF4.1940.3484.580
annotatePresynaptic1.6220.1711.812
annotateSCHanno6.5260.5427.142
annotateTopOntoOVG10.069 0.62510.798
annotateVertex0.0040.0010.004
applpMatrixToGraph0.0020.0000.003
buildNetwork0.0030.0010.004
calcAllClustering4.1420.0394.228
calcBridgeness0.0940.0050.100
calcCentrality0.1150.0040.123
calcCentralityExternalDistances0.6470.0150.668
calcCentralityInternalDistances0.6230.0070.637
calcClustering0.0040.0000.005
calcDiseasePairs0.5810.0120.598
calcEntropy12.522 0.79013.451
calcMembership0.0060.0000.007
calcReclusterMatrix0.0420.0020.044
calcSparsness5.4820.4826.023
clusterORA0.4360.0420.485
clusteringSummary12.618 0.09212.846
degreeBinnedGDAs0.3710.0110.385
escapeAnnotation0.0010.0000.001
evalCentralitySignificance0.6530.0190.680
findLCC0.0060.0010.007
getAnnotationList0.0820.0060.088
getAnnotationVertexList0.0980.0170.117
getBridgeness0.0850.0040.089
getCentralityMatrix10.453 0.65311.278
getClusterSubgraphByID0.0220.0020.025
getClustering0.0250.0010.027
getCommunityGraph0.0260.0020.028
getDType000
getDYNAMO0.0410.0030.046
getDiseases0.0000.0010.001
getEntropy11.281 0.79012.211
getEntropyRate0.0040.0000.004
getGNP0.0220.0020.025
getGraphCentralityECDF 9.877 0.56310.539
getPA0.0220.0020.025
getRandomGraphCentrality 0.664 0.02514.570
getRobustness0.6250.0410.675
layoutByCluster0.1340.0030.139
layoutByRecluster0.1200.0060.127
makeConsensusMatrix0.5880.0410.634
makeMembership0.0030.0010.005
metlMatrix0.0100.0020.012
normModularity5.9380.5606.560
permute0.0010.0000.000
plotBridgeness0.5140.0300.552
plotEntropy11.669 0.78112.566
prepareGDA0.3000.0080.309
recluster0.0430.0020.045
removeVertexTerm0.0050.0010.007
runPermDisease6.5200.1686.724
sampleDegBinnedGDA0.3810.0080.391
sampleGraphClust0.0270.0020.029
unescapeAnnotation0.0000.0010.001
zeroNA0.0000.0010.001