Back to Multiple platform build/check report for BioC 3.21:   simplified   long
[A]BCDEFGHIJKLMNOPQRSTUVWXYZ

This page was generated on 2025-02-15 11:39 -0500 (Sat, 15 Feb 2025).

HostnameOSArch (*)R versionInstalled pkgs
nebbiolo1Linux (Ubuntu 24.04.1 LTS)x86_64R Under development (unstable) (2025-01-20 r87609) -- "Unsuffered Consequences" 4720
palomino7Windows Server 2022 Datacenterx64R Under development (unstable) (2025-01-21 r87610 ucrt) -- "Unsuffered Consequences" 4482
lconwaymacOS 12.7.1 Montereyx86_64R Under development (unstable) (2025-01-22 r87618) -- "Unsuffered Consequences" 4493
kjohnson3macOS 13.7.1 Venturaarm64R Under development (unstable) (2025-01-20 r87609) -- "Unsuffered Consequences" 4446
Click on any hostname to see more info about the system (e.g. compilers)      (*) as reported by 'uname -p', except on Windows and Mac OS X

Package 58/2295HostnameOS / ArchINSTALLBUILDCHECKBUILD BIN
AlpsNMR 4.9.0  (landing page)
Sergio Oller Moreno
Snapshot Date: 2025-02-14 13:40 -0500 (Fri, 14 Feb 2025)
git_url: https://git.bioconductor.org/packages/AlpsNMR
git_branch: devel
git_last_commit: f8b70f5
git_last_commit_date: 2024-10-29 10:53:23 -0500 (Tue, 29 Oct 2024)
nebbiolo1Linux (Ubuntu 24.04.1 LTS) / x86_64  OK    OK    OK  UNNEEDED, same version is already published
palomino7Windows Server 2022 Datacenter / x64  OK    OK    OK    OK  UNNEEDED, same version is already published
lconwaymacOS 12.7.1 Monterey / x86_64  OK    OK    OK    OK  UNNEEDED, same version is already published
kjohnson3macOS 13.7.1 Ventura / arm64  OK    OK    OK    OK  UNNEEDED, same version is already published


CHECK results for AlpsNMR on nebbiolo1

To the developers/maintainers of the AlpsNMR package:
- Allow up to 24 hours (and sometimes 48 hours) for your latest push to git@git.bioconductor.org:packages/AlpsNMR.git to reflect on this report. See Troubleshooting Build Report for more information.
- Use the following Renviron settings to reproduce errors and warnings.
- If 'R CMD check' started to fail recently on the Linux builder(s) over a missing dependency, add the missing dependency to 'Suggests:' in your DESCRIPTION file. See Renviron.bioc for more information.

raw results


Summary

Package: AlpsNMR
Version: 4.9.0
Command: /home/biocbuild/bbs-3.21-bioc/R/bin/R CMD check --install=check:AlpsNMR.install-out.txt --library=/home/biocbuild/bbs-3.21-bioc/R/site-library --timings AlpsNMR_4.9.0.tar.gz
StartedAt: 2025-02-14 19:44:25 -0500 (Fri, 14 Feb 2025)
EndedAt: 2025-02-14 19:48:51 -0500 (Fri, 14 Feb 2025)
EllapsedTime: 266.4 seconds
RetCode: 0
Status:   OK  
CheckDir: AlpsNMR.Rcheck
Warnings: 0

Command output

##############################################################################
##############################################################################
###
### Running command:
###
###   /home/biocbuild/bbs-3.21-bioc/R/bin/R CMD check --install=check:AlpsNMR.install-out.txt --library=/home/biocbuild/bbs-3.21-bioc/R/site-library --timings AlpsNMR_4.9.0.tar.gz
###
##############################################################################
##############################################################################


* using log directory ‘/home/biocbuild/bbs-3.21-bioc/meat/AlpsNMR.Rcheck’
* using R Under development (unstable) (2025-01-20 r87609)
* using platform: x86_64-pc-linux-gnu
* R was compiled by
    gcc (Ubuntu 13.3.0-6ubuntu2~24.04) 13.3.0
    GNU Fortran (Ubuntu 13.3.0-6ubuntu2~24.04) 13.3.0
* running under: Ubuntu 24.04.2 LTS
* using session charset: UTF-8
* checking for file ‘AlpsNMR/DESCRIPTION’ ... OK
* checking extension type ... Package
* this is package ‘AlpsNMR’ version ‘4.9.0’
* package encoding: UTF-8
* checking package namespace information ... OK
* checking package dependencies ... INFO
Imports includes 26 non-default packages.
Importing from so many packages makes the package vulnerable to any of
them becoming unavailable.  Move as many as possible to Suggests and
use conditionally.
* checking if this is a source package ... OK
* checking if there is a namespace ... OK
* checking for hidden files and directories ... OK
* checking for portable file names ... OK
* checking for sufficient/correct file permissions ... OK
* checking whether package ‘AlpsNMR’ can be installed ... OK
* checking installed package size ... OK
* checking package directory ... OK
* checking ‘build’ directory ... OK
* checking DESCRIPTION meta-information ... OK
* checking top-level files ... OK
* checking for left-over files ... OK
* checking index information ... OK
* checking package subdirectories ... OK
* checking code files for non-ASCII characters ... OK
* checking R files for syntax errors ... OK
* checking whether the package can be loaded ... OK
* checking whether the package can be loaded with stated dependencies ... OK
* checking whether the package can be unloaded cleanly ... OK
* checking whether the namespace can be loaded with stated dependencies ... OK
* checking whether the namespace can be unloaded cleanly ... OK
* checking loading without being on the library search path ... OK
* checking dependencies in R code ... OK
* checking S3 generic/method consistency ... OK
* checking replacement functions ... OK
* checking foreign function calls ... OK
* checking R code for possible problems ... OK
* checking Rd files ... OK
* checking Rd metadata ... OK
* checking Rd cross-references ... NOTE
Non-topic package-anchored link(s) in Rd file 'reexports.Rd':
  ‘[magrittr:pipe]{%>%}’

See section 'Cross-references' in the 'Writing R Extensions' manual.

Found the following Rd file(s) with Rd \link{} targets missing package
anchors:
  filter.nmr_dataset_family.Rd: dplyr
Please provide package anchors for all Rd \link{} targets not in the
package itself and the base packages.
* checking for missing documentation entries ... OK
* checking for code/documentation mismatches ... OK
* checking Rd \usage sections ... OK
* checking Rd contents ... OK
* checking for unstated dependencies in examples ... OK
* checking contents of ‘data’ directory ... OK
* checking data for non-ASCII characters ... OK
* checking data for ASCII and uncompressed saves ... OK
* checking files in ‘vignettes’ ... OK
* checking examples ... OK
Examples with CPU (user + system) or elapsed time > 5s
                                     user system elapsed
Peak_detection                      7.812  1.663   6.836
SummarizedExperiment_to_nmr_data_1r 6.772  0.879   7.046
nmr_pca_outliers_robust             5.300  0.987   5.603
* checking for unstated dependencies in ‘tests’ ... OK
* checking tests ...
  Running ‘testthat.R’
 OK
* checking for unstated dependencies in vignettes ... OK
* checking package vignettes ... OK
* checking re-building of vignette outputs ... OK
* checking PDF version of manual ... OK
* DONE

Status: 1 NOTE
See
  ‘/home/biocbuild/bbs-3.21-bioc/meat/AlpsNMR.Rcheck/00check.log’
for details.


Installation output

AlpsNMR.Rcheck/00install.out

##############################################################################
##############################################################################
###
### Running command:
###
###   /home/biocbuild/bbs-3.21-bioc/R/bin/R CMD INSTALL AlpsNMR
###
##############################################################################
##############################################################################


* installing to library ‘/home/biocbuild/bbs-3.21-bioc/R/site-library’
* installing *source* package ‘AlpsNMR’ ...
** this is package ‘AlpsNMR’ version ‘4.9.0’
** using staged installation
** R
** data
** inst
** byte-compile and prepare package for lazy loading
** help
*** installing help indices
*** copying figures
** building package indices
** installing vignettes
** testing if installed package can be loaded from temporary location
** testing if installed package can be loaded from final location
** testing if installed package keeps a record of temporary installation path
* DONE (AlpsNMR)

Tests output

AlpsNMR.Rcheck/tests/testthat.Rout


R Under development (unstable) (2025-01-20 r87609) -- "Unsuffered Consequences"
Copyright (C) 2025 The R Foundation for Statistical Computing
Platform: x86_64-pc-linux-gnu

R is free software and comes with ABSOLUTELY NO WARRANTY.
You are welcome to redistribute it under certain conditions.
Type 'license()' or 'licence()' for distribution details.

R is a collaborative project with many contributors.
Type 'contributors()' for more information and
'citation()' on how to cite R or R packages in publications.

Type 'demo()' for some demos, 'help()' for on-line help, or
'help.start()' for an HTML browser interface to help.
Type 'q()' to quit R.

> library(testthat)
> library(AlpsNMR)

Attaching package: 'AlpsNMR'

The following object is masked from 'package:stats':

    filter

> 
> test_check("AlpsNMR")
[ FAIL 0 | WARN 0 | SKIP 1 | PASS 93 ]

══ Skipped tests (1) ═══════════════════════════════════════════════════════════
• On Bioconductor (1): 'test_rDolphin.R:2:5'

[ FAIL 0 | WARN 0 | SKIP 1 | PASS 93 ]
> 
> proc.time()
   user  system elapsed 
 22.558   8.337  21.481 

Example timings

AlpsNMR.Rcheck/AlpsNMR-Ex.timings

nameusersystemelapsed
AlpsNMR-package1.7270.3891.576
HMDB_blood0.0060.0000.007
HMDB_cell0.0030.0000.003
HMDB_urine0.0030.0020.004
Parameters_blood0.0010.0010.002
Parameters_cell0.0020.0000.002
Parameters_urine0.0010.0010.002
Peak_detection7.8121.6636.836
Pipelines0.0010.0010.002
ROI_blood0.0030.0000.003
ROI_cell0.0030.0000.003
ROI_urine0.0010.0020.003
SummarizedExperiment_to_nmr_data_1r6.7720.8797.046
SummarizedExperiment_to_nmr_dataset_peak_table1.5430.5131.460
bp_VIP_analysis1.2820.8290.828
bp_kfold_VIP_analysis0.7510.4980.514
download_MTBLS242000
file_lister0.0540.0220.077
files_to_rDolphin0.0000.0010.001
filter.nmr_dataset_family0.7560.4030.603
format.nmr_dataset0.6640.5480.537
format.nmr_dataset_1D0.8130.5340.622
format.nmr_dataset_peak_table0.7860.4920.635
get_integration_with_metadata0.0270.0010.028
hmdb0.0430.0010.044
is.nmr_dataset0.6590.5750.533
is.nmr_dataset_1D0.7700.4680.599
is.nmr_dataset_peak_table0.7660.5190.648
load_and_save_functions0.7740.6080.585
models_stability_plot_bootstrap0.0010.0020.003
models_stability_plot_plsda0.3700.5180.432
new_nmr_dataset0.0020.0000.002
new_nmr_dataset_1D0.0010.0000.002
new_nmr_dataset_peak_table0.7620.6110.686
nmr_autophase0.1850.0530.282
nmr_baseline_estimation0.0320.0450.010
nmr_baseline_removal0.0040.0010.005
nmr_baseline_threshold0.0010.0000.001
nmr_baseline_threshold_plot0.2150.0230.238
nmr_batman0.0020.0000.003
nmr_batman_options000
nmr_build_peak_table0.0330.0130.046
nmr_data0.0470.0060.053
nmr_data_1r_to_SummarizedExperiment1.7931.0291.950
nmr_data_analysis0.3900.4200.377
nmr_dataset0.0000.0000.001
nmr_dataset_1D0.0010.0000.001
nmr_dataset_peak_table_to_SummarizedExperiment0.9510.5390.860
nmr_exclude_region0.0060.0010.006
nmr_export_data_1r0.7910.4550.584
nmr_get_peak_distances0.0060.0020.008
nmr_identify_regions_blood0.0130.0000.013
nmr_identify_regions_cell0.0070.0010.008
nmr_identify_regions_urine0.0120.0010.013
nmr_integrate_regions0.0080.0020.011
nmr_interpolate_1D1.5430.9341.125
nmr_meta_add1.7701.0111.469
nmr_meta_export0.7190.5080.576
nmr_meta_get0.6460.4830.504
nmr_meta_get_column0.8050.6640.661
nmr_meta_groups0.6840.5350.561
nmr_normalize0.2540.0590.312
nmr_pca_build_model1.7931.2391.526
nmr_pca_outliers0.8180.6370.781
nmr_pca_outliers_filter0.9990.5550.791
nmr_pca_outliers_plot000
nmr_pca_outliers_robust5.3000.9875.603
nmr_pca_plots0.350.050.40
nmr_peak_clustering0.0700.0020.072
nmr_ppm_resolution0.0080.0010.008
nmr_read_bruker_fid0.0010.0000.000
nmr_read_samples1.3611.1901.087
nmr_zip_bruker_samples0.2560.0090.266
peaklist_accept_peaks0.0030.0010.004
permutation_test_model1.4851.0381.495
permutation_test_plot2.2741.3711.594
plot.nmr_dataset_1D0.0020.0000.002
plot_bootstrap_multimodel0.0020.0010.002
plot_interactive3.1361.6390.651
plot_plsda_multimodel0.2250.4900.387
plot_plsda_samples0.1140.1650.218
plot_vip_scores0.0260.0460.002
plot_webgl0.0010.0010.001
plsda_auroc_vip_compare0.4440.3620.688
plsda_auroc_vip_method0.0000.0010.000
ppm_resolution0.0020.0010.003
print.nmr_dataset0.7780.6420.608
print.nmr_dataset_1D0.7150.5150.564
print.nmr_dataset_peak_table0.7700.5500.692
random_subsampling0.0010.0030.004
save_files_to_rDolphin000
save_profiling_output000
sub-.nmr_dataset0.6780.4640.519
sub-.nmr_dataset_1D0.8500.5280.659
sub-.nmr_dataset_peak_table0.8620.6400.731
tidy.nmr_dataset_1D0.9080.5820.755
to_ASICS0.8710.2151.085
to_ChemoSpec1.4720.9821.120
validate_nmr_dataset1.5071.2211.197
validate_nmr_dataset_family0.8640.6780.725
validate_nmr_dataset_peak_table0.0020.0000.001
zzz0.0000.0002.002