Back to Multiple platform build/check report for BioC 3.21:   simplified   long
[A]BCDEFGHIJKLMNOPQRSTUVWXYZ

This page was generated on 2025-01-27 11:46 -0500 (Mon, 27 Jan 2025).

HostnameOSArch (*)R versionInstalled pkgs
nebbiolo1Linux (Ubuntu 24.04.1 LTS)x86_64R Under development (unstable) (2025-01-20 r87609) -- "Unsuffered Consequences" 4658
palomino7Windows Server 2022 Datacenterx64R Under development (unstable) (2025-01-21 r87610 ucrt) -- "Unsuffered Consequences" 4455
lconwaymacOS 12.7.1 Montereyx86_64R Under development (unstable) (2025-01-22 r87618) -- "Unsuffered Consequences" 4464
kjohnson3macOS 13.7.1 Venturaarm64R Under development (unstable) (2025-01-20 r87609) -- "Unsuffered Consequences" 4418
kunpeng2Linux (openEuler 22.03 LTS-SP1)aarch64R Under development (unstable) (2024-11-24 r87369) -- "Unsuffered Consequences" 4408
Click on any hostname to see more info about the system (e.g. compilers)      (*) as reported by 'uname -p', except on Windows and Mac OS X

Package 17/2286HostnameOS / ArchINSTALLBUILDCHECKBUILD BIN
ADAPT 1.1.0  (landing page)
Mukai Wang
Snapshot Date: 2025-01-26 13:40 -0500 (Sun, 26 Jan 2025)
git_url: https://git.bioconductor.org/packages/ADAPT
git_branch: devel
git_last_commit: ec4beea
git_last_commit_date: 2024-10-29 11:33:57 -0500 (Tue, 29 Oct 2024)
nebbiolo1Linux (Ubuntu 24.04.1 LTS) / x86_64  OK    OK    OK  UNNEEDED, same version is already published
palomino7Windows Server 2022 Datacenter / x64  OK    OK    OK    OK  UNNEEDED, same version is already published
lconwaymacOS 12.7.1 Monterey / x86_64  ERROR    ERROR  skippedskipped
kjohnson3macOS 13.7.1 Ventura / arm64  ERROR    ERROR  skippedskipped
kunpeng2Linux (openEuler 22.03 LTS-SP1) / aarch64  OK    OK    ERROR  


CHECK results for ADAPT on kunpeng2

To the developers/maintainers of the ADAPT package:
- Allow up to 24 hours (and sometimes 48 hours) for your latest push to git@git.bioconductor.org:packages/ADAPT.git to reflect on this report. See Troubleshooting Build Report for more information.
- Use the following Renviron settings to reproduce errors and warnings.
- If 'R CMD check' started to fail recently on the Linux builder(s) over a missing dependency, add the missing dependency to 'Suggests:' in your DESCRIPTION file. See Renviron.bioc for more information.
- See Martin Grigorov's blog post for how to debug Linux ARM64 related issues on a x86_64 host.

raw results


Summary

Package: ADAPT
Version: 1.1.0
Command: /home/biocbuild/R/R/bin/R CMD check --install=check:ADAPT.install-out.txt --library=/home/biocbuild/R/R/site-library --no-vignettes --timings ADAPT_1.1.0.tar.gz
StartedAt: 2025-01-27 04:14:06 -0000 (Mon, 27 Jan 2025)
EndedAt: 2025-01-27 04:17:27 -0000 (Mon, 27 Jan 2025)
EllapsedTime: 200.4 seconds
RetCode: 1
Status:   ERROR  
CheckDir: ADAPT.Rcheck
Warnings: NA

Command output

##############################################################################
##############################################################################
###
### Running command:
###
###   /home/biocbuild/R/R/bin/R CMD check --install=check:ADAPT.install-out.txt --library=/home/biocbuild/R/R/site-library --no-vignettes --timings ADAPT_1.1.0.tar.gz
###
##############################################################################
##############################################################################


* using log directory ‘/home/biocbuild/bbs-3.21-bioc/meat/ADAPT.Rcheck’
* using R Under development (unstable) (2024-11-24 r87369)
* using platform: aarch64-unknown-linux-gnu
* R was compiled by
    aarch64-unknown-linux-gnu-gcc (GCC) 14.2.0
    GNU Fortran (GCC) 14.2.0
* running under: openEuler 24.03 (LTS)
* using session charset: UTF-8
* using option ‘--no-vignettes’
* checking for file ‘ADAPT/DESCRIPTION’ ... OK
* this is package ‘ADAPT’ version ‘1.1.0’
* package encoding: UTF-8
* checking package namespace information ... OK
* checking package dependencies ... OK
* checking if this is a source package ... OK
* checking if there is a namespace ... OK
* checking for hidden files and directories ... OK
* checking for portable file names ... OK
* checking for sufficient/correct file permissions ... OK
* checking whether package ‘ADAPT’ can be installed ... OK
* used C++ compiler: ‘aarch64-unknown-linux-gnu-g++ (GCC) 14.2.0’
* checking installed package size ... OK
* checking package directory ... OK
* checking ‘build’ directory ... OK
* checking DESCRIPTION meta-information ... OK
* checking top-level files ... OK
* checking for left-over files ... OK
* checking index information ... OK
* checking package subdirectories ... OK
* checking code files for non-ASCII characters ... OK
* checking R files for syntax errors ... OK
* checking whether the package can be loaded ... OK
* checking whether the package can be loaded with stated dependencies ... OK
* checking whether the package can be unloaded cleanly ... OK
* checking whether the namespace can be loaded with stated dependencies ... OK
* checking whether the namespace can be unloaded cleanly ... OK
* checking loading without being on the library search path ... OK
* checking dependencies in R code ... OK
* checking S3 generic/method consistency ... OK
* checking replacement functions ... OK
* checking foreign function calls ... OK
* checking R code for possible problems ... OK
* checking Rd files ... OK
* checking Rd metadata ... OK
* checking Rd cross-references ... OK
* checking for missing documentation entries ... OK
* checking for code/documentation mismatches ... OK
* checking Rd \usage sections ... OK
* checking Rd contents ... OK
* checking for unstated dependencies in examples ... OK
* checking contents of ‘data’ directory ... OK
* checking data for non-ASCII characters ... OK
* checking data for ASCII and uncompressed saves ... OK
* checking R/sysdata.rda ... OK
* checking line endings in C/C++/Fortran sources/headers ... OK
* checking line endings in Makefiles ... OK
* checking compilation flags in Makevars ... OK
* checking for GNU extensions in Makefiles ... OK
* checking for portable use of $(BLAS_LIBS) and $(LAPACK_LIBS) ... OK
* checking use of PKG_*FLAGS in Makefiles ... OK
* checking compiled code ... NOTE
Note: information on .o files is not available
* checking files in ‘vignettes’ ... OK
* checking examples ... OK
* checking for unstated dependencies in ‘tests’ ... OK
* checking tests ...
  Running ‘testthat.R’/home/biocbuild/R/R/bin/BATCH: line 60: 1666389 Segmentation fault      (core dumped) ${R_HOME}/bin/R -f ${in} ${opts} ${R_BATCH_OPTIONS} > ${out} 2>&1

 ERROR
Running the tests in ‘tests/testthat.R’ failed.
Last 13 lines of output:
  25: tryCatch(withCallingHandlers({    eval(code, test_env)    if (!handled && !is.null(test)) {        skip_empty()    }}, expectation = handle_expectation, skip = handle_skip, warning = handle_warning,     message = handle_message, error = handle_error), error = handle_fatal,     skip = function(e) {    })
  26: test_code(test = NULL, code = exprs, env = env, reporter = get_reporter() %||%     StopReporter$new())
  27: source_file(path, env = env(env), desc = desc, error_call = error_call)
  28: FUN(X[[i]], ...)
  29: lapply(test_paths, test_one_file, env = env, desc = desc, error_call = error_call)
  30: doTryCatch(return(expr), name, parentenv, handler)
  31: tryCatchOne(expr, names, parentenv, handlers[[1L]])
  32: tryCatchList(expr, classes, parentenv, handlers)
  33: tryCatch(code, testthat_abort_reporter = function(cnd) {    cat(conditionMessage(cnd), "\n")    NULL})
  34: with_reporter(reporters$multi, lapply(test_paths, test_one_file,     env = env, desc = desc, error_call = error_call))
  35: test_files_serial(test_dir = test_dir, test_package = test_package,     test_paths = test_paths, load_helpers = load_helpers, reporter = reporter,     env = env, stop_on_failure = stop_on_failure, stop_on_warning = stop_on_warning,     desc = desc, load_package = load_package, error_call = error_call)
  36: test_files(test_dir = path, test_paths = test_paths, test_package = package,     reporter = reporter, load_helpers = load_helpers, env = env,     stop_on_failure = stop_on_failure, stop_on_warning = stop_on_warning,     load_package = load_package, parallel = parallel)
  37: test_dir("testthat", package = package, reporter = reporter,     ..., load_package = "installed")
  38: test_check("ADAPT")
  An irrecoverable exception occurred. R is aborting now ...
* checking for unstated dependencies in vignettes ... OK
* checking package vignettes ... OK
* checking running R code from vignettes ... SKIPPED
* checking re-building of vignette outputs ... SKIPPED
* checking PDF version of manual ... OK
* DONE

Status: 1 ERROR, 1 NOTE
See
  ‘/home/biocbuild/bbs-3.21-bioc/meat/ADAPT.Rcheck/00check.log’
for details.


Installation output

ADAPT.Rcheck/00install.out

##############################################################################
##############################################################################
###
### Running command:
###
###   /home/biocbuild/R/R/bin/R CMD INSTALL ADAPT
###
##############################################################################
##############################################################################


* installing to library ‘/home/biocbuild/R/R-4.5.0-devel_2024-11-24/site-library’
* installing *source* package ‘ADAPT’ ...
** using staged installation
** libs
using C++ compiler: ‘aarch64-unknown-linux-gnu-g++ (GCC) 14.2.0’
/opt/ohpc/pub/compiler/gcc/14.2.0/bin/aarch64-unknown-linux-gnu-g++ -std=gnu++17 -I"/home/biocbuild/R/R/include" -DNDEBUG  -I'/home/biocbuild/R/R-4.5.0-devel_2024-11-24/site-library/Rcpp/include' -I'/home/biocbuild/R/R-4.5.0-devel_2024-11-24/site-library/RcppArmadillo/include' -I'/home/biocbuild/R/R-4.5.0-devel_2024-11-24/site-library/RcppParallel/include' -I/usr/local/include    -fPIC  -g -O2  -Wall -Werror=format-security -DR_NO_REMAP -c CR_LRT.cpp -o CR_LRT.o
In file included from /home/biocbuild/R/R-4.5.0-devel_2024-11-24/site-library/RcppParallel/include/tbb/tbb.h:32,
                 from /home/biocbuild/R/R-4.5.0-devel_2024-11-24/site-library/RcppParallel/include/RcppParallel/TBB.h:10,
                 from /home/biocbuild/R/R-4.5.0-devel_2024-11-24/site-library/RcppParallel/include/RcppParallel.h:24,
                 from CR_LRT.cpp:4:
/home/biocbuild/R/R-4.5.0-devel_2024-11-24/site-library/RcppParallel/include/tbb/atomic.h: In instantiation of ‘tbb::atomic<T>& tbb::internal::as_atomic(T&) [with T = long unsigned int]’:
/home/biocbuild/R/R-4.5.0-devel_2024-11-24/site-library/RcppParallel/include/tbb/tbb_thread.h:251:29:   required from here
  251 |             return as_atomic(location.my_id).compare_and_swap(value.my_id, comparand.my_id);
      |                    ~~~~~~~~~^~~~~~~~~~~~~~~~
/home/biocbuild/R/R-4.5.0-devel_2024-11-24/site-library/RcppParallel/include/tbb/atomic.h:544:12: warning: casting ‘long unsigned int’ to ‘tbb::atomic<long unsigned int>&’ does not use ‘constexpr tbb::atomic<long unsigned int>::atomic(long unsigned int)’ [-Wcast-user-defined]
  544 |     return (atomic<T>&)t;
      |            ^~~~~~~~~~~~~
/home/biocbuild/R/R-4.5.0-devel_2024-11-24/site-library/RcppParallel/include/tbb/atomic.h: In instantiation of ‘tbb::atomic<T>& tbb::internal::as_atomic(T&) [with T = tbb::interface5::internal::hash_map_base::bucket*]’:
/home/biocbuild/R/R-4.5.0-devel_2024-11-24/site-library/RcppParallel/include/tbb/concurrent_hash_map.h:291:31:   required from here
  291 |                   && as_atomic(my_table[new_seg]).compare_and_swap(is_allocating, NULL) == NULL )
      |                      ~~~~~~~~~^~~~~~~~~~~~~~~~~~~
/home/biocbuild/R/R-4.5.0-devel_2024-11-24/site-library/RcppParallel/include/tbb/atomic.h:544:12: warning: casting ‘tbb::interface5::internal::hash_map_base::bucket*’ to ‘tbb::atomic<tbb::interface5::internal::hash_map_base::bucket*>&’ does not use ‘constexpr tbb::atomic<T*>::atomic(T*) [with T = tbb::interface5::internal::hash_map_base::bucket]’ [-Wcast-user-defined]
  544 |     return (atomic<T>&)t;
      |            ^~~~~~~~~~~~~
/opt/ohpc/pub/compiler/gcc/14.2.0/bin/aarch64-unknown-linux-gnu-g++ -std=gnu++17 -I"/home/biocbuild/R/R/include" -DNDEBUG  -I'/home/biocbuild/R/R-4.5.0-devel_2024-11-24/site-library/Rcpp/include' -I'/home/biocbuild/R/R-4.5.0-devel_2024-11-24/site-library/RcppArmadillo/include' -I'/home/biocbuild/R/R-4.5.0-devel_2024-11-24/site-library/RcppParallel/include' -I/usr/local/include    -fPIC  -g -O2  -Wall -Werror=format-security -DR_NO_REMAP -c RcppExports.cpp -o RcppExports.o
/opt/ohpc/pub/compiler/gcc/14.2.0/bin/aarch64-unknown-linux-gnu-g++ -std=gnu++17 -I"/home/biocbuild/R/R/include" -DNDEBUG  -I'/home/biocbuild/R/R-4.5.0-devel_2024-11-24/site-library/Rcpp/include' -I'/home/biocbuild/R/R-4.5.0-devel_2024-11-24/site-library/RcppArmadillo/include' -I'/home/biocbuild/R/R-4.5.0-devel_2024-11-24/site-library/RcppParallel/include' -I/usr/local/include    -fPIC  -g -O2  -Wall -Werror=format-security -DR_NO_REMAP -c Tobit.cpp -o Tobit.o
/opt/ohpc/pub/compiler/gcc/14.2.0/bin/aarch64-unknown-linux-gnu-g++ -std=gnu++17 -shared -L/home/biocbuild/R/R/lib -L/usr/local/lib -o ADAPT.so CR_LRT.o RcppExports.o Tobit.o -lopenblas -lgfortran -lm -L/home/biocbuild/R/R/lib -lR
if test -e "/usr/bin/strip"; then /usr/bin/strip --strip-debug ADAPT.so; fi
installing to /home/biocbuild/R/R-4.5.0-devel_2024-11-24/site-library/00LOCK-ADAPT/00new/ADAPT/libs
** R
** data
** inst
** byte-compile and prepare package for lazy loading
** help
*** installing help indices
** building package indices
** installing vignettes
** testing if installed package can be loaded from temporary location
** checking absolute paths in shared objects and dynamic libraries
** testing if installed package can be loaded from final location
** testing if installed package keeps a record of temporary installation path
* DONE (ADAPT)

Tests output

ADAPT.Rcheck/tests/testthat.Rout.fail


R Under development (unstable) (2024-11-24 r87369) -- "Unsuffered Consequences"
Copyright (C) 2024 The R Foundation for Statistical Computing
Platform: aarch64-unknown-linux-gnu

R is free software and comes with ABSOLUTELY NO WARRANTY.
You are welcome to redistribute it under certain conditions.
Type 'license()' or 'licence()' for distribution details.

R is a collaborative project with many contributors.
Type 'contributors()' for more information and
'citation()' on how to cite R or R packages in publications.

Type 'demo()' for some demos, 'help()' for on-line help, or
'help.start()' for an HTML browser interface to help.
Type 'q()' to quit R.

> library(testthat)
> library(ADAPT)
> 
> test_check("ADAPT")
492 taxa and 100 samples being analyzed...
Selecting Reference Set... 
 *** caught segfault ***
address 0xffff11000001, cause 'memory not mapped'

Traceback:
 1: cr_estim(count_mat = TBD_counts, refcounts = refcounts, Delta = existence,     X = subset_designmatrix)
 2: count_ratio(count_table = count_table, design_matrix = complete_design_matrix,     censor = censor, reftaxa = reftaxa, test_all = FALSE)
 3: adapt(input_data = phyobj_balanced, cond.var = "main", adj.var = c("confounder"))
 4: eval(code, test_env)
 5: eval(code, test_env)
 6: withCallingHandlers({    eval(code, test_env)    if (!handled && !is.null(test)) {        skip_empty()    }}, expectation = handle_expectation, skip = handle_skip, warning = handle_warning,     message = handle_message, error = handle_error)
 7: doTryCatch(return(expr), name, parentenv, handler)
 8: tryCatchOne(expr, names, parentenv, handlers[[1L]])
 9: tryCatchList(expr, names[-nh], parentenv, handlers[-nh])
10: doTryCatch(return(expr), name, parentenv, handler)
11: tryCatchOne(tryCatchList(expr, names[-nh], parentenv, handlers[-nh]),     names[nh], parentenv, handlers[[nh]])
12: tryCatchList(expr, classes, parentenv, handlers)
13: tryCatch(withCallingHandlers({    eval(code, test_env)    if (!handled && !is.null(test)) {        skip_empty()    }}, expectation = handle_expectation, skip = handle_skip, warning = handle_warning,     message = handle_message, error = handle_error), error = handle_fatal,     skip = function(e) {    })
14: test_code(desc, code, env = parent.frame(), reporter = reporter)
15: test_that("balanced change", {    phyobj_balanced <- balanced_case$phyobj    balanced_truth <- balanced_case$truth    balanced_output <- adapt(input_data = phyobj_balanced, cond.var = "main",         adj.var = c("confounder"))    balanced_results <- summary(balanced_output, "da")    signals <- balanced_results$Taxa    true_signals <- balanced_truth$taxaname[balanced_truth$isDA]    FDR_balanced <- 1 - mean(signals %in% true_signals)    expect_lt(FDR_balanced, 0.05)})
16: eval(code, test_env)
17: eval(code, test_env)
18: withCallingHandlers({    eval(code, test_env)    if (!handled && !is.null(test)) {        skip_empty()    }}, expectation = handle_expectation, skip = handle_skip, warning = handle_warning,     message = handle_message, error = handle_error)
19: doTryCatch(return(expr), name, parentenv, handler)
20: tryCatchOne(expr, names, parentenv, handlers[[1L]])
21: tryCatchList(expr, names[-nh], parentenv, handlers[-nh])
22: doTryCatch(return(expr), name, parentenv, handler)
23: tryCatchOne(tryCatchList(expr, names[-nh], parentenv, handlers[-nh]),     names[nh], parentenv, handlers[[nh]])
24: tryCatchList(expr, classes, parentenv, handlers)
25: tryCatch(withCallingHandlers({    eval(code, test_env)    if (!handled && !is.null(test)) {        skip_empty()    }}, expectation = handle_expectation, skip = handle_skip, warning = handle_warning,     message = handle_message, error = handle_error), error = handle_fatal,     skip = function(e) {    })
26: test_code(test = NULL, code = exprs, env = env, reporter = get_reporter() %||%     StopReporter$new())
27: source_file(path, env = env(env), desc = desc, error_call = error_call)
28: FUN(X[[i]], ...)
29: lapply(test_paths, test_one_file, env = env, desc = desc, error_call = error_call)
30: doTryCatch(return(expr), name, parentenv, handler)
31: tryCatchOne(expr, names, parentenv, handlers[[1L]])
32: tryCatchList(expr, classes, parentenv, handlers)
33: tryCatch(code, testthat_abort_reporter = function(cnd) {    cat(conditionMessage(cnd), "\n")    NULL})
34: with_reporter(reporters$multi, lapply(test_paths, test_one_file,     env = env, desc = desc, error_call = error_call))
35: test_files_serial(test_dir = test_dir, test_package = test_package,     test_paths = test_paths, load_helpers = load_helpers, reporter = reporter,     env = env, stop_on_failure = stop_on_failure, stop_on_warning = stop_on_warning,     desc = desc, load_package = load_package, error_call = error_call)
36: test_files(test_dir = path, test_paths = test_paths, test_package = package,     reporter = reporter, load_helpers = load_helpers, env = env,     stop_on_failure = stop_on_failure, stop_on_warning = stop_on_warning,     load_package = load_package, parallel = parallel)
37: test_dir("testthat", package = package, reporter = reporter,     ..., load_package = "installed")
38: test_check("ADAPT")
An irrecoverable exception occurred. R is aborting now ...

Example timings

ADAPT.Rcheck/ADAPT-Ex.timings

nameusersystemelapsed
adapt1.5241.0150.792
plot-DAresult-ANY-method1.8130.1521.538
summary-DAresult-method0.6050.1250.315