| Back to Multiple platform build/check report for BioC 3.21: simplified long |
|
This page was generated on 2025-10-16 11:41 -0400 (Thu, 16 Oct 2025).
| Hostname | OS | Arch (*) | R version | Installed pkgs |
|---|---|---|---|---|
| nebbiolo1 | Linux (Ubuntu 24.04.3 LTS) | x86_64 | 4.5.1 (2025-06-13) -- "Great Square Root" | 4833 |
| merida1 | macOS 12.7.6 Monterey | x86_64 | 4.5.1 RC (2025-06-05 r88288) -- "Great Square Root" | 4614 |
| kjohnson1 | macOS 13.7.5 Ventura | arm64 | 4.5.1 Patched (2025-06-14 r88325) -- "Great Square Root" | 4555 |
| kunpeng2 | Linux (openEuler 24.03 LTS) | aarch64 | R Under development (unstable) (2025-02-19 r87757) -- "Unsuffered Consequences" | 4586 |
| Click on any hostname to see more info about the system (e.g. compilers) (*) as reported by 'uname -p', except on Windows and Mac OS X | ||||
| Package 11/2341 | Hostname | OS / Arch | INSTALL | BUILD | CHECK | BUILD BIN | ||||||||
| ACE 1.26.0 (landing page) Jos B Poell
| nebbiolo1 | Linux (Ubuntu 24.04.3 LTS) / x86_64 | OK | OK | OK | |||||||||
| merida1 | macOS 12.7.6 Monterey / x86_64 | OK | OK | OK | OK | |||||||||
| kjohnson1 | macOS 13.7.5 Ventura / arm64 | OK | OK | OK | OK | |||||||||
| kunpeng2 | Linux (openEuler 24.03 LTS) / aarch64 | OK | OK | OK | ||||||||||
|
To the developers/maintainers of the ACE package: - Allow up to 24 hours (and sometimes 48 hours) for your latest push to git@git.bioconductor.org:packages/ACE.git to reflect on this report. See Troubleshooting Build Report for more information. - Use the following Renviron settings to reproduce errors and warnings. - If 'R CMD check' started to fail recently on the Linux builder(s) over a missing dependency, add the missing dependency to 'Suggests:' in your DESCRIPTION file. See Renviron.bioc for more information. - See Martin Grigorov's blog post for how to debug Linux ARM64 related issues on a x86_64 host. |
| Package: ACE |
| Version: 1.26.0 |
| Command: /home/biocbuild/R/R/bin/R CMD check --install=check:ACE.install-out.txt --library=/home/biocbuild/R/R/site-library --no-vignettes --timings ACE_1.26.0.tar.gz |
| StartedAt: 2025-10-14 06:02:33 -0000 (Tue, 14 Oct 2025) |
| EndedAt: 2025-10-14 06:06:49 -0000 (Tue, 14 Oct 2025) |
| EllapsedTime: 255.5 seconds |
| RetCode: 0 |
| Status: OK |
| CheckDir: ACE.Rcheck |
| Warnings: 0 |
##############################################################################
##############################################################################
###
### Running command:
###
### /home/biocbuild/R/R/bin/R CMD check --install=check:ACE.install-out.txt --library=/home/biocbuild/R/R/site-library --no-vignettes --timings ACE_1.26.0.tar.gz
###
##############################################################################
##############################################################################
* using log directory ‘/home/biocbuild/bbs-3.21-bioc/meat/ACE.Rcheck’
* using R Under development (unstable) (2025-02-19 r87757)
* using platform: aarch64-unknown-linux-gnu
* R was compiled by
aarch64-unknown-linux-gnu-gcc (GCC) 14.2.0
GNU Fortran (GCC) 14.2.0
* running under: openEuler 24.03 (LTS-SP1)
* using session charset: UTF-8
* using option ‘--no-vignettes’
* checking for file ‘ACE/DESCRIPTION’ ... OK
* this is package ‘ACE’ version ‘1.26.0’
* package encoding: UTF-8
* checking package namespace information ... OK
* checking package dependencies ... OK
* checking if this is a source package ... OK
* checking if there is a namespace ... OK
* checking for hidden files and directories ... OK
* checking for portable file names ... OK
* checking for sufficient/correct file permissions ... OK
* checking whether package ‘ACE’ can be installed ... OK
* checking installed package size ... OK
* checking package directory ... OK
* checking ‘build’ directory ... OK
* checking DESCRIPTION meta-information ... OK
* checking top-level files ... OK
* checking for left-over files ... OK
* checking index information ... OK
* checking package subdirectories ... OK
* checking code files for non-ASCII characters ... OK
* checking R files for syntax errors ... OK
* checking whether the package can be loaded ... OK
* checking whether the package can be loaded with stated dependencies ... OK
* checking whether the package can be unloaded cleanly ... OK
* checking whether the namespace can be loaded with stated dependencies ... OK
* checking whether the namespace can be unloaded cleanly ... OK
* checking loading without being on the library search path ... OK
* checking dependencies in R code ... NOTE
Unexported object imported by a ':::' call: ‘QDNAseq:::sdDiffTrim’
See the note in ?`:::` about the use of this operator.
* checking S3 generic/method consistency ... OK
* checking replacement functions ... OK
* checking foreign function calls ... OK
* checking R code for possible problems ... NOTE
squaremodel: no visible binding for global variable ‘cellularity’
Undefined global functions or variables:
cellularity
* checking Rd files ... OK
* checking Rd metadata ... OK
* checking Rd cross-references ... OK
* checking for missing documentation entries ... OK
* checking for code/documentation mismatches ... OK
* checking Rd \usage sections ... OK
* checking Rd contents ... OK
* checking for unstated dependencies in examples ... OK
* checking contents of ‘data’ directory ... OK
* checking data for non-ASCII characters ... OK
* checking LazyData ... OK
* checking data for ASCII and uncompressed saves ... OK
* checking files in ‘vignettes’ ... OK
* checking examples ... OK
Examples with CPU (user + system) or elapsed time > 5s
user system elapsed
squaremodelsummary 13.874 0.100 15.406
squaremodel 11.544 0.132 12.399
loopsquaremodel 7.830 0.108 8.722
* checking for unstated dependencies in vignettes ... OK
* checking package vignettes ... OK
* checking running R code from vignettes ... SKIPPED
* checking re-building of vignette outputs ... SKIPPED
* checking PDF version of manual ... OK
* DONE
Status: 2 NOTEs
See
‘/home/biocbuild/bbs-3.21-bioc/meat/ACE.Rcheck/00check.log’
for details.
ACE.Rcheck/00install.out
############################################################################## ############################################################################## ### ### Running command: ### ### /home/biocbuild/R/R/bin/R CMD INSTALL ACE ### ############################################################################## ############################################################################## * installing to library ‘/home/biocbuild/R/R-devel_2025-02-19/site-library’ * installing *source* package ‘ACE’ ... ** this is package ‘ACE’ version ‘1.26.0’ ** using staged installation ** R ** data *** moving datasets to lazyload DB ** inst ** byte-compile and prepare package for lazy loading ** help *** installing help indices ** building package indices ** installing vignettes ** testing if installed package can be loaded from temporary location ** testing if installed package can be loaded from final location ** testing if installed package keeps a record of temporary installation path * DONE (ACE)
ACE.Rcheck/ACE-Ex.timings
| name | user | system | elapsed | |
| ACEcall | 2.049 | 0.166 | 2.421 | |
| analyzegenomiclocations | 0.023 | 0.000 | 0.023 | |
| compresstemplate | 0.059 | 0.000 | 0.059 | |
| copyNumbersSegmented | 2.882 | 0.055 | 3.192 | |
| correlationmatrix | 0.259 | 0.004 | 0.299 | |
| forcesegmentsontemplate | 0.833 | 0.027 | 0.961 | |
| getadjustedsegments | 0.458 | 0.000 | 0.461 | |
| linkvariants | 0.026 | 0.000 | 0.027 | |
| loopsquaremodel | 7.830 | 0.108 | 8.722 | |
| objectsampletotemplate | 0.005 | 0.004 | 0.008 | |
| postanalysisloop | 0 | 0 | 0 | |
| runACE | 0 | 0 | 0 | |
| singlemodel | 2.140 | 0.036 | 2.287 | |
| singleplot | 2.824 | 0.015 | 3.180 | |
| squaremodel | 11.544 | 0.132 | 12.399 | |
| squaremodelsummary | 13.874 | 0.100 | 15.406 | |
| templatefromequalsegments | 0.03 | 0.00 | 0.03 | |
| twosamplecompare | 2.909 | 0.036 | 3.448 | |